BEGIN:VCALENDAR
VERSION:2.0
PRODID:-//Cevi Region Basel - ECPv6.15.20//NONSGML v1.0//EN
CALSCALE:GREGORIAN
METHOD:PUBLISH
X-ORIGINAL-URL:https://cevibasel.ch
X-WR-CALDESC:Events for Cevi Region Basel
REFRESH-INTERVAL;VALUE=DURATION:PT1H
X-Robots-Tag:noindex
X-PUBLISHED-TTL:PT1H
BEGIN:VTIMEZONE
TZID:Europe/Zurich
BEGIN:DAYLIGHT
TZOFFSETFROM:+0100
TZOFFSETTO:+0200
TZNAME:CEST
DTSTART:20240331T010000
END:DAYLIGHT
BEGIN:STANDARD
TZOFFSETFROM:+0200
TZOFFSETTO:+0100
TZNAME:CET
DTSTART:20241027T010000
END:STANDARD
BEGIN:DAYLIGHT
TZOFFSETFROM:+0100
TZOFFSETTO:+0200
TZNAME:CEST
DTSTART:20250330T010000
END:DAYLIGHT
BEGIN:STANDARD
TZOFFSETFROM:+0200
TZOFFSETTO:+0100
TZNAME:CET
DTSTART:20251026T010000
END:STANDARD
BEGIN:DAYLIGHT
TZOFFSETFROM:+0100
TZOFFSETTO:+0200
TZNAME:CEST
DTSTART:20260329T010000
END:DAYLIGHT
BEGIN:STANDARD
TZOFFSETFROM:+0200
TZOFFSETTO:+0100
TZNAME:CET
DTSTART:20261025T010000
END:STANDARD
END:VTIMEZONE
BEGIN:VEVENT
DTSTART;TZID=Europe/Zurich:20250912T173000
DTEND;TZID=Europe/Zurich:20250912T190000
DTSTAMP:20260425T230937
CREATED:20240625T134700Z
LAST-MODIFIED:20250912T165251Z
UID:121727-1757698200-1757703600@cevibasel.ch
SUMMARY:Hattrick Riehen (4. bis 5. Klasse)
DESCRIPTION:
URL:https://cevibasel.ch/veranstaltung/hattrick-riehen-4-bis-5-klasse-121/
LOCATION:Andreasmatte
END:VEVENT
BEGIN:VEVENT
DTSTART;TZID=Europe/Zurich:20250912T173000
DTEND;TZID=Europe/Zurich:20250912T190000
DTSTAMP:20260425T230937
CREATED:20240625T134700Z
LAST-MODIFIED:20250912T165251Z
UID:121728-1757698200-1757703600@cevibasel.ch
SUMMARY:Hattrick Basel West (7-15 Jahre)
DESCRIPTION:
URL:https://cevibasel.ch/veranstaltung/hattrick-basel-west-7-15-jahre-121/
END:VEVENT
BEGIN:VEVENT
DTSTART;TZID=Europe/Zurich:20250912T190000
DTEND;TZID=Europe/Zurich:20250912T203000
DTSTAMP:20260425T230937
CREATED:20240625T134700Z
LAST-MODIFIED:20250912T182053Z
UID:121726-1757703600-1757709000@cevibasel.ch
SUMMARY:Hattrick Basel West (16-18 Jahre)
DESCRIPTION:
URL:https://cevibasel.ch/veranstaltung/hattrick-basel-west-16-18-jahre-121/
LOCATION:Fussballfelder Pfaffenholz
END:VEVENT
BEGIN:VEVENT
DTSTART;TZID=Europe/Zurich:20250913T133000
DTEND;TZID=Europe/Zurich:20250913T153000
DTSTAMP:20260425T230937
CREATED:20240625T134703Z
LAST-MODIFIED:20250913T132103Z
UID:121731-1757770200-1757777400@cevibasel.ch
SUMMARY:Hattrick Gundeli (6-11 Jahre)
DESCRIPTION:
URL:https://cevibasel.ch/veranstaltung/hattrick-gundeli-6-11-jahre-121/
LOCATION:Margarethenpark
END:VEVENT
BEGIN:VEVENT
DTSTART;TZID=Europe/Zurich:20250913T140000
DTEND;TZID=Europe/Zurich:20250913T170000
DTSTAMP:20260425T230937
CREATED:20240625T134700Z
LAST-MODIFIED:20250913T145057Z
UID:121729-1757772000-1757782800@cevibasel.ch
SUMMARY:Jungschi Allschwil
DESCRIPTION:
URL:https://cevibasel.ch/veranstaltung/jungschi-allschwil-121/
END:VEVENT
BEGIN:VEVENT
DTSTART;TZID=Europe/Zurich:20250913T140000
DTEND;TZID=Europe/Zurich:20250913T170000
DTSTAMP:20260425T230937
CREATED:20240625T134700Z
LAST-MODIFIED:20250913T145058Z
UID:121730-1757772000-1757782800@cevibasel.ch
SUMMARY:Jungschi Thomas
DESCRIPTION:
URL:https://cevibasel.ch/veranstaltung/jungschi-thomas-121/
END:VEVENT
BEGIN:VEVENT
DTSTART;TZID=Europe/Zurich:20250913T140000
DTEND;TZID=Europe/Zurich:20250913T170000
DTSTAMP:20260425T230937
CREATED:20240625T134703Z
LAST-MODIFIED:20241105T110017Z
UID:121732-1757772000-1757782800@cevibasel.ch
SUMMARY:Jungschi Reinach
DESCRIPTION:
URL:https://cevibasel.ch/veranstaltung/jungschi-reinach-121/
END:VEVENT
BEGIN:VEVENT
DTSTART;TZID=Europe/Zurich:20250913T140000
DTEND;TZID=Europe/Zurich:20250913T170000
DTSTAMP:20260425T230937
CREATED:20240625T134703Z
LAST-MODIFIED:20250913T145057Z
UID:121733-1757772000-1757782800@cevibasel.ch
SUMMARY:Jungschi Ettigen & Therwil
DESCRIPTION:
URL:https://cevibasel.ch/veranstaltung/jungschi-ettigen-therwil-121/
END:VEVENT
BEGIN:VEVENT
DTSTART;TZID=Europe/Zurich:20250913T140000
DTEND;TZID=Europe/Zurich:20250913T170000
DTSTAMP:20260425T230937
CREATED:20240625T134704Z
LAST-MODIFIED:20250913T145057Z
UID:121734-1757772000-1757782800@cevibasel.ch
SUMMARY:Jungschi Bubendorf
DESCRIPTION:
URL:https://cevibasel.ch/veranstaltung/jungschi-bubendorf-121/
END:VEVENT
BEGIN:VEVENT
DTSTART;TZID=Europe/Zurich:20250913T140000
DTEND;TZID=Europe/Zurich:20250913T170000
DTSTAMP:20260425T230937
CREATED:20240625T134704Z
LAST-MODIFIED:20241105T110016Z
UID:121735-1757772000-1757782800@cevibasel.ch
SUMMARY:Jungschi Muttenz
DESCRIPTION:
URL:https://cevibasel.ch/veranstaltung/jungschi-muttenz-121/
END:VEVENT
BEGIN:VEVENT
DTSTART;TZID=Europe/Zurich:20250913T140000
DTEND;TZID=Europe/Zurich:20250913T170000
DTSTAMP:20260425T230937
CREATED:20240625T134707Z
LAST-MODIFIED:20250913T145058Z
UID:121737-1757772000-1757782800@cevibasel.ch
SUMMARY:Jungschi Gotthelf-Neubad
DESCRIPTION:
URL:https://cevibasel.ch/veranstaltung/jungschi-gotthelf-neubad-121/
END:VEVENT
BEGIN:VEVENT
DTSTART;TZID=Europe/Zurich:20250913T140000
DTEND;TZID=Europe/Zurich:20250913T170000
DTSTAMP:20260425T230937
CREATED:20240625T134707Z
LAST-MODIFIED:20250913T145057Z
UID:121738-1757772000-1757782800@cevibasel.ch
SUMMARY:Jungschi Binningen
DESCRIPTION:
URL:https://cevibasel.ch/veranstaltung/jungschi-binningen-121/
END:VEVENT
BEGIN:VEVENT
DTSTART;TZID=Europe/Zurich:20250913T140000
DTEND;TZID=Europe/Zurich:20250913T170000
DTSTAMP:20260425T230937
CREATED:20240625T134707Z
LAST-MODIFIED:20250913T145057Z
UID:121736-1757772000-1757782800@cevibasel.ch
SUMMARY:Jungschi Titus
DESCRIPTION:
URL:https://cevibasel.ch/veranstaltung/jungschi-titus-121/
END:VEVENT
BEGIN:VEVENT
DTSTART;TZID=Europe/Zurich:20250915T190000
DTEND;TZID=Europe/Zurich:20250915T203000
DTSTAMP:20260425T230937
CREATED:20240625T134707Z
LAST-MODIFIED:20250915T182015Z
UID:121739-1757962800-1757968200@cevibasel.ch
SUMMARY:Hattrick Men\, 19.00-20.30
DESCRIPTION:
URL:https://cevibasel.ch/veranstaltung/hattrick-men-19-00-20-30-156/
LOCATION:Fussballfelder Pfaffenholz
END:VEVENT
BEGIN:VEVENT
DTSTART;TZID=Europe/Zurich:20250915T203000
DTEND;TZID=Europe/Zurich:20250915T220000
DTSTAMP:20260425T230937
CREATED:20240625T134707Z
LAST-MODIFIED:20250915T195008Z
UID:121740-1757968200-1757973600@cevibasel.ch
SUMMARY:Hattrick Ladies\, 20.30-22.00
DESCRIPTION:
URL:https://cevibasel.ch/veranstaltung/hattrick-ladies-20-30-22-00-157/
LOCATION:Fussballfelder Pfaffenholz
END:VEVENT
BEGIN:VEVENT
DTSTART;TZID=Europe/Zurich:20250916T173000
DTEND;TZID=Europe/Zurich:20250916T190000
DTSTAMP:20260425T230937
CREATED:20240625T134710Z
LAST-MODIFIED:20250916T164947Z
UID:121741-1758043800-1758049200@cevibasel.ch
SUMMARY:Hattrick Riehen (1. bis 3. Klasse)
DESCRIPTION:
URL:https://cevibasel.ch/veranstaltung/hattrick-riehen-1-bis-3-klasse-122/
LOCATION:Fussballplatz Andreasmatte
END:VEVENT
BEGIN:VEVENT
DTSTART;TZID=Europe/Zurich:20250916T180000
DTEND;TZID=Europe/Zurich:20250916T193000
DTSTAMP:20260425T230937
CREATED:20240625T134710Z
LAST-MODIFIED:20250916T172109Z
UID:121742-1758045600-1758051000@cevibasel.ch
SUMMARY:Hattrick Gellert (7-12 Jahre)
DESCRIPTION:
URL:https://cevibasel.ch/veranstaltung/hattrick-gellert-7-12-jahre-122/
LOCATION:Fussballplatz Luftmatt
END:VEVENT
BEGIN:VEVENT
DTSTART;TZID=Europe/Zurich:20250916T190000
DTEND;TZID=Europe/Zurich:20250916T203000
DTSTAMP:20260425T230937
CREATED:20240625T134711Z
LAST-MODIFIED:20250916T182006Z
UID:121743-1758049200-1758054600@cevibasel.ch
SUMMARY:Hattrick Riehen (6. bis 7. Klasse)
DESCRIPTION:
URL:https://cevibasel.ch/veranstaltung/hattrick-riehen-6-bis-7-klasse-122/
LOCATION:Fussballplatz Andreasmatte
END:VEVENT
BEGIN:VEVENT
DTSTART;TZID=Europe/Zurich:20250917T083000
DTEND;TZID=Europe/Zurich:20250917T110000
DTSTAMP:20260425T230937
CREATED:20240812T101911Z
LAST-MODIFIED:20250917T085017Z
UID:127594-1758097800-1758106800@cevibasel.ch
SUMMARY:Mütterngruppe
DESCRIPTION:
URL:https://cevibasel.ch/veranstaltung/mutterngruppe-252/
LOCATION:Cevi Seki
END:VEVENT
BEGIN:VEVENT
DTSTART;TZID=Europe/Zurich:20250917T183000
DTEND;TZID=Europe/Zurich:20250917T210000
DTSTAMP:20260425T230937
CREATED:20240625T134711Z
LAST-MODIFIED:20250917T185153Z
UID:121744-1758133800-1758142800@cevibasel.ch
SUMMARY:Ten Sing
DESCRIPTION:
URL:https://cevibasel.ch/veranstaltung/ten-sing-121/
LOCATION:CVJM Haus Kleinbasel
END:VEVENT
BEGIN:VEVENT
DTSTART;TZID=Europe/Zurich:20250918T080000
DTEND;TZID=Europe/Zurich:20250918T103000
DTSTAMP:20260425T230937
CREATED:20240625T134711Z
LAST-MODIFIED:20240812T095940Z
UID:121745-1758182400-1758191400@cevibasel.ch
SUMMARY:Mütterngruppe
DESCRIPTION:
URL:https://cevibasel.ch/veranstaltung/muetterngruppe-71/
LOCATION:Cevi Seki
END:VEVENT
BEGIN:VEVENT
DTSTART;TZID=Europe/Zurich:20250919T173000
DTEND;TZID=Europe/Zurich:20250919T190000
DTSTAMP:20260425T230937
CREATED:20240625T134712Z
LAST-MODIFIED:20250919T165025Z
UID:121748-1758303000-1758308400@cevibasel.ch
SUMMARY:Hattrick Riehen (4. bis 5. Klasse)
DESCRIPTION:
URL:https://cevibasel.ch/veranstaltung/hattrick-riehen-4-bis-5-klasse-122/
LOCATION:Andreasmatte
END:VEVENT
BEGIN:VEVENT
DTSTART;TZID=Europe/Zurich:20250919T173000
DTEND;TZID=Europe/Zurich:20250919T190000
DTSTAMP:20260425T230937
CREATED:20240625T134712Z
LAST-MODIFIED:20250919T165025Z
UID:121746-1758303000-1758308400@cevibasel.ch
SUMMARY:Hattrick Basel West (7-15 Jahre)
DESCRIPTION:
URL:https://cevibasel.ch/veranstaltung/hattrick-basel-west-7-15-jahre-122/
END:VEVENT
BEGIN:VEVENT
DTSTART;TZID=Europe/Zurich:20250919T190000
DTEND;TZID=Europe/Zurich:20250919T203000
DTSTAMP:20260425T230937
CREATED:20240625T134712Z
LAST-MODIFIED:20250919T182154Z
UID:121747-1758308400-1758313800@cevibasel.ch
SUMMARY:Hattrick Basel West (16-18 Jahre)
DESCRIPTION:
URL:https://cevibasel.ch/veranstaltung/hattrick-basel-west-16-18-jahre-122/
LOCATION:Fussballfelder Pfaffenholz
END:VEVENT
BEGIN:VEVENT
DTSTART;TZID=Europe/Zurich:20250920T133000
DTEND;TZID=Europe/Zurich:20250920T153000
DTSTAMP:20260425T230937
CREATED:20240625T134716Z
LAST-MODIFIED:20250920T132114Z
UID:121756-1758375000-1758382200@cevibasel.ch
SUMMARY:Hattrick Gundeli (6-11 Jahre)
DESCRIPTION:
URL:https://cevibasel.ch/veranstaltung/hattrick-gundeli-6-11-jahre-122/
LOCATION:Margarethenpark
END:VEVENT
BEGIN:VEVENT
DTSTART;TZID=Europe/Zurich:20250920T140000
DTEND;TZID=Europe/Zurich:20250920T170000
DTSTAMP:20260425T230937
CREATED:20240625T134712Z
LAST-MODIFIED:20250920T145226Z
UID:121749-1758376800-1758387600@cevibasel.ch
SUMMARY:Jungschi Thomas
DESCRIPTION:
URL:https://cevibasel.ch/veranstaltung/jungschi-thomas-122/
END:VEVENT
BEGIN:VEVENT
DTSTART;TZID=Europe/Zurich:20250920T140000
DTEND;TZID=Europe/Zurich:20250920T170000
DTSTAMP:20260425T230937
CREATED:20240625T134712Z
LAST-MODIFIED:20241105T110019Z
UID:121750-1758376800-1758387600@cevibasel.ch
SUMMARY:Jungschi Reinach
DESCRIPTION:
URL:https://cevibasel.ch/veranstaltung/jungschi-reinach-122/
END:VEVENT
BEGIN:VEVENT
DTSTART;TZID=Europe/Zurich:20250920T140000
DTEND;TZID=Europe/Zurich:20250920T170000
DTSTAMP:20260425T230937
CREATED:20240625T134714Z
LAST-MODIFIED:20250920T145122Z
UID:121753-1758376800-1758387600@cevibasel.ch
SUMMARY:Jungschi Allschwil
DESCRIPTION:
URL:https://cevibasel.ch/veranstaltung/jungschi-allschwil-122/
END:VEVENT
BEGIN:VEVENT
DTSTART;TZID=Europe/Zurich:20250920T140000
DTEND;TZID=Europe/Zurich:20250920T170000
DTSTAMP:20260425T230937
CREATED:20240625T134714Z
LAST-MODIFIED:20250920T145122Z
UID:121754-1758376800-1758387600@cevibasel.ch
SUMMARY:Jungschi Ettigen & Therwil
DESCRIPTION:
URL:https://cevibasel.ch/veranstaltung/jungschi-ettigen-therwil-122/
END:VEVENT
BEGIN:VEVENT
DTSTART;TZID=Europe/Zurich:20250920T140000
DTEND;TZID=Europe/Zurich:20250920T170000
DTSTAMP:20260425T230937
CREATED:20240625T134714Z
LAST-MODIFIED:20250920T145122Z
UID:121751-1758376800-1758387600@cevibasel.ch
SUMMARY:Jungschi Gotthelf-Neubad
DESCRIPTION:
URL:https://cevibasel.ch/veranstaltung/jungschi-gotthelf-neubad-122/
END:VEVENT
END:VCALENDAR