BEGIN:VCALENDAR
VERSION:2.0
PRODID:-//Cevi Region Basel - ECPv6.15.20//NONSGML v1.0//EN
CALSCALE:GREGORIAN
METHOD:PUBLISH
X-ORIGINAL-URL:https://cevibasel.ch
X-WR-CALDESC:Events for Cevi Region Basel
REFRESH-INTERVAL;VALUE=DURATION:PT1H
X-Robots-Tag:noindex
X-PUBLISHED-TTL:PT1H
BEGIN:VTIMEZONE
TZID:Europe/Zurich
BEGIN:DAYLIGHT
TZOFFSETFROM:+0100
TZOFFSETTO:+0200
TZNAME:CEST
DTSTART:20250330T010000
END:DAYLIGHT
BEGIN:STANDARD
TZOFFSETFROM:+0200
TZOFFSETTO:+0100
TZNAME:CET
DTSTART:20251026T010000
END:STANDARD
BEGIN:DAYLIGHT
TZOFFSETFROM:+0100
TZOFFSETTO:+0200
TZNAME:CEST
DTSTART:20260329T010000
END:DAYLIGHT
BEGIN:STANDARD
TZOFFSETFROM:+0200
TZOFFSETTO:+0100
TZNAME:CET
DTSTART:20261025T010000
END:STANDARD
BEGIN:DAYLIGHT
TZOFFSETFROM:+0100
TZOFFSETTO:+0200
TZNAME:CEST
DTSTART:20270328T010000
END:DAYLIGHT
BEGIN:STANDARD
TZOFFSETFROM:+0200
TZOFFSETTO:+0100
TZNAME:CET
DTSTART:20271031T010000
END:STANDARD
END:VTIMEZONE
BEGIN:VEVENT
DTSTART;TZID=Europe/Zurich:20260318T083000
DTEND;TZID=Europe/Zurich:20260318T110000
DTSTAMP:20260423T120244
CREATED:20240813T013414Z
LAST-MODIFIED:20260206T032326Z
UID:128074-1773822600-1773831600@cevibasel.ch
SUMMARY:Mütterngruppe
DESCRIPTION:
URL:https://cevibasel.ch/veranstaltung/mutterngruppe-382/
LOCATION:Cevi Seki
END:VEVENT
BEGIN:VEVENT
DTSTART;TZID=Europe/Zurich:20260318T183000
DTEND;TZID=Europe/Zurich:20260318T210000
DTSTAMP:20260423T120244
CREATED:20240625T193435Z
LAST-MODIFIED:20260206T032326Z
UID:123333-1773858600-1773867600@cevibasel.ch
SUMMARY:Ten Sing
DESCRIPTION:
URL:https://cevibasel.ch/veranstaltung/ten-sing-147/
LOCATION:CVJM Haus Kleinbasel
END:VEVENT
BEGIN:VEVENT
DTSTART;TZID=Europe/Zurich:20260319T080000
DTEND;TZID=Europe/Zurich:20260319T103000
DTSTAMP:20260423T120244
CREATED:20240625T193435Z
LAST-MODIFIED:20240812T083402Z
UID:123334-1773907200-1773916200@cevibasel.ch
SUMMARY:Mütterngruppe
DESCRIPTION:
URL:https://cevibasel.ch/veranstaltung/muetterngruppe-84/
LOCATION:Cevi Seki
END:VEVENT
BEGIN:VEVENT
DTSTART;TZID=Europe/Zurich:20260320T173000
DTEND;TZID=Europe/Zurich:20260320T190000
DTSTAMP:20260423T120244
CREATED:20240625T193436Z
LAST-MODIFIED:20260206T032328Z
UID:123335-1774027800-1774033200@cevibasel.ch
SUMMARY:Hattrick Riehen (4. bis 5. Klasse)
DESCRIPTION:
URL:https://cevibasel.ch/veranstaltung/hattrick-riehen-4-bis-5-klasse-148/
LOCATION:Andreasmatte
END:VEVENT
BEGIN:VEVENT
DTSTART;TZID=Europe/Zurich:20260320T173000
DTEND;TZID=Europe/Zurich:20260320T190000
DTSTAMP:20260423T120244
CREATED:20240625T193439Z
LAST-MODIFIED:20260206T032328Z
UID:123337-1774027800-1774033200@cevibasel.ch
SUMMARY:Hattrick Basel West (7-15 Jahre)
DESCRIPTION:
URL:https://cevibasel.ch/veranstaltung/hattrick-basel-west-7-15-jahre-148/
END:VEVENT
BEGIN:VEVENT
DTSTART;TZID=Europe/Zurich:20260320T190000
DTEND;TZID=Europe/Zurich:20260320T203000
DTSTAMP:20260423T120244
CREATED:20240625T193439Z
LAST-MODIFIED:20260206T032328Z
UID:123336-1774033200-1774038600@cevibasel.ch
SUMMARY:Hattrick Basel West (16-18 Jahre)
DESCRIPTION:
URL:https://cevibasel.ch/veranstaltung/hattrick-basel-west-16-18-jahre-148/
LOCATION:Fussballfelder Pfaffenholz
END:VEVENT
BEGIN:VEVENT
DTSTART;TZID=Europe/Zurich:20260320T190000
DTEND;TZID=Europe/Zurich:20260320T230000
DTSTAMP:20260423T120244
CREATED:20250521T070230Z
LAST-MODIFIED:20260206T032326Z
UID:157797-1774033200-1774047600@cevibasel.ch
SUMMARY:Delegiertenversammlung
DESCRIPTION:
URL:https://cevibasel.ch/veranstaltung/delegiertenversammlung/
LOCATION:Claragraben 123\nBasel\, Schweiz
END:VEVENT
BEGIN:VEVENT
DTSTART;VALUE=DATE:20260321
DTEND;VALUE=DATE:20260322
DTSTAMP:20260423T120244
CREATED:20251119T150357Z
LAST-MODIFIED:20260206T032328Z
UID:169881-1774051200-1774137599@cevibasel.ch
SUMMARY:Jungschar Angebote
DESCRIPTION:
URL:https://cevibasel.ch/veranstaltung/jungscharangebote-12/
END:VEVENT
BEGIN:VEVENT
DTSTART;TZID=Europe/Zurich:20260321T133000
DTEND;TZID=Europe/Zurich:20260321T153000
DTSTAMP:20260423T120244
CREATED:20240625T193441Z
LAST-MODIFIED:20251120T120616Z
UID:123343-1774099800-1774107000@cevibasel.ch
SUMMARY:Hattrick Gundeli (6-11 Jahre)
DESCRIPTION:
URL:https://cevibasel.ch/veranstaltung/hattrick-gundeli-6-11-jahre-148/
LOCATION:Margarethenpark
END:VEVENT
BEGIN:VEVENT
DTSTART;TZID=Europe/Zurich:20260321T140000
DTEND;TZID=Europe/Zurich:20260321T170000
DTSTAMP:20260423T120244
CREATED:20240625T193439Z
LAST-MODIFIED:20251119T041413Z
UID:123338-1774101600-1774112400@cevibasel.ch
SUMMARY:Jungschi Binningen
DESCRIPTION:
URL:https://cevibasel.ch/veranstaltung/jungschi-binningen-148/
END:VEVENT
BEGIN:VEVENT
DTSTART;TZID=Europe/Zurich:20260321T140000
DTEND;TZID=Europe/Zurich:20260321T170000
DTSTAMP:20260423T120244
CREATED:20240625T193439Z
LAST-MODIFIED:20251119T041414Z
UID:123339-1774101600-1774112400@cevibasel.ch
SUMMARY:Jungschi Bubendorf
DESCRIPTION:
URL:https://cevibasel.ch/veranstaltung/jungschi-bubendorf-148/
END:VEVENT
BEGIN:VEVENT
DTSTART;TZID=Europe/Zurich:20260321T140000
DTEND;TZID=Europe/Zurich:20260321T170000
DTSTAMP:20260423T120244
CREATED:20240625T193439Z
LAST-MODIFIED:20251119T041413Z
UID:123340-1774101600-1774112400@cevibasel.ch
SUMMARY:Jungschi Gotthelf-Neubad
DESCRIPTION:
URL:https://cevibasel.ch/veranstaltung/jungschi-gotthelf-neubad-148/
END:VEVENT
BEGIN:VEVENT
DTSTART;TZID=Europe/Zurich:20260321T140000
DTEND;TZID=Europe/Zurich:20260321T170000
DTSTAMP:20260423T120244
CREATED:20240625T193441Z
LAST-MODIFIED:20241105T110207Z
UID:123344-1774101600-1774112400@cevibasel.ch
SUMMARY:Jungschi Muttenz
DESCRIPTION:
URL:https://cevibasel.ch/veranstaltung/jungschi-muttenz-148/
END:VEVENT
BEGIN:VEVENT
DTSTART;TZID=Europe/Zurich:20260321T140000
DTEND;TZID=Europe/Zurich:20260321T170000
DTSTAMP:20260423T120244
CREATED:20240625T193441Z
LAST-MODIFIED:20251119T041413Z
UID:123345-1774101600-1774112400@cevibasel.ch
SUMMARY:Jungschi Ettigen & Therwil
DESCRIPTION:
URL:https://cevibasel.ch/veranstaltung/jungschi-ettigen-therwil-148/
END:VEVENT
BEGIN:VEVENT
DTSTART;TZID=Europe/Zurich:20260321T140000
DTEND;TZID=Europe/Zurich:20260321T170000
DTSTAMP:20260423T120244
CREATED:20240625T193441Z
LAST-MODIFIED:20251119T041414Z
UID:123341-1774101600-1774112400@cevibasel.ch
SUMMARY:Jungschi Allschwil
DESCRIPTION:
URL:https://cevibasel.ch/veranstaltung/jungschi-allschwil-148/
END:VEVENT
BEGIN:VEVENT
DTSTART;TZID=Europe/Zurich:20260321T140000
DTEND;TZID=Europe/Zurich:20260321T170000
DTSTAMP:20260423T120244
CREATED:20240625T193441Z
LAST-MODIFIED:20251119T041414Z
UID:123342-1774101600-1774112400@cevibasel.ch
SUMMARY:Jungschi Thomas
DESCRIPTION:
URL:https://cevibasel.ch/veranstaltung/jungschi-thomas-148/
END:VEVENT
BEGIN:VEVENT
DTSTART;TZID=Europe/Zurich:20260321T140000
DTEND;TZID=Europe/Zurich:20260321T170000
DTSTAMP:20260423T120244
CREATED:20240625T224819Z
LAST-MODIFIED:20251119T041414Z
UID:123363-1774101600-1774112400@cevibasel.ch
SUMMARY:Jungschi Titus
DESCRIPTION:
URL:https://cevibasel.ch/veranstaltung/jungschi-titus-148/
END:VEVENT
BEGIN:VEVENT
DTSTART;TZID=Europe/Zurich:20260321T140000
DTEND;TZID=Europe/Zurich:20260321T170000
DTSTAMP:20260423T120244
CREATED:20240625T224819Z
LAST-MODIFIED:20241105T110205Z
UID:123364-1774101600-1774112400@cevibasel.ch
SUMMARY:Jungschi Reinach
DESCRIPTION:
URL:https://cevibasel.ch/veranstaltung/jungschi-reinach-148/
END:VEVENT
BEGIN:VEVENT
DTSTART;TZID=Europe/Zurich:20260321T150000
DTEND;TZID=Europe/Zurich:20260321T200000
DTSTAMP:20260423T120244
CREATED:20251118T101448Z
LAST-MODIFIED:20260206T032328Z
UID:169837-1774105200-1774123200@cevibasel.ch
SUMMARY:Hattrick Day
DESCRIPTION:
URL:https://cevibasel.ch/veranstaltung/hattrick-day-7/
END:VEVENT
BEGIN:VEVENT
DTSTART;TZID=Europe/Zurich:20260323T190000
DTEND;TZID=Europe/Zurich:20260323T203000
DTSTAMP:20260423T120244
CREATED:20240625T224819Z
LAST-MODIFIED:20260206T032406Z
UID:123366-1774292400-1774297800@cevibasel.ch
SUMMARY:Hattrick Men\, 19.00-20.30
DESCRIPTION:
URL:https://cevibasel.ch/veranstaltung/hattrick-men-19-00-20-30-183/
LOCATION:Fussballfelder Pfaffenholz
END:VEVENT
BEGIN:VEVENT
DTSTART;TZID=Europe/Zurich:20260323T203000
DTEND;TZID=Europe/Zurich:20260323T220000
DTSTAMP:20260423T120244
CREATED:20240625T224819Z
LAST-MODIFIED:20260206T032406Z
UID:123365-1774297800-1774303200@cevibasel.ch
SUMMARY:Hattrick Ladies\, 20.30-22.00
DESCRIPTION:
URL:https://cevibasel.ch/veranstaltung/hattrick-ladies-20-30-22-00-184/
LOCATION:Fussballfelder Pfaffenholz
END:VEVENT
BEGIN:VEVENT
DTSTART;TZID=Europe/Zurich:20260324T173000
DTEND;TZID=Europe/Zurich:20260324T190000
DTSTAMP:20260423T120244
CREATED:20240625T224820Z
LAST-MODIFIED:20260206T032406Z
UID:123367-1774373400-1774378800@cevibasel.ch
SUMMARY:Hattrick Riehen (1. bis 3. Klasse)
DESCRIPTION:
URL:https://cevibasel.ch/veranstaltung/hattrick-riehen-1-bis-3-klasse-149/
LOCATION:Fussballplatz Andreasmatte
END:VEVENT
BEGIN:VEVENT
DTSTART;TZID=Europe/Zurich:20260324T180000
DTEND;TZID=Europe/Zurich:20260324T193000
DTSTAMP:20260423T120244
CREATED:20240625T224821Z
LAST-MODIFIED:20260206T032406Z
UID:123368-1774375200-1774380600@cevibasel.ch
SUMMARY:Hattrick Gellert (7-12 Jahre)
DESCRIPTION:
URL:https://cevibasel.ch/veranstaltung/hattrick-gellert-7-12-jahre-149/
LOCATION:Fussballplatz Luftmatt
END:VEVENT
BEGIN:VEVENT
DTSTART;TZID=Europe/Zurich:20260324T190000
DTEND;TZID=Europe/Zurich:20260324T203000
DTSTAMP:20260423T120244
CREATED:20240625T224821Z
LAST-MODIFIED:20260206T032406Z
UID:123369-1774378800-1774384200@cevibasel.ch
SUMMARY:Hattrick Riehen (6. bis 7. Klasse)
DESCRIPTION:
URL:https://cevibasel.ch/veranstaltung/hattrick-riehen-6-bis-7-klasse-149/
LOCATION:Fussballplatz Andreasmatte
END:VEVENT
BEGIN:VEVENT
DTSTART;TZID=Europe/Zurich:20260325T183000
DTEND;TZID=Europe/Zurich:20260325T210000
DTSTAMP:20260423T120244
CREATED:20240625T224821Z
LAST-MODIFIED:20260206T032407Z
UID:123370-1774463400-1774472400@cevibasel.ch
SUMMARY:Ten Sing
DESCRIPTION:
URL:https://cevibasel.ch/veranstaltung/ten-sing-148/
LOCATION:CVJM Haus Kleinbasel
END:VEVENT
BEGIN:VEVENT
DTSTART;TZID=Europe/Zurich:20260326T083000
DTEND;TZID=Europe/Zurich:20260326T113000
DTSTAMP:20260423T120244
CREATED:20240813T013421Z
LAST-MODIFIED:20241215T143329Z
UID:128075-1774513800-1774524600@cevibasel.ch
SUMMARY:Mütterngruppe
DESCRIPTION:
URL:https://cevibasel.ch/veranstaltung/mutterngruppe-383/
LOCATION:Cevi Seki
END:VEVENT
BEGIN:VEVENT
DTSTART;TZID=Europe/Zurich:20260326T083000
DTEND;TZID=Europe/Zurich:20260326T113000
DTSTAMP:20260423T120244
CREATED:20240813T013422Z
LAST-MODIFIED:20241215T143326Z
UID:128080-1774513800-1774524600@cevibasel.ch
SUMMARY:Mütterngruppe
DESCRIPTION:
URL:https://cevibasel.ch/veranstaltung/mutterngruppe-388/
LOCATION:Cevi Seki
END:VEVENT
BEGIN:VEVENT
DTSTART;TZID=Europe/Zurich:20260326T083000
DTEND;TZID=Europe/Zurich:20260326T113000
DTSTAMP:20260423T120244
CREATED:20240813T013422Z
LAST-MODIFIED:20260206T032407Z
UID:128076-1774513800-1774524600@cevibasel.ch
SUMMARY:Mütterngruppe
DESCRIPTION:
URL:https://cevibasel.ch/veranstaltung/mutterngruppe-384/
LOCATION:Cevi Seki
END:VEVENT
BEGIN:VEVENT
DTSTART;TZID=Europe/Zurich:20260326T083000
DTEND;TZID=Europe/Zurich:20260326T113000
DTSTAMP:20260423T120244
CREATED:20240813T013422Z
LAST-MODIFIED:20241215T143326Z
UID:128077-1774513800-1774524600@cevibasel.ch
SUMMARY:Mütterngruppe
DESCRIPTION:
URL:https://cevibasel.ch/veranstaltung/mutterngruppe-385/
LOCATION:Cevi Seki
END:VEVENT
BEGIN:VEVENT
DTSTART;TZID=Europe/Zurich:20260326T083000
DTEND;TZID=Europe/Zurich:20260326T113000
DTSTAMP:20260423T120244
CREATED:20240813T013422Z
LAST-MODIFIED:20241215T143329Z
UID:128078-1774513800-1774524600@cevibasel.ch
SUMMARY:Mütterngruppe
DESCRIPTION:
URL:https://cevibasel.ch/veranstaltung/mutterngruppe-386/
LOCATION:Cevi Seki
END:VEVENT
END:VCALENDAR