BEGIN:VCALENDAR
VERSION:2.0
PRODID:-//Cevi Region Basel - ECPv6.15.20//NONSGML v1.0//EN
CALSCALE:GREGORIAN
METHOD:PUBLISH
X-ORIGINAL-URL:https://cevibasel.ch
X-WR-CALDESC:Events for Cevi Region Basel
REFRESH-INTERVAL;VALUE=DURATION:PT1H
X-Robots-Tag:noindex
X-PUBLISHED-TTL:PT1H
BEGIN:VTIMEZONE
TZID:Europe/Zurich
BEGIN:DAYLIGHT
TZOFFSETFROM:+0100
TZOFFSETTO:+0200
TZNAME:CEST
DTSTART:20250330T010000
END:DAYLIGHT
BEGIN:STANDARD
TZOFFSETFROM:+0200
TZOFFSETTO:+0100
TZNAME:CET
DTSTART:20251026T010000
END:STANDARD
BEGIN:DAYLIGHT
TZOFFSETFROM:+0100
TZOFFSETTO:+0200
TZNAME:CEST
DTSTART:20260329T010000
END:DAYLIGHT
BEGIN:STANDARD
TZOFFSETFROM:+0200
TZOFFSETTO:+0100
TZNAME:CET
DTSTART:20261025T010000
END:STANDARD
BEGIN:DAYLIGHT
TZOFFSETFROM:+0100
TZOFFSETTO:+0200
TZNAME:CEST
DTSTART:20270328T010000
END:DAYLIGHT
BEGIN:STANDARD
TZOFFSETFROM:+0200
TZOFFSETTO:+0100
TZNAME:CET
DTSTART:20271031T010000
END:STANDARD
END:VTIMEZONE
BEGIN:VEVENT
DTSTART;TZID=Europe/Zurich:20260528T080000
DTEND;TZID=Europe/Zurich:20260528T103000
DTSTAMP:20260423T062114
CREATED:20240626T011857Z
LAST-MODIFIED:20240812T004926Z
UID:123706-1779955200-1779964200@cevibasel.ch
SUMMARY:Mütterngruppe
DESCRIPTION:
URL:https://cevibasel.ch/veranstaltung/muetterngruppe-89/
LOCATION:Cevi Seki
END:VEVENT
BEGIN:VEVENT
DTSTART;TZID=Europe/Zurich:20260529T173000
DTEND;TZID=Europe/Zurich:20260529T190000
DTSTAMP:20260423T062114
CREATED:20240626T011857Z
LAST-MODIFIED:20260206T033055Z
UID:123707-1780075800-1780081200@cevibasel.ch
SUMMARY:Hattrick Basel West (7-15 Jahre)
DESCRIPTION:
URL:https://cevibasel.ch/veranstaltung/hattrick-basel-west-7-15-jahre-158/
END:VEVENT
BEGIN:VEVENT
DTSTART;TZID=Europe/Zurich:20260529T173000
DTEND;TZID=Europe/Zurich:20260529T190000
DTSTAMP:20260423T062114
CREATED:20240626T011858Z
LAST-MODIFIED:20260206T033055Z
UID:123708-1780075800-1780081200@cevibasel.ch
SUMMARY:Hattrick Riehen (4. bis 5. Klasse)
DESCRIPTION:
URL:https://cevibasel.ch/veranstaltung/hattrick-riehen-4-bis-5-klasse-158/
LOCATION:Andreasmatte
END:VEVENT
BEGIN:VEVENT
DTSTART;TZID=Europe/Zurich:20260529T190000
DTEND;TZID=Europe/Zurich:20260529T203000
DTSTAMP:20260423T062114
CREATED:20240626T011858Z
LAST-MODIFIED:20260206T033055Z
UID:123709-1780081200-1780086600@cevibasel.ch
SUMMARY:Hattrick Basel West (16-18 Jahre)
DESCRIPTION:
URL:https://cevibasel.ch/veranstaltung/hattrick-basel-west-16-18-jahre-158/
LOCATION:Fussballfelder Pfaffenholz
END:VEVENT
BEGIN:VEVENT
DTSTART;VALUE=DATE:20260530
DTEND;VALUE=DATE:20260531
DTSTAMP:20260423T062114
CREATED:20251120T030102Z
LAST-MODIFIED:20260206T033126Z
UID:169900-1780099200-1780185599@cevibasel.ch
SUMMARY:Jungschar Angebote
DESCRIPTION:
URL:https://cevibasel.ch/veranstaltung/jungscharangebote-22/
END:VEVENT
BEGIN:VEVENT
DTSTART;TZID=Europe/Zurich:20260530T133000
DTEND;TZID=Europe/Zurich:20260530T153000
DTSTAMP:20260423T062114
CREATED:20240626T011903Z
LAST-MODIFIED:20251120T120647Z
UID:123715-1780147800-1780155000@cevibasel.ch
SUMMARY:Hattrick Gundeli (6-11 Jahre)
DESCRIPTION:
URL:https://cevibasel.ch/veranstaltung/hattrick-gundeli-6-11-jahre-158/
LOCATION:Margarethenpark
END:VEVENT
BEGIN:VEVENT
DTSTART;TZID=Europe/Zurich:20260530T140000
DTEND;TZID=Europe/Zurich:20260530T170000
DTSTAMP:20260423T062114
CREATED:20240626T011859Z
LAST-MODIFIED:20241105T110338Z
UID:123711-1780149600-1780160400@cevibasel.ch
SUMMARY:Jungschi Muttenz
DESCRIPTION:
URL:https://cevibasel.ch/veranstaltung/jungschi-muttenz-158/
END:VEVENT
BEGIN:VEVENT
DTSTART;TZID=Europe/Zurich:20260530T140000
DTEND;TZID=Europe/Zurich:20260530T170000
DTSTAMP:20260423T062114
CREATED:20240626T011859Z
LAST-MODIFIED:20251117T162039Z
UID:123712-1780149600-1780160400@cevibasel.ch
SUMMARY:Jungschi Ettigen & Therwil
DESCRIPTION:
URL:https://cevibasel.ch/veranstaltung/jungschi-ettigen-therwil-158/
END:VEVENT
BEGIN:VEVENT
DTSTART;TZID=Europe/Zurich:20260530T140000
DTEND;TZID=Europe/Zurich:20260530T170000
DTSTAMP:20260423T062114
CREATED:20240626T011859Z
LAST-MODIFIED:20251117T101035Z
UID:123710-1780149600-1780160400@cevibasel.ch
SUMMARY:Jungschi Gotthelf-Neubad
DESCRIPTION:
URL:https://cevibasel.ch/veranstaltung/jungschi-gotthelf-neubad-158/
END:VEVENT
BEGIN:VEVENT
DTSTART;TZID=Europe/Zurich:20260530T140000
DTEND;TZID=Europe/Zurich:20260530T170000
DTSTAMP:20260423T062114
CREATED:20240626T011902Z
LAST-MODIFIED:20241105T110339Z
UID:123713-1780149600-1780160400@cevibasel.ch
SUMMARY:Jungschi Reinach
DESCRIPTION:
URL:https://cevibasel.ch/veranstaltung/jungschi-reinach-158/
END:VEVENT
BEGIN:VEVENT
DTSTART;TZID=Europe/Zurich:20260530T140000
DTEND;TZID=Europe/Zurich:20260530T170000
DTSTAMP:20260423T062114
CREATED:20240626T011902Z
LAST-MODIFIED:20251117T162039Z
UID:123714-1780149600-1780160400@cevibasel.ch
SUMMARY:Jungschi Titus
DESCRIPTION:
URL:https://cevibasel.ch/veranstaltung/jungschi-titus-158/
END:VEVENT
BEGIN:VEVENT
DTSTART;TZID=Europe/Zurich:20260530T140000
DTEND;TZID=Europe/Zurich:20260530T170000
DTSTAMP:20260423T062114
CREATED:20240626T011903Z
LAST-MODIFIED:20251117T162039Z
UID:123717-1780149600-1780160400@cevibasel.ch
SUMMARY:Jungschi Binningen
DESCRIPTION:
URL:https://cevibasel.ch/veranstaltung/jungschi-binningen-158/
END:VEVENT
BEGIN:VEVENT
DTSTART;TZID=Europe/Zurich:20260530T140000
DTEND;TZID=Europe/Zurich:20260530T170000
DTSTAMP:20260423T062114
CREATED:20240626T011903Z
LAST-MODIFIED:20251117T101033Z
UID:123716-1780149600-1780160400@cevibasel.ch
SUMMARY:Jungschi Bubendorf
DESCRIPTION:
URL:https://cevibasel.ch/veranstaltung/jungschi-bubendorf-158/
END:VEVENT
BEGIN:VEVENT
DTSTART;TZID=Europe/Zurich:20260530T140000
DTEND;TZID=Europe/Zurich:20260530T170000
DTSTAMP:20260423T062114
CREATED:20240626T011904Z
LAST-MODIFIED:20251117T101035Z
UID:123718-1780149600-1780160400@cevibasel.ch
SUMMARY:Jungschi Allschwil
DESCRIPTION:
URL:https://cevibasel.ch/veranstaltung/jungschi-allschwil-158/
END:VEVENT
BEGIN:VEVENT
DTSTART;TZID=Europe/Zurich:20260530T140000
DTEND;TZID=Europe/Zurich:20260530T170000
DTSTAMP:20260423T062114
CREATED:20240626T011904Z
LAST-MODIFIED:20251117T162039Z
UID:123719-1780149600-1780160400@cevibasel.ch
SUMMARY:Jungschi Thomas
DESCRIPTION:
URL:https://cevibasel.ch/veranstaltung/jungschi-thomas-158/
END:VEVENT
BEGIN:VEVENT
DTSTART;TZID=Europe/Zurich:20260530T183000
DTEND;TZID=Europe/Zurich:20260530T220000
DTSTAMP:20260423T062114
CREATED:20251204T110625Z
LAST-MODIFIED:20260206T033125Z
UID:170275-1780165800-1780178400@cevibasel.ch
SUMMARY:Faith Hub
DESCRIPTION:
URL:https://cevibasel.ch/veranstaltung/faith-hub-3/
END:VEVENT
BEGIN:VEVENT
DTSTART;TZID=Europe/Zurich:20260601T190000
DTEND;TZID=Europe/Zurich:20260601T203000
DTSTAMP:20260423T062114
CREATED:20240626T011905Z
LAST-MODIFIED:20260206T033126Z
UID:123721-1780340400-1780345800@cevibasel.ch
SUMMARY:Hattrick Men\, 19.00-20.30
DESCRIPTION:
URL:https://cevibasel.ch/veranstaltung/hattrick-men-19-00-20-30-193/
LOCATION:Fussballfelder Pfaffenholz
END:VEVENT
BEGIN:VEVENT
DTSTART;TZID=Europe/Zurich:20260601T203000
DTEND;TZID=Europe/Zurich:20260601T220000
DTSTAMP:20260423T062114
CREATED:20240626T011905Z
LAST-MODIFIED:20260206T033126Z
UID:123720-1780345800-1780351200@cevibasel.ch
SUMMARY:Hattrick Ladies\, 20.30-22.00
DESCRIPTION:
URL:https://cevibasel.ch/veranstaltung/hattrick-ladies-20-30-22-00-194/
LOCATION:Fussballfelder Pfaffenholz
END:VEVENT
BEGIN:VEVENT
DTSTART;TZID=Europe/Zurich:20260602T173000
DTEND;TZID=Europe/Zurich:20260602T190000
DTSTAMP:20260423T062114
CREATED:20240626T011905Z
LAST-MODIFIED:20260206T033126Z
UID:123722-1780421400-1780426800@cevibasel.ch
SUMMARY:Hattrick Riehen (1. bis 3. Klasse)
DESCRIPTION:
URL:https://cevibasel.ch/veranstaltung/hattrick-riehen-1-bis-3-klasse-159/
LOCATION:Fussballplatz Andreasmatte
END:VEVENT
BEGIN:VEVENT
DTSTART;TZID=Europe/Zurich:20260602T180000
DTEND;TZID=Europe/Zurich:20260602T193000
DTSTAMP:20260423T062114
CREATED:20240626T011907Z
LAST-MODIFIED:20260206T033131Z
UID:123724-1780423200-1780428600@cevibasel.ch
SUMMARY:Hattrick Gellert (7-12 Jahre)
DESCRIPTION:
URL:https://cevibasel.ch/veranstaltung/hattrick-gellert-7-12-jahre-159/
LOCATION:Fussballplatz Luftmatt
END:VEVENT
BEGIN:VEVENT
DTSTART;TZID=Europe/Zurich:20260602T190000
DTEND;TZID=Europe/Zurich:20260602T203000
DTSTAMP:20260423T062114
CREATED:20240626T011907Z
LAST-MODIFIED:20260206T033131Z
UID:123723-1780426800-1780432200@cevibasel.ch
SUMMARY:Hattrick Riehen (6. bis 7. Klasse)
DESCRIPTION:
URL:https://cevibasel.ch/veranstaltung/hattrick-riehen-6-bis-7-klasse-159/
LOCATION:Fussballplatz Andreasmatte
END:VEVENT
BEGIN:VEVENT
DTSTART;TZID=Europe/Zurich:20260603T183000
DTEND;TZID=Europe/Zurich:20260603T210000
DTSTAMP:20260423T062114
CREATED:20240626T011907Z
LAST-MODIFIED:20260206T033131Z
UID:123725-1780511400-1780520400@cevibasel.ch
SUMMARY:Ten Sing
DESCRIPTION:
URL:https://cevibasel.ch/veranstaltung/ten-sing-158/
LOCATION:CVJM Haus Kleinbasel
END:VEVENT
BEGIN:VEVENT
DTSTART;TZID=Europe/Zurich:20260604T083000
DTEND;TZID=Europe/Zurich:20260604T113000
DTSTAMP:20260423T062114
CREATED:20240813T014937Z
LAST-MODIFIED:20241215T123431Z
UID:128168-1780561800-1780572600@cevibasel.ch
SUMMARY:Mütterngruppe
DESCRIPTION:
URL:https://cevibasel.ch/veranstaltung/mutterngruppe-433/
LOCATION:Cevi Seki
END:VEVENT
BEGIN:VEVENT
DTSTART;TZID=Europe/Zurich:20260604T083000
DTEND;TZID=Europe/Zurich:20260604T113000
DTSTAMP:20260423T062114
CREATED:20240813T014938Z
LAST-MODIFIED:20260206T033131Z
UID:128173-1780561800-1780572600@cevibasel.ch
SUMMARY:Mütterngruppe
DESCRIPTION:
URL:https://cevibasel.ch/veranstaltung/mutterngruppe-438/
LOCATION:Cevi Seki
END:VEVENT
BEGIN:VEVENT
DTSTART;TZID=Europe/Zurich:20260604T083000
DTEND;TZID=Europe/Zurich:20260604T113000
DTSTAMP:20260423T062114
CREATED:20240813T014938Z
LAST-MODIFIED:20241215T123431Z
UID:128169-1780561800-1780572600@cevibasel.ch
SUMMARY:Mütterngruppe
DESCRIPTION:
URL:https://cevibasel.ch/veranstaltung/mutterngruppe-434/
LOCATION:Cevi Seki
END:VEVENT
BEGIN:VEVENT
DTSTART;TZID=Europe/Zurich:20260604T083000
DTEND;TZID=Europe/Zurich:20260604T113000
DTSTAMP:20260423T062114
CREATED:20240813T014938Z
LAST-MODIFIED:20241215T123435Z
UID:128170-1780561800-1780572600@cevibasel.ch
SUMMARY:Mütterngruppe
DESCRIPTION:
URL:https://cevibasel.ch/veranstaltung/mutterngruppe-435/
LOCATION:Cevi Seki
END:VEVENT
BEGIN:VEVENT
DTSTART;TZID=Europe/Zurich:20260604T083000
DTEND;TZID=Europe/Zurich:20260604T113000
DTSTAMP:20260423T062114
CREATED:20240813T014938Z
LAST-MODIFIED:20241215T123431Z
UID:128171-1780561800-1780572600@cevibasel.ch
SUMMARY:Mütterngruppe
DESCRIPTION:
URL:https://cevibasel.ch/veranstaltung/mutterngruppe-436/
LOCATION:Cevi Seki
END:VEVENT
BEGIN:VEVENT
DTSTART;TZID=Europe/Zurich:20260604T083000
DTEND;TZID=Europe/Zurich:20260604T113000
DTSTAMP:20260423T062114
CREATED:20240813T014938Z
LAST-MODIFIED:20241215T123435Z
UID:128172-1780561800-1780572600@cevibasel.ch
SUMMARY:Mütterngruppe
DESCRIPTION:
URL:https://cevibasel.ch/veranstaltung/mutterngruppe-437/
LOCATION:Cevi Seki
END:VEVENT
BEGIN:VEVENT
DTSTART;TZID=Europe/Zurich:20260604T083000
DTEND;TZID=Europe/Zurich:20260604T113000
DTSTAMP:20260423T062114
CREATED:20240813T014940Z
LAST-MODIFIED:20241215T123435Z
UID:128174-1780561800-1780572600@cevibasel.ch
SUMMARY:Mütterngruppe
DESCRIPTION:
URL:https://cevibasel.ch/veranstaltung/mutterngruppe-439/
LOCATION:Cevi Seki
END:VEVENT
BEGIN:VEVENT
DTSTART;TZID=Europe/Zurich:20260604T083000
DTEND;TZID=Europe/Zurich:20260604T113000
DTSTAMP:20260423T062114
CREATED:20240813T014940Z
LAST-MODIFIED:20241215T123431Z
UID:128175-1780561800-1780572600@cevibasel.ch
SUMMARY:Mütterngruppe
DESCRIPTION:
URL:https://cevibasel.ch/veranstaltung/mutterngruppe-440/
LOCATION:Cevi Seki
END:VEVENT
END:VCALENDAR