BEGIN:VCALENDAR
VERSION:2.0
PRODID:-//Cevi Region Basel - ECPv6.15.20//NONSGML v1.0//EN
CALSCALE:GREGORIAN
METHOD:PUBLISH
X-ORIGINAL-URL:https://cevibasel.ch
X-WR-CALDESC:Events for Cevi Region Basel
REFRESH-INTERVAL;VALUE=DURATION:PT1H
X-Robots-Tag:noindex
X-PUBLISHED-TTL:PT1H
BEGIN:VTIMEZONE
TZID:Europe/Zurich
BEGIN:DAYLIGHT
TZOFFSETFROM:+0100
TZOFFSETTO:+0200
TZNAME:CEST
DTSTART:20250330T010000
END:DAYLIGHT
BEGIN:STANDARD
TZOFFSETFROM:+0200
TZOFFSETTO:+0100
TZNAME:CET
DTSTART:20251026T010000
END:STANDARD
BEGIN:DAYLIGHT
TZOFFSETFROM:+0100
TZOFFSETTO:+0200
TZNAME:CEST
DTSTART:20260329T010000
END:DAYLIGHT
BEGIN:STANDARD
TZOFFSETFROM:+0200
TZOFFSETTO:+0100
TZNAME:CET
DTSTART:20261025T010000
END:STANDARD
BEGIN:DAYLIGHT
TZOFFSETFROM:+0100
TZOFFSETTO:+0200
TZNAME:CEST
DTSTART:20270328T010000
END:DAYLIGHT
BEGIN:STANDARD
TZOFFSETFROM:+0200
TZOFFSETTO:+0100
TZNAME:CET
DTSTART:20271031T010000
END:STANDARD
END:VTIMEZONE
BEGIN:VEVENT
DTSTART;TZID=Europe/Zurich:20260602T173000
DTEND;TZID=Europe/Zurich:20260602T190000
DTSTAMP:20260423T132231
CREATED:20240626T011905Z
LAST-MODIFIED:20260206T033126Z
UID:123722-1780421400-1780426800@cevibasel.ch
SUMMARY:Hattrick Riehen (1. bis 3. Klasse)
DESCRIPTION:
URL:https://cevibasel.ch/veranstaltung/hattrick-riehen-1-bis-3-klasse-159/
LOCATION:Fussballplatz Andreasmatte
END:VEVENT
BEGIN:VEVENT
DTSTART;TZID=Europe/Zurich:20260602T180000
DTEND;TZID=Europe/Zurich:20260602T193000
DTSTAMP:20260423T132231
CREATED:20240626T011907Z
LAST-MODIFIED:20260206T033131Z
UID:123724-1780423200-1780428600@cevibasel.ch
SUMMARY:Hattrick Gellert (7-12 Jahre)
DESCRIPTION:
URL:https://cevibasel.ch/veranstaltung/hattrick-gellert-7-12-jahre-159/
LOCATION:Fussballplatz Luftmatt
END:VEVENT
BEGIN:VEVENT
DTSTART;TZID=Europe/Zurich:20260602T190000
DTEND;TZID=Europe/Zurich:20260602T203000
DTSTAMP:20260423T132231
CREATED:20240626T011907Z
LAST-MODIFIED:20260206T033131Z
UID:123723-1780426800-1780432200@cevibasel.ch
SUMMARY:Hattrick Riehen (6. bis 7. Klasse)
DESCRIPTION:
URL:https://cevibasel.ch/veranstaltung/hattrick-riehen-6-bis-7-klasse-159/
LOCATION:Fussballplatz Andreasmatte
END:VEVENT
BEGIN:VEVENT
DTSTART;TZID=Europe/Zurich:20260603T183000
DTEND;TZID=Europe/Zurich:20260603T210000
DTSTAMP:20260423T132231
CREATED:20240626T011907Z
LAST-MODIFIED:20260206T033131Z
UID:123725-1780511400-1780520400@cevibasel.ch
SUMMARY:Ten Sing
DESCRIPTION:
URL:https://cevibasel.ch/veranstaltung/ten-sing-158/
LOCATION:CVJM Haus Kleinbasel
END:VEVENT
BEGIN:VEVENT
DTSTART;TZID=Europe/Zurich:20260604T083000
DTEND;TZID=Europe/Zurich:20260604T113000
DTSTAMP:20260423T132231
CREATED:20240813T014937Z
LAST-MODIFIED:20241215T123431Z
UID:128168-1780561800-1780572600@cevibasel.ch
SUMMARY:Mütterngruppe
DESCRIPTION:
URL:https://cevibasel.ch/veranstaltung/mutterngruppe-433/
LOCATION:Cevi Seki
END:VEVENT
BEGIN:VEVENT
DTSTART;TZID=Europe/Zurich:20260604T083000
DTEND;TZID=Europe/Zurich:20260604T113000
DTSTAMP:20260423T132231
CREATED:20240813T014938Z
LAST-MODIFIED:20260206T033131Z
UID:128173-1780561800-1780572600@cevibasel.ch
SUMMARY:Mütterngruppe
DESCRIPTION:
URL:https://cevibasel.ch/veranstaltung/mutterngruppe-438/
LOCATION:Cevi Seki
END:VEVENT
BEGIN:VEVENT
DTSTART;TZID=Europe/Zurich:20260604T083000
DTEND;TZID=Europe/Zurich:20260604T113000
DTSTAMP:20260423T132231
CREATED:20240813T014938Z
LAST-MODIFIED:20241215T123431Z
UID:128169-1780561800-1780572600@cevibasel.ch
SUMMARY:Mütterngruppe
DESCRIPTION:
URL:https://cevibasel.ch/veranstaltung/mutterngruppe-434/
LOCATION:Cevi Seki
END:VEVENT
BEGIN:VEVENT
DTSTART;TZID=Europe/Zurich:20260604T083000
DTEND;TZID=Europe/Zurich:20260604T113000
DTSTAMP:20260423T132231
CREATED:20240813T014938Z
LAST-MODIFIED:20241215T123435Z
UID:128170-1780561800-1780572600@cevibasel.ch
SUMMARY:Mütterngruppe
DESCRIPTION:
URL:https://cevibasel.ch/veranstaltung/mutterngruppe-435/
LOCATION:Cevi Seki
END:VEVENT
BEGIN:VEVENT
DTSTART;TZID=Europe/Zurich:20260604T083000
DTEND;TZID=Europe/Zurich:20260604T113000
DTSTAMP:20260423T132231
CREATED:20240813T014938Z
LAST-MODIFIED:20241215T123431Z
UID:128171-1780561800-1780572600@cevibasel.ch
SUMMARY:Mütterngruppe
DESCRIPTION:
URL:https://cevibasel.ch/veranstaltung/mutterngruppe-436/
LOCATION:Cevi Seki
END:VEVENT
BEGIN:VEVENT
DTSTART;TZID=Europe/Zurich:20260604T083000
DTEND;TZID=Europe/Zurich:20260604T113000
DTSTAMP:20260423T132231
CREATED:20240813T014938Z
LAST-MODIFIED:20241215T123435Z
UID:128172-1780561800-1780572600@cevibasel.ch
SUMMARY:Mütterngruppe
DESCRIPTION:
URL:https://cevibasel.ch/veranstaltung/mutterngruppe-437/
LOCATION:Cevi Seki
END:VEVENT
BEGIN:VEVENT
DTSTART;TZID=Europe/Zurich:20260604T083000
DTEND;TZID=Europe/Zurich:20260604T113000
DTSTAMP:20260423T132231
CREATED:20240813T014940Z
LAST-MODIFIED:20241215T123435Z
UID:128174-1780561800-1780572600@cevibasel.ch
SUMMARY:Mütterngruppe
DESCRIPTION:
URL:https://cevibasel.ch/veranstaltung/mutterngruppe-439/
LOCATION:Cevi Seki
END:VEVENT
BEGIN:VEVENT
DTSTART;TZID=Europe/Zurich:20260604T083000
DTEND;TZID=Europe/Zurich:20260604T113000
DTSTAMP:20260423T132231
CREATED:20240813T014940Z
LAST-MODIFIED:20241215T123431Z
UID:128175-1780561800-1780572600@cevibasel.ch
SUMMARY:Mütterngruppe
DESCRIPTION:
URL:https://cevibasel.ch/veranstaltung/mutterngruppe-440/
LOCATION:Cevi Seki
END:VEVENT
BEGIN:VEVENT
DTSTART;TZID=Europe/Zurich:20260604T083000
DTEND;TZID=Europe/Zurich:20260604T113000
DTSTAMP:20260423T132231
CREATED:20240813T014940Z
LAST-MODIFIED:20241215T123431Z
UID:128176-1780561800-1780572600@cevibasel.ch
SUMMARY:Mütterngruppe
DESCRIPTION:
URL:https://cevibasel.ch/veranstaltung/mutterngruppe-441/
LOCATION:Cevi Seki
END:VEVENT
BEGIN:VEVENT
DTSTART;TZID=Europe/Zurich:20260605T173000
DTEND;TZID=Europe/Zurich:20260605T190000
DTSTAMP:20260423T132231
CREATED:20240626T011907Z
LAST-MODIFIED:20260206T033144Z
UID:123726-1780680600-1780686000@cevibasel.ch
SUMMARY:Hattrick Riehen (4. bis 5. Klasse)
DESCRIPTION:
URL:https://cevibasel.ch/veranstaltung/hattrick-riehen-4-bis-5-klasse-159/
LOCATION:Andreasmatte
END:VEVENT
BEGIN:VEVENT
DTSTART;TZID=Europe/Zurich:20260605T173000
DTEND;TZID=Europe/Zurich:20260605T190000
DTSTAMP:20260423T132231
CREATED:20240626T011911Z
LAST-MODIFIED:20260206T033131Z
UID:123728-1780680600-1780686000@cevibasel.ch
SUMMARY:Hattrick Basel West (7-15 Jahre)
DESCRIPTION:
URL:https://cevibasel.ch/veranstaltung/hattrick-basel-west-7-15-jahre-159/
END:VEVENT
BEGIN:VEVENT
DTSTART;TZID=Europe/Zurich:20260605T190000
DTEND;TZID=Europe/Zurich:20260605T203000
DTSTAMP:20260423T132231
CREATED:20240626T011907Z
LAST-MODIFIED:20260206T033144Z
UID:123727-1780686000-1780691400@cevibasel.ch
SUMMARY:Hattrick Basel West (16-18 Jahre)
DESCRIPTION:
URL:https://cevibasel.ch/veranstaltung/hattrick-basel-west-16-18-jahre-159/
LOCATION:Fussballfelder Pfaffenholz
END:VEVENT
BEGIN:VEVENT
DTSTART;VALUE=DATE:20260606
DTEND;VALUE=DATE:20260607
DTSTAMP:20260423T132231
CREATED:20251120T030108Z
LAST-MODIFIED:20260206T033144Z
UID:169901-1780704000-1780790399@cevibasel.ch
SUMMARY:Jungschar Angebote
DESCRIPTION:
URL:https://cevibasel.ch/veranstaltung/jungscharangebote-23/
END:VEVENT
BEGIN:VEVENT
DTSTART;TZID=Europe/Zurich:20260606T133000
DTEND;TZID=Europe/Zurich:20260606T153000
DTSTAMP:20260423T132231
CREATED:20240626T011913Z
LAST-MODIFIED:20251120T120649Z
UID:123736-1780752600-1780759800@cevibasel.ch
SUMMARY:Hattrick Gundeli (6-11 Jahre)
DESCRIPTION:
URL:https://cevibasel.ch/veranstaltung/hattrick-gundeli-6-11-jahre-159/
LOCATION:Margarethenpark
END:VEVENT
BEGIN:VEVENT
DTSTART;TZID=Europe/Zurich:20260606T140000
DTEND;TZID=Europe/Zurich:20260606T170000
DTSTAMP:20260423T132231
CREATED:20240626T011912Z
LAST-MODIFIED:20251117T101405Z
UID:123729-1780754400-1780765200@cevibasel.ch
SUMMARY:Jungschi Gotthelf-Neubad
DESCRIPTION:
URL:https://cevibasel.ch/veranstaltung/jungschi-gotthelf-neubad-159/
END:VEVENT
BEGIN:VEVENT
DTSTART;TZID=Europe/Zurich:20260606T140000
DTEND;TZID=Europe/Zurich:20260606T170000
DTSTAMP:20260423T132231
CREATED:20240626T011912Z
LAST-MODIFIED:20251117T101405Z
UID:123730-1780754400-1780765200@cevibasel.ch
SUMMARY:Jungschi Allschwil
DESCRIPTION:
URL:https://cevibasel.ch/veranstaltung/jungschi-allschwil-159/
END:VEVENT
BEGIN:VEVENT
DTSTART;TZID=Europe/Zurich:20260606T140000
DTEND;TZID=Europe/Zurich:20260606T170000
DTSTAMP:20260423T132231
CREATED:20240626T011912Z
LAST-MODIFIED:20251117T101418Z
UID:123731-1780754400-1780765200@cevibasel.ch
SUMMARY:Jungschi Thomas
DESCRIPTION:
URL:https://cevibasel.ch/veranstaltung/jungschi-thomas-159/
END:VEVENT
BEGIN:VEVENT
DTSTART;TZID=Europe/Zurich:20260606T140000
DTEND;TZID=Europe/Zurich:20260606T170000
DTSTAMP:20260423T132231
CREATED:20240626T011912Z
LAST-MODIFIED:20251117T101418Z
UID:123732-1780754400-1780765200@cevibasel.ch
SUMMARY:Jungschi Binningen
DESCRIPTION:
URL:https://cevibasel.ch/veranstaltung/jungschi-binningen-159/
END:VEVENT
BEGIN:VEVENT
DTSTART;TZID=Europe/Zurich:20260606T140000
DTEND;TZID=Europe/Zurich:20260606T170000
DTSTAMP:20260423T132231
CREATED:20240626T011913Z
LAST-MODIFIED:20241105T110359Z
UID:123733-1780754400-1780765200@cevibasel.ch
SUMMARY:Jungschi Reinach
DESCRIPTION:
URL:https://cevibasel.ch/veranstaltung/jungschi-reinach-159/
END:VEVENT
BEGIN:VEVENT
DTSTART;TZID=Europe/Zurich:20260606T140000
DTEND;TZID=Europe/Zurich:20260606T170000
DTSTAMP:20260423T132231
CREATED:20240626T011913Z
LAST-MODIFIED:20251117T101458Z
UID:123734-1780754400-1780765200@cevibasel.ch
SUMMARY:Jungschi Ettigen & Therwil
DESCRIPTION:
URL:https://cevibasel.ch/veranstaltung/jungschi-ettigen-therwil-159/
END:VEVENT
BEGIN:VEVENT
DTSTART;TZID=Europe/Zurich:20260606T140000
DTEND;TZID=Europe/Zurich:20260606T170000
DTSTAMP:20260423T132231
CREATED:20240626T011913Z
LAST-MODIFIED:20241105T110355Z
UID:123735-1780754400-1780765200@cevibasel.ch
SUMMARY:Jungschi Muttenz
DESCRIPTION:
URL:https://cevibasel.ch/veranstaltung/jungschi-muttenz-159/
END:VEVENT
BEGIN:VEVENT
DTSTART;TZID=Europe/Zurich:20260606T140000
DTEND;TZID=Europe/Zurich:20260606T170000
DTSTAMP:20260423T132231
CREATED:20240626T011913Z
LAST-MODIFIED:20251117T101418Z
UID:123737-1780754400-1780765200@cevibasel.ch
SUMMARY:Jungschi Bubendorf
DESCRIPTION:
URL:https://cevibasel.ch/veranstaltung/jungschi-bubendorf-159/
END:VEVENT
BEGIN:VEVENT
DTSTART;TZID=Europe/Zurich:20260606T140000
DTEND;TZID=Europe/Zurich:20260606T170000
DTSTAMP:20260423T132231
CREATED:20240626T011915Z
LAST-MODIFIED:20251117T101418Z
UID:123738-1780754400-1780765200@cevibasel.ch
SUMMARY:Jungschi Titus
DESCRIPTION:
URL:https://cevibasel.ch/veranstaltung/jungschi-titus-159/
END:VEVENT
BEGIN:VEVENT
DTSTART;TZID=Europe/Zurich:20260608T190000
DTEND;TZID=Europe/Zurich:20260608T203000
DTSTAMP:20260423T132231
CREATED:20240626T011916Z
LAST-MODIFIED:20260206T033144Z
UID:123740-1780945200-1780950600@cevibasel.ch
SUMMARY:Hattrick Men\, 19.00-20.30
DESCRIPTION:
URL:https://cevibasel.ch/veranstaltung/hattrick-men-19-00-20-30-194/
LOCATION:Fussballfelder Pfaffenholz
END:VEVENT
BEGIN:VEVENT
DTSTART;TZID=Europe/Zurich:20260608T203000
DTEND;TZID=Europe/Zurich:20260608T220000
DTSTAMP:20260423T132231
CREATED:20240626T011916Z
LAST-MODIFIED:20260206T033144Z
UID:123739-1780950600-1780956000@cevibasel.ch
SUMMARY:Hattrick Ladies\, 20.30-22.00
DESCRIPTION:
URL:https://cevibasel.ch/veranstaltung/hattrick-ladies-20-30-22-00-195/
LOCATION:Fussballfelder Pfaffenholz
END:VEVENT
BEGIN:VEVENT
DTSTART;TZID=Europe/Zurich:20260609T173000
DTEND;TZID=Europe/Zurich:20260609T190000
DTSTAMP:20260423T132231
CREATED:20240626T011916Z
LAST-MODIFIED:20260206T033150Z
UID:123742-1781026200-1781031600@cevibasel.ch
SUMMARY:Hattrick Riehen (1. bis 3. Klasse)
DESCRIPTION:
URL:https://cevibasel.ch/veranstaltung/hattrick-riehen-1-bis-3-klasse-160/
LOCATION:Fussballplatz Andreasmatte
END:VEVENT
END:VCALENDAR