BEGIN:VCALENDAR
VERSION:2.0
PRODID:-//Cevi Region Basel - ECPv6.15.20//NONSGML v1.0//EN
CALSCALE:GREGORIAN
METHOD:PUBLISH
X-ORIGINAL-URL:https://cevibasel.ch
X-WR-CALDESC:Events for Cevi Region Basel
REFRESH-INTERVAL;VALUE=DURATION:PT1H
X-Robots-Tag:noindex
X-PUBLISHED-TTL:PT1H
BEGIN:VTIMEZONE
TZID:Europe/Zurich
BEGIN:DAYLIGHT
TZOFFSETFROM:+0100
TZOFFSETTO:+0200
TZNAME:CEST
DTSTART:20250330T010000
END:DAYLIGHT
BEGIN:STANDARD
TZOFFSETFROM:+0200
TZOFFSETTO:+0100
TZNAME:CET
DTSTART:20251026T010000
END:STANDARD
BEGIN:DAYLIGHT
TZOFFSETFROM:+0100
TZOFFSETTO:+0200
TZNAME:CEST
DTSTART:20260329T010000
END:DAYLIGHT
BEGIN:STANDARD
TZOFFSETFROM:+0200
TZOFFSETTO:+0100
TZNAME:CET
DTSTART:20261025T010000
END:STANDARD
BEGIN:DAYLIGHT
TZOFFSETFROM:+0100
TZOFFSETTO:+0200
TZNAME:CEST
DTSTART:20270328T010000
END:DAYLIGHT
BEGIN:STANDARD
TZOFFSETFROM:+0200
TZOFFSETTO:+0100
TZNAME:CET
DTSTART:20271031T010000
END:STANDARD
END:VTIMEZONE
BEGIN:VEVENT
DTSTART;VALUE=DATE:20260618
DTEND;VALUE=DATE:20260622
DTSTAMP:20260423T091005
CREATED:20251204T110649Z
LAST-MODIFIED:20260206T033215Z
UID:170276-1781740800-1782086399@cevibasel.ch
SUMMARY:Duranna-Weekend
DESCRIPTION:
URL:https://cevibasel.ch/veranstaltung/duranna-weekend-4/
END:VEVENT
BEGIN:VEVENT
DTSTART;TZID=Europe/Zurich:20260618T083000
DTEND;TZID=Europe/Zurich:20260618T113000
DTSTAMP:20260423T091005
CREATED:20240815T050130Z
LAST-MODIFIED:20241215T061940Z
UID:129172-1781771400-1781782200@cevibasel.ch
SUMMARY:Mütterngruppe
DESCRIPTION:
URL:https://cevibasel.ch/veranstaltung/mutterngruppe-443/
LOCATION:Cevi Seki
END:VEVENT
BEGIN:VEVENT
DTSTART;TZID=Europe/Zurich:20260618T083000
DTEND;TZID=Europe/Zurich:20260618T113000
DTSTAMP:20260423T091005
CREATED:20240815T050130Z
LAST-MODIFIED:20241215T061940Z
UID:129173-1781771400-1781782200@cevibasel.ch
SUMMARY:Mütterngruppe
DESCRIPTION:
URL:https://cevibasel.ch/veranstaltung/mutterngruppe-444/
LOCATION:Cevi Seki
END:VEVENT
BEGIN:VEVENT
DTSTART;TZID=Europe/Zurich:20260618T083000
DTEND;TZID=Europe/Zurich:20260618T113000
DTSTAMP:20260423T091005
CREATED:20240815T050133Z
LAST-MODIFIED:20241215T061943Z
UID:129177-1781771400-1781782200@cevibasel.ch
SUMMARY:Mütterngruppe
DESCRIPTION:
URL:https://cevibasel.ch/veranstaltung/mutterngruppe-448/
LOCATION:Cevi Seki
END:VEVENT
BEGIN:VEVENT
DTSTART;TZID=Europe/Zurich:20260618T083000
DTEND;TZID=Europe/Zurich:20260618T113000
DTSTAMP:20260423T091005
CREATED:20240815T050133Z
LAST-MODIFIED:20241215T061940Z
UID:129178-1781771400-1781782200@cevibasel.ch
SUMMARY:Mütterngruppe
DESCRIPTION:
URL:https://cevibasel.ch/veranstaltung/mutterngruppe-449/
LOCATION:Cevi Seki
END:VEVENT
BEGIN:VEVENT
DTSTART;TZID=Europe/Zurich:20260618T083000
DTEND;TZID=Europe/Zurich:20260618T113000
DTSTAMP:20260423T091005
CREATED:20240815T050133Z
LAST-MODIFIED:20260206T033215Z
UID:129174-1781771400-1781782200@cevibasel.ch
SUMMARY:Mütterngruppe
DESCRIPTION:
URL:https://cevibasel.ch/veranstaltung/mutterngruppe-445/
LOCATION:Cevi Seki
END:VEVENT
BEGIN:VEVENT
DTSTART;TZID=Europe/Zurich:20260618T083000
DTEND;TZID=Europe/Zurich:20260618T113000
DTSTAMP:20260423T091005
CREATED:20240815T050133Z
LAST-MODIFIED:20241215T061940Z
UID:129175-1781771400-1781782200@cevibasel.ch
SUMMARY:Mütterngruppe
DESCRIPTION:
URL:https://cevibasel.ch/veranstaltung/mutterngruppe-446/
LOCATION:Cevi Seki
END:VEVENT
BEGIN:VEVENT
DTSTART;TZID=Europe/Zurich:20260618T083000
DTEND;TZID=Europe/Zurich:20260618T113000
DTSTAMP:20260423T091005
CREATED:20240815T050133Z
LAST-MODIFIED:20241215T061944Z
UID:129176-1781771400-1781782200@cevibasel.ch
SUMMARY:Mütterngruppe
DESCRIPTION:
URL:https://cevibasel.ch/veranstaltung/mutterngruppe-447/
LOCATION:Cevi Seki
END:VEVENT
BEGIN:VEVENT
DTSTART;TZID=Europe/Zurich:20260618T083000
DTEND;TZID=Europe/Zurich:20260618T113000
DTSTAMP:20260423T091005
CREATED:20240815T050134Z
LAST-MODIFIED:20241215T061943Z
UID:129179-1781771400-1781782200@cevibasel.ch
SUMMARY:Mütterngruppe
DESCRIPTION:
URL:https://cevibasel.ch/veranstaltung/mutterngruppe-450/
LOCATION:Cevi Seki
END:VEVENT
BEGIN:VEVENT
DTSTART;TZID=Europe/Zurich:20260618T083000
DTEND;TZID=Europe/Zurich:20260618T113000
DTSTAMP:20260423T091005
CREATED:20240815T050134Z
LAST-MODIFIED:20241215T061939Z
UID:129180-1781771400-1781782200@cevibasel.ch
SUMMARY:Mütterngruppe
DESCRIPTION:
URL:https://cevibasel.ch/veranstaltung/mutterngruppe-451/
LOCATION:Cevi Seki
END:VEVENT
BEGIN:VEVENT
DTSTART;TZID=Europe/Zurich:20260619T173000
DTEND;TZID=Europe/Zurich:20260619T190000
DTSTAMP:20260423T091005
CREATED:20240626T011927Z
LAST-MODIFIED:20260206T033215Z
UID:123765-1781890200-1781895600@cevibasel.ch
SUMMARY:Hattrick Riehen (4. bis 5. Klasse)
DESCRIPTION:
URL:https://cevibasel.ch/veranstaltung/hattrick-riehen-4-bis-5-klasse-161/
LOCATION:Andreasmatte
END:VEVENT
BEGIN:VEVENT
DTSTART;TZID=Europe/Zurich:20260619T173000
DTEND;TZID=Europe/Zurich:20260619T190000
DTSTAMP:20260423T091005
CREATED:20240626T011928Z
LAST-MODIFIED:20260206T033225Z
UID:123767-1781890200-1781895600@cevibasel.ch
SUMMARY:Hattrick Basel West (7-15 Jahre)
DESCRIPTION:
URL:https://cevibasel.ch/veranstaltung/hattrick-basel-west-7-15-jahre-161/
END:VEVENT
BEGIN:VEVENT
DTSTART;TZID=Europe/Zurich:20260619T190000
DTEND;TZID=Europe/Zurich:20260619T203000
DTSTAMP:20260423T091005
CREATED:20240626T011928Z
LAST-MODIFIED:20260206T033215Z
UID:123766-1781895600-1781901000@cevibasel.ch
SUMMARY:Hattrick Basel West (16-18 Jahre)
DESCRIPTION:
URL:https://cevibasel.ch/veranstaltung/hattrick-basel-west-16-18-jahre-161/
LOCATION:Fussballfelder Pfaffenholz
END:VEVENT
BEGIN:VEVENT
DTSTART;VALUE=DATE:20260620
DTEND;VALUE=DATE:20260621
DTSTAMP:20260423T091005
CREATED:20251120T030120Z
LAST-MODIFIED:20260206T033225Z
UID:169903-1781913600-1781999999@cevibasel.ch
SUMMARY:Jungschar Angebote
DESCRIPTION:
URL:https://cevibasel.ch/veranstaltung/jungscharangebote-25/
END:VEVENT
BEGIN:VEVENT
DTSTART;VALUE=DATE:20260620
DTEND;VALUE=DATE:20260621
DTSTAMP:20260423T091005
CREATED:20251204T110700Z
LAST-MODIFIED:20260206T033215Z
UID:170277-1781913600-1781999999@cevibasel.ch
SUMMARY:JUNE
DESCRIPTION:
URL:https://cevibasel.ch/veranstaltung/june-4/
END:VEVENT
BEGIN:VEVENT
DTSTART;TZID=Europe/Zurich:20260620T133000
DTEND;TZID=Europe/Zurich:20260620T153000
DTSTAMP:20260423T091005
CREATED:20240626T011930Z
LAST-MODIFIED:20251120T120655Z
UID:123774-1781962200-1781969400@cevibasel.ch
SUMMARY:Hattrick Gundeli (6-11 Jahre)
DESCRIPTION:
URL:https://cevibasel.ch/veranstaltung/hattrick-gundeli-6-11-jahre-161/
LOCATION:Margarethenpark
END:VEVENT
BEGIN:VEVENT
DTSTART;TZID=Europe/Zurich:20260620T140000
DTEND;TZID=Europe/Zurich:20260620T170000
DTSTAMP:20260423T091005
CREATED:20240626T011929Z
LAST-MODIFIED:20251117T101834Z
UID:123770-1781964000-1781974800@cevibasel.ch
SUMMARY:Jungschi Binningen
DESCRIPTION:
URL:https://cevibasel.ch/veranstaltung/jungschi-binningen-161/
END:VEVENT
BEGIN:VEVENT
DTSTART;TZID=Europe/Zurich:20260620T140000
DTEND;TZID=Europe/Zurich:20260620T170000
DTSTAMP:20260423T091005
CREATED:20240626T011929Z
LAST-MODIFIED:20251117T101632Z
UID:123771-1781964000-1781974800@cevibasel.ch
SUMMARY:Jungschi Allschwil
DESCRIPTION:
URL:https://cevibasel.ch/veranstaltung/jungschi-allschwil-161/
END:VEVENT
BEGIN:VEVENT
DTSTART;TZID=Europe/Zurich:20260620T140000
DTEND;TZID=Europe/Zurich:20260620T170000
DTSTAMP:20260423T091005
CREATED:20240626T011929Z
LAST-MODIFIED:20251117T101834Z
UID:123772-1781964000-1781974800@cevibasel.ch
SUMMARY:Jungschi Bubendorf
DESCRIPTION:
URL:https://cevibasel.ch/veranstaltung/jungschi-bubendorf-161/
END:VEVENT
BEGIN:VEVENT
DTSTART;TZID=Europe/Zurich:20260620T140000
DTEND;TZID=Europe/Zurich:20260620T170000
DTSTAMP:20260423T091005
CREATED:20240626T011929Z
LAST-MODIFIED:20251117T101632Z
UID:123768-1781964000-1781974800@cevibasel.ch
SUMMARY:Jungschi Ettigen & Therwil
DESCRIPTION:
URL:https://cevibasel.ch/veranstaltung/jungschi-ettigen-therwil-161/
END:VEVENT
BEGIN:VEVENT
DTSTART;TZID=Europe/Zurich:20260620T140000
DTEND;TZID=Europe/Zurich:20260620T170000
DTSTAMP:20260423T091005
CREATED:20240626T011929Z
LAST-MODIFIED:20251117T101632Z
UID:123769-1781964000-1781974800@cevibasel.ch
SUMMARY:Jungschi Gotthelf-Neubad
DESCRIPTION:
URL:https://cevibasel.ch/veranstaltung/jungschi-gotthelf-neubad-161/
END:VEVENT
BEGIN:VEVENT
DTSTART;TZID=Europe/Zurich:20260620T140000
DTEND;TZID=Europe/Zurich:20260620T170000
DTSTAMP:20260423T091005
CREATED:20240626T011930Z
LAST-MODIFIED:20241105T110436Z
UID:123773-1781964000-1781974800@cevibasel.ch
SUMMARY:Jungschi Muttenz
DESCRIPTION:
URL:https://cevibasel.ch/veranstaltung/jungschi-muttenz-161/
END:VEVENT
BEGIN:VEVENT
DTSTART;TZID=Europe/Zurich:20260620T140000
DTEND;TZID=Europe/Zurich:20260620T170000
DTSTAMP:20260423T091005
CREATED:20240626T011931Z
LAST-MODIFIED:20251117T101628Z
UID:123776-1781964000-1781974800@cevibasel.ch
SUMMARY:Jungschi Titus
DESCRIPTION:
URL:https://cevibasel.ch/veranstaltung/jungschi-titus-161/
END:VEVENT
BEGIN:VEVENT
DTSTART;TZID=Europe/Zurich:20260620T140000
DTEND;TZID=Europe/Zurich:20260620T170000
DTSTAMP:20260423T091005
CREATED:20240626T011931Z
LAST-MODIFIED:20241105T110443Z
UID:123777-1781964000-1781974800@cevibasel.ch
SUMMARY:Jungschi Reinach
DESCRIPTION:
URL:https://cevibasel.ch/veranstaltung/jungschi-reinach-161/
END:VEVENT
BEGIN:VEVENT
DTSTART;TZID=Europe/Zurich:20260620T140000
DTEND;TZID=Europe/Zurich:20260620T170000
DTSTAMP:20260423T091005
CREATED:20240626T011931Z
LAST-MODIFIED:20251117T101632Z
UID:123775-1781964000-1781974800@cevibasel.ch
SUMMARY:Jungschi Thomas
DESCRIPTION:
URL:https://cevibasel.ch/veranstaltung/jungschi-thomas-161/
END:VEVENT
BEGIN:VEVENT
DTSTART;TZID=Europe/Zurich:20260622T190000
DTEND;TZID=Europe/Zurich:20260622T203000
DTSTAMP:20260423T091005
CREATED:20240626T011934Z
LAST-MODIFIED:20260206T033225Z
UID:123779-1782154800-1782160200@cevibasel.ch
SUMMARY:Hattrick Men\, 19.00-20.30
DESCRIPTION:
URL:https://cevibasel.ch/veranstaltung/hattrick-men-19-00-20-30-196/
LOCATION:Fussballfelder Pfaffenholz
END:VEVENT
BEGIN:VEVENT
DTSTART;TZID=Europe/Zurich:20260622T203000
DTEND;TZID=Europe/Zurich:20260622T220000
DTSTAMP:20260423T091005
CREATED:20240626T011934Z
LAST-MODIFIED:20260206T033225Z
UID:123778-1782160200-1782165600@cevibasel.ch
SUMMARY:Hattrick Ladies\, 20.30-22.00
DESCRIPTION:
URL:https://cevibasel.ch/veranstaltung/hattrick-ladies-20-30-22-00-197/
LOCATION:Fussballfelder Pfaffenholz
END:VEVENT
BEGIN:VEVENT
DTSTART;TZID=Europe/Zurich:20260623T173000
DTEND;TZID=Europe/Zurich:20260623T190000
DTSTAMP:20260423T091005
CREATED:20240626T011934Z
LAST-MODIFIED:20260206T033227Z
UID:123781-1782235800-1782241200@cevibasel.ch
SUMMARY:Hattrick Riehen (1. bis 3. Klasse)
DESCRIPTION:
URL:https://cevibasel.ch/veranstaltung/hattrick-riehen-1-bis-3-klasse-162/
LOCATION:Fussballplatz Andreasmatte
END:VEVENT
BEGIN:VEVENT
DTSTART;TZID=Europe/Zurich:20260623T180000
DTEND;TZID=Europe/Zurich:20260623T193000
DTSTAMP:20260423T091005
CREATED:20240626T011934Z
LAST-MODIFIED:20260206T033225Z
UID:123782-1782237600-1782243000@cevibasel.ch
SUMMARY:Hattrick Gellert (7-12 Jahre)
DESCRIPTION:
URL:https://cevibasel.ch/veranstaltung/hattrick-gellert-7-12-jahre-162/
LOCATION:Fussballplatz Luftmatt
END:VEVENT
BEGIN:VEVENT
DTSTART;TZID=Europe/Zurich:20260623T190000
DTEND;TZID=Europe/Zurich:20260623T203000
DTSTAMP:20260423T091005
CREATED:20240626T011934Z
LAST-MODIFIED:20260206T033227Z
UID:123780-1782241200-1782246600@cevibasel.ch
SUMMARY:Hattrick Riehen (6. bis 7. Klasse)
DESCRIPTION:
URL:https://cevibasel.ch/veranstaltung/hattrick-riehen-6-bis-7-klasse-162/
LOCATION:Fussballplatz Andreasmatte
END:VEVENT
END:VCALENDAR