BEGIN:VCALENDAR
VERSION:2.0
PRODID:-//Cevi Region Basel - ECPv6.15.20//NONSGML v1.0//EN
CALSCALE:GREGORIAN
METHOD:PUBLISH
X-ORIGINAL-URL:https://cevibasel.ch
X-WR-CALDESC:Events for Cevi Region Basel
REFRESH-INTERVAL;VALUE=DURATION:PT1H
X-Robots-Tag:noindex
X-PUBLISHED-TTL:PT1H
BEGIN:VTIMEZONE
TZID:Europe/Zurich
BEGIN:DAYLIGHT
TZOFFSETFROM:+0100
TZOFFSETTO:+0200
TZNAME:CEST
DTSTART:20250330T010000
END:DAYLIGHT
BEGIN:STANDARD
TZOFFSETFROM:+0200
TZOFFSETTO:+0100
TZNAME:CET
DTSTART:20251026T010000
END:STANDARD
BEGIN:DAYLIGHT
TZOFFSETFROM:+0100
TZOFFSETTO:+0200
TZNAME:CEST
DTSTART:20260329T010000
END:DAYLIGHT
BEGIN:STANDARD
TZOFFSETFROM:+0200
TZOFFSETTO:+0100
TZNAME:CET
DTSTART:20261025T010000
END:STANDARD
BEGIN:DAYLIGHT
TZOFFSETFROM:+0100
TZOFFSETTO:+0200
TZNAME:CEST
DTSTART:20270328T010000
END:DAYLIGHT
BEGIN:STANDARD
TZOFFSETFROM:+0200
TZOFFSETTO:+0100
TZNAME:CET
DTSTART:20271031T010000
END:STANDARD
END:VTIMEZONE
BEGIN:VEVENT
DTSTART;VALUE=DATE:20260627
DTEND;VALUE=DATE:20260628
DTSTAMP:20260423T120537
CREATED:20251120T030126Z
LAST-MODIFIED:20260206T033312Z
UID:169904-1782518400-1782604799@cevibasel.ch
SUMMARY:Jungschar Angebote
DESCRIPTION:
URL:https://cevibasel.ch/veranstaltung/jungscharangebote-26/
END:VEVENT
BEGIN:VEVENT
DTSTART;TZID=Europe/Zurich:20260627T133000
DTEND;TZID=Europe/Zurich:20260627T153000
DTSTAMP:20260423T120537
CREATED:20240724T090432Z
LAST-MODIFIED:20251120T120658Z
UID:125963-1782567000-1782574200@cevibasel.ch
SUMMARY:Hattrick Gundeli (6-11 Jahre)
DESCRIPTION:
URL:https://cevibasel.ch/veranstaltung/hattrick-gundeli-6-11-jahre-162/
LOCATION:Margarethenpark
END:VEVENT
BEGIN:VEVENT
DTSTART;TZID=Europe/Zurich:20260627T140000
DTEND;TZID=Europe/Zurich:20260627T170000
DTSTAMP:20260423T120537
CREATED:20240724T090431Z
LAST-MODIFIED:20251117T101932Z
UID:125959-1782568800-1782579600@cevibasel.ch
SUMMARY:Jungschi Bubendorf
DESCRIPTION:
URL:https://cevibasel.ch/veranstaltung/jungschi-bubendorf-162/
END:VEVENT
BEGIN:VEVENT
DTSTART;TZID=Europe/Zurich:20260627T140000
DTEND;TZID=Europe/Zurich:20260627T170000
DTSTAMP:20260423T120537
CREATED:20240724T090432Z
LAST-MODIFIED:20241105T080219Z
UID:125960-1782568800-1782579600@cevibasel.ch
SUMMARY:Jungschi Muttenz
DESCRIPTION:
URL:https://cevibasel.ch/veranstaltung/jungschi-muttenz-162/
END:VEVENT
BEGIN:VEVENT
DTSTART;TZID=Europe/Zurich:20260627T140000
DTEND;TZID=Europe/Zurich:20260627T170000
DTSTAMP:20260423T120537
CREATED:20240724T090432Z
LAST-MODIFIED:20251117T101933Z
UID:125961-1782568800-1782579600@cevibasel.ch
SUMMARY:Jungschi Gotthelf-Neubad
DESCRIPTION:
URL:https://cevibasel.ch/veranstaltung/jungschi-gotthelf-neubad-162/
END:VEVENT
BEGIN:VEVENT
DTSTART;TZID=Europe/Zurich:20260627T140000
DTEND;TZID=Europe/Zurich:20260627T170000
DTSTAMP:20260423T120537
CREATED:20240724T090432Z
LAST-MODIFIED:20251117T101933Z
UID:125962-1782568800-1782579600@cevibasel.ch
SUMMARY:Jungschi Allschwil
DESCRIPTION:
URL:https://cevibasel.ch/veranstaltung/jungschi-allschwil-162/
END:VEVENT
BEGIN:VEVENT
DTSTART;TZID=Europe/Zurich:20260627T140000
DTEND;TZID=Europe/Zurich:20260627T170000
DTSTAMP:20260423T120537
CREATED:20240724T090434Z
LAST-MODIFIED:20251117T101932Z
UID:125964-1782568800-1782579600@cevibasel.ch
SUMMARY:Jungschi Binningen
DESCRIPTION:
URL:https://cevibasel.ch/veranstaltung/jungschi-binningen-162/
END:VEVENT
BEGIN:VEVENT
DTSTART;TZID=Europe/Zurich:20260627T140000
DTEND;TZID=Europe/Zurich:20260627T170000
DTSTAMP:20260423T120537
CREATED:20240724T090434Z
LAST-MODIFIED:20251117T101933Z
UID:125965-1782568800-1782579600@cevibasel.ch
SUMMARY:Jungschi Titus
DESCRIPTION:
URL:https://cevibasel.ch/veranstaltung/jungschi-titus-162/
END:VEVENT
BEGIN:VEVENT
DTSTART;TZID=Europe/Zurich:20260627T140000
DTEND;TZID=Europe/Zurich:20260627T170000
DTSTAMP:20260423T120537
CREATED:20240724T090434Z
LAST-MODIFIED:20251117T101933Z
UID:125966-1782568800-1782579600@cevibasel.ch
SUMMARY:Jungschi Thomas
DESCRIPTION:
URL:https://cevibasel.ch/veranstaltung/jungschi-thomas-162/
END:VEVENT
BEGIN:VEVENT
DTSTART;TZID=Europe/Zurich:20260627T140000
DTEND;TZID=Europe/Zurich:20260627T170000
DTSTAMP:20260423T120537
CREATED:20240724T090434Z
LAST-MODIFIED:20241105T080223Z
UID:125967-1782568800-1782579600@cevibasel.ch
SUMMARY:Jungschi Reinach
DESCRIPTION:
URL:https://cevibasel.ch/veranstaltung/jungschi-reinach-162/
END:VEVENT
BEGIN:VEVENT
DTSTART;TZID=Europe/Zurich:20260627T140000
DTEND;TZID=Europe/Zurich:20260627T170000
DTSTAMP:20260423T120537
CREATED:20240724T090434Z
LAST-MODIFIED:20251117T101932Z
UID:125968-1782568800-1782579600@cevibasel.ch
SUMMARY:Jungschi Ettigen & Therwil
DESCRIPTION:
URL:https://cevibasel.ch/veranstaltung/jungschi-ettigen-therwil-162/
END:VEVENT
BEGIN:VEVENT
DTSTART;VALUE=DATE:20260629
DTEND;VALUE=DATE:20260704
DTSTAMP:20260423T120537
CREATED:20251120T030132Z
LAST-MODIFIED:20260206T033312Z
UID:169906-1782691200-1783123199@cevibasel.ch
SUMMARY:Hattrick Tageslager
DESCRIPTION:
URL:https://cevibasel.ch/veranstaltung/hattrick-tageslager-10/
END:VEVENT
BEGIN:VEVENT
DTSTART;TZID=Europe/Zurich:20260629T190000
DTEND;TZID=Europe/Zurich:20260629T203000
DTSTAMP:20260423T120537
CREATED:20240724T090435Z
LAST-MODIFIED:20260206T033312Z
UID:125970-1782759600-1782765000@cevibasel.ch
SUMMARY:Hattrick Men\, 19.00-20.30
DESCRIPTION:
URL:https://cevibasel.ch/veranstaltung/hattrick-men-19-00-20-30-197/
LOCATION:Fussballfelder Pfaffenholz
END:VEVENT
BEGIN:VEVENT
DTSTART;TZID=Europe/Zurich:20260629T203000
DTEND;TZID=Europe/Zurich:20260629T220000
DTSTAMP:20260423T120537
CREATED:20240724T090435Z
LAST-MODIFIED:20260206T033323Z
UID:125969-1782765000-1782770400@cevibasel.ch
SUMMARY:Hattrick Ladies\, 20.30-22.00
DESCRIPTION:
URL:https://cevibasel.ch/veranstaltung/hattrick-ladies-20-30-22-00-198/
LOCATION:Fussballfelder Pfaffenholz
END:VEVENT
BEGIN:VEVENT
DTSTART;TZID=Europe/Zurich:20260630T173000
DTEND;TZID=Europe/Zurich:20260630T190000
DTSTAMP:20260423T120537
CREATED:20240724T090435Z
LAST-MODIFIED:20260206T033323Z
UID:125972-1782840600-1782846000@cevibasel.ch
SUMMARY:Hattrick Riehen (1. bis 3. Klasse)
DESCRIPTION:
URL:https://cevibasel.ch/veranstaltung/hattrick-riehen-1-bis-3-klasse-163/
LOCATION:Fussballplatz Andreasmatte
END:VEVENT
BEGIN:VEVENT
DTSTART;TZID=Europe/Zurich:20260630T180000
DTEND;TZID=Europe/Zurich:20260630T193000
DTSTAMP:20260423T120537
CREATED:20240724T090435Z
LAST-MODIFIED:20260206T033323Z
UID:125971-1782842400-1782847800@cevibasel.ch
SUMMARY:Hattrick Gellert (7-12 Jahre)
DESCRIPTION:
URL:https://cevibasel.ch/veranstaltung/hattrick-gellert-7-12-jahre-163/
LOCATION:Fussballplatz Luftmatt
END:VEVENT
BEGIN:VEVENT
DTSTART;TZID=Europe/Zurich:20260630T190000
DTEND;TZID=Europe/Zurich:20260630T203000
DTSTAMP:20260423T120537
CREATED:20240724T090435Z
LAST-MODIFIED:20260206T033323Z
UID:125973-1782846000-1782851400@cevibasel.ch
SUMMARY:Hattrick Riehen (6. bis 7. Klasse)
DESCRIPTION:
URL:https://cevibasel.ch/veranstaltung/hattrick-riehen-6-bis-7-klasse-163/
LOCATION:Fussballplatz Andreasmatte
END:VEVENT
BEGIN:VEVENT
DTSTART;TZID=Europe/Zurich:20260701T183000
DTEND;TZID=Europe/Zurich:20260701T210000
DTSTAMP:20260423T120537
CREATED:20240724T090436Z
LAST-MODIFIED:20260206T033323Z
UID:125974-1782930600-1782939600@cevibasel.ch
SUMMARY:Ten Sing
DESCRIPTION:
URL:https://cevibasel.ch/veranstaltung/ten-sing-162/
LOCATION:CVJM Haus Kleinbasel
END:VEVENT
BEGIN:VEVENT
DTSTART;TZID=Europe/Zurich:20260702T083000
DTEND;TZID=Europe/Zurich:20260702T113000
DTSTAMP:20260423T120537
CREATED:20240815T050209Z
LAST-MODIFIED:20241214T053407Z
UID:129221-1782981000-1782991800@cevibasel.ch
SUMMARY:Mütterngruppe
DESCRIPTION:
URL:https://cevibasel.ch/veranstaltung/mutterngruppe-454/
LOCATION:Cevi Seki
END:VEVENT
BEGIN:VEVENT
DTSTART;TZID=Europe/Zurich:20260702T083000
DTEND;TZID=Europe/Zurich:20260702T113000
DTSTAMP:20260423T120537
CREATED:20240815T050209Z
LAST-MODIFIED:20260206T033337Z
UID:129222-1782981000-1782991800@cevibasel.ch
SUMMARY:Mütterngruppe
DESCRIPTION:
URL:https://cevibasel.ch/veranstaltung/mutterngruppe-455/
LOCATION:Cevi Seki
END:VEVENT
BEGIN:VEVENT
DTSTART;TZID=Europe/Zurich:20260702T083000
DTEND;TZID=Europe/Zurich:20260702T113000
DTSTAMP:20260423T120537
CREATED:20240815T050209Z
LAST-MODIFIED:20241214T053407Z
UID:129223-1782981000-1782991800@cevibasel.ch
SUMMARY:Mütterngruppe
DESCRIPTION:
URL:https://cevibasel.ch/veranstaltung/mutterngruppe-456/
LOCATION:Cevi Seki
END:VEVENT
BEGIN:VEVENT
DTSTART;TZID=Europe/Zurich:20260702T083000
DTEND;TZID=Europe/Zurich:20260702T113000
DTSTAMP:20260423T120537
CREATED:20240815T050209Z
LAST-MODIFIED:20241214T053411Z
UID:129220-1782981000-1782991800@cevibasel.ch
SUMMARY:Mütterngruppe
DESCRIPTION:
URL:https://cevibasel.ch/veranstaltung/mutterngruppe-453/
LOCATION:Cevi Seki
END:VEVENT
BEGIN:VEVENT
DTSTART;TZID=Europe/Zurich:20260702T083000
DTEND;TZID=Europe/Zurich:20260702T113000
DTSTAMP:20260423T120537
CREATED:20240815T050210Z
LAST-MODIFIED:20241214T053404Z
UID:129224-1782981000-1782991800@cevibasel.ch
SUMMARY:Mütterngruppe
DESCRIPTION:
URL:https://cevibasel.ch/veranstaltung/mutterngruppe-457/
LOCATION:Cevi Seki
END:VEVENT
BEGIN:VEVENT
DTSTART;TZID=Europe/Zurich:20260702T083000
DTEND;TZID=Europe/Zurich:20260702T113000
DTSTAMP:20260423T120537
CREATED:20240815T050210Z
LAST-MODIFIED:20241214T053407Z
UID:129225-1782981000-1782991800@cevibasel.ch
SUMMARY:Mütterngruppe
DESCRIPTION:
URL:https://cevibasel.ch/veranstaltung/mutterngruppe-458/
LOCATION:Cevi Seki
END:VEVENT
BEGIN:VEVENT
DTSTART;TZID=Europe/Zurich:20260702T083000
DTEND;TZID=Europe/Zurich:20260702T113000
DTSTAMP:20260423T120537
CREATED:20240815T050211Z
LAST-MODIFIED:20241214T053404Z
UID:129227-1782981000-1782991800@cevibasel.ch
SUMMARY:Mütterngruppe
DESCRIPTION:
URL:https://cevibasel.ch/veranstaltung/mutterngruppe-460/
LOCATION:Cevi Seki
END:VEVENT
BEGIN:VEVENT
DTSTART;TZID=Europe/Zurich:20260702T083000
DTEND;TZID=Europe/Zurich:20260702T113000
DTSTAMP:20260423T120537
CREATED:20240815T050211Z
LAST-MODIFIED:20241214T053407Z
UID:129228-1782981000-1782991800@cevibasel.ch
SUMMARY:Mütterngruppe
DESCRIPTION:
URL:https://cevibasel.ch/veranstaltung/mutterngruppe-461/
LOCATION:Cevi Seki
END:VEVENT
BEGIN:VEVENT
DTSTART;TZID=Europe/Zurich:20260702T083000
DTEND;TZID=Europe/Zurich:20260702T113000
DTSTAMP:20260423T120537
CREATED:20240815T050211Z
LAST-MODIFIED:20241214T053411Z
UID:129226-1782981000-1782991800@cevibasel.ch
SUMMARY:Mütterngruppe
DESCRIPTION:
URL:https://cevibasel.ch/veranstaltung/mutterngruppe-459/
LOCATION:Cevi Seki
END:VEVENT
BEGIN:VEVENT
DTSTART;TZID=Europe/Zurich:20260703T173000
DTEND;TZID=Europe/Zurich:20260703T190000
DTSTAMP:20260423T120537
CREATED:20240724T090436Z
LAST-MODIFIED:20260206T033337Z
UID:125976-1783099800-1783105200@cevibasel.ch
SUMMARY:Hattrick Basel West (7-15 Jahre)
DESCRIPTION:
URL:https://cevibasel.ch/veranstaltung/hattrick-basel-west-7-15-jahre-163/
END:VEVENT
BEGIN:VEVENT
DTSTART;TZID=Europe/Zurich:20260703T173000
DTEND;TZID=Europe/Zurich:20260703T190000
DTSTAMP:20260423T120537
CREATED:20240724T090436Z
LAST-MODIFIED:20260206T033337Z
UID:125977-1783099800-1783105200@cevibasel.ch
SUMMARY:Hattrick Riehen (4. bis 5. Klasse)
DESCRIPTION:
URL:https://cevibasel.ch/veranstaltung/hattrick-riehen-4-bis-5-klasse-163/
LOCATION:Andreasmatte
END:VEVENT
BEGIN:VEVENT
DTSTART;TZID=Europe/Zurich:20260703T190000
DTEND;TZID=Europe/Zurich:20260703T203000
DTSTAMP:20260423T120537
CREATED:20240724T090436Z
LAST-MODIFIED:20260206T033337Z
UID:125975-1783105200-1783110600@cevibasel.ch
SUMMARY:Hattrick Basel West (16-18 Jahre)
DESCRIPTION:
URL:https://cevibasel.ch/veranstaltung/hattrick-basel-west-16-18-jahre-163/
LOCATION:Fussballfelder Pfaffenholz
END:VEVENT
END:VCALENDAR