BEGIN:VCALENDAR
VERSION:2.0
PRODID:-//Cevi Region Basel - ECPv6.15.20//NONSGML v1.0//EN
CALSCALE:GREGORIAN
METHOD:PUBLISH
X-ORIGINAL-URL:https://cevibasel.ch
X-WR-CALDESC:Events for Cevi Region Basel
REFRESH-INTERVAL;VALUE=DURATION:PT1H
X-Robots-Tag:noindex
X-PUBLISHED-TTL:PT1H
BEGIN:VTIMEZONE
TZID:Europe/Zurich
BEGIN:DAYLIGHT
TZOFFSETFROM:+0100
TZOFFSETTO:+0200
TZNAME:CEST
DTSTART:20250330T010000
END:DAYLIGHT
BEGIN:STANDARD
TZOFFSETFROM:+0200
TZOFFSETTO:+0100
TZNAME:CET
DTSTART:20251026T010000
END:STANDARD
BEGIN:DAYLIGHT
TZOFFSETFROM:+0100
TZOFFSETTO:+0200
TZNAME:CEST
DTSTART:20260329T010000
END:DAYLIGHT
BEGIN:STANDARD
TZOFFSETFROM:+0200
TZOFFSETTO:+0100
TZNAME:CET
DTSTART:20261025T010000
END:STANDARD
BEGIN:DAYLIGHT
TZOFFSETFROM:+0100
TZOFFSETTO:+0200
TZNAME:CEST
DTSTART:20270328T010000
END:DAYLIGHT
BEGIN:STANDARD
TZOFFSETFROM:+0200
TZOFFSETTO:+0100
TZNAME:CET
DTSTART:20271031T010000
END:STANDARD
END:VTIMEZONE
BEGIN:VEVENT
DTSTART;TZID=Europe/Zurich:20260707T173000
DTEND;TZID=Europe/Zurich:20260707T190000
DTSTAMP:20260423T133543
CREATED:20240724T101939Z
LAST-MODIFIED:20260206T033339Z
UID:126023-1783445400-1783450800@cevibasel.ch
SUMMARY:Hattrick Riehen (1. bis 3. Klasse)
DESCRIPTION:
URL:https://cevibasel.ch/veranstaltung/hattrick-riehen-1-bis-3-klasse-164/
LOCATION:Fussballplatz Andreasmatte
END:VEVENT
BEGIN:VEVENT
DTSTART;TZID=Europe/Zurich:20260707T180000
DTEND;TZID=Europe/Zurich:20260707T193000
DTSTAMP:20260423T133543
CREATED:20240724T101939Z
LAST-MODIFIED:20260206T033339Z
UID:126022-1783447200-1783452600@cevibasel.ch
SUMMARY:Hattrick Gellert (7-12 Jahre)
DESCRIPTION:
URL:https://cevibasel.ch/veranstaltung/hattrick-gellert-7-12-jahre-164/
LOCATION:Fussballplatz Luftmatt
END:VEVENT
BEGIN:VEVENT
DTSTART;TZID=Europe/Zurich:20260707T190000
DTEND;TZID=Europe/Zurich:20260707T203000
DTSTAMP:20260423T133543
CREATED:20240724T101939Z
LAST-MODIFIED:20260206T033339Z
UID:126024-1783450800-1783456200@cevibasel.ch
SUMMARY:Hattrick Riehen (6. bis 7. Klasse)
DESCRIPTION:
URL:https://cevibasel.ch/veranstaltung/hattrick-riehen-6-bis-7-klasse-164/
LOCATION:Fussballplatz Andreasmatte
END:VEVENT
BEGIN:VEVENT
DTSTART;TZID=Europe/Zurich:20260708T083000
DTEND;TZID=Europe/Zurich:20260708T110000
DTSTAMP:20260423T133543
CREATED:20240815T050222Z
LAST-MODIFIED:20260206T033341Z
UID:129247-1783499400-1783508400@cevibasel.ch
SUMMARY:Mütterngruppe
DESCRIPTION:
URL:https://cevibasel.ch/veranstaltung/mutterngruppe-462/
LOCATION:Cevi Seki
END:VEVENT
BEGIN:VEVENT
DTSTART;TZID=Europe/Zurich:20260708T183000
DTEND;TZID=Europe/Zurich:20260708T210000
DTSTAMP:20260423T133543
CREATED:20240724T101939Z
LAST-MODIFIED:20260206T033341Z
UID:126025-1783535400-1783544400@cevibasel.ch
SUMMARY:Ten Sing
DESCRIPTION:
URL:https://cevibasel.ch/veranstaltung/ten-sing-163/
LOCATION:CVJM Haus Kleinbasel
END:VEVENT
BEGIN:VEVENT
DTSTART;TZID=Europe/Zurich:20260709T080000
DTEND;TZID=Europe/Zurich:20260709T103000
DTSTAMP:20260423T133543
CREATED:20240724T101941Z
LAST-MODIFIED:20240811T144856Z
UID:126026-1783584000-1783593000@cevibasel.ch
SUMMARY:Mütterngruppe
DESCRIPTION:
URL:https://cevibasel.ch/veranstaltung/mutterngruppe/
LOCATION:Cevi Seki
END:VEVENT
BEGIN:VEVENT
DTSTART;TZID=Europe/Zurich:20260710T173000
DTEND;TZID=Europe/Zurich:20260710T190000
DTSTAMP:20260423T133543
CREATED:20240724T101941Z
LAST-MODIFIED:20260206T033341Z
UID:126028-1783704600-1783710000@cevibasel.ch
SUMMARY:Hattrick Basel West (7-15 Jahre)
DESCRIPTION:
URL:https://cevibasel.ch/veranstaltung/hattrick-basel-west-7-15-jahre-164/
END:VEVENT
BEGIN:VEVENT
DTSTART;TZID=Europe/Zurich:20260710T173000
DTEND;TZID=Europe/Zurich:20260710T190000
DTSTAMP:20260423T133543
CREATED:20240724T101941Z
LAST-MODIFIED:20260206T033341Z
UID:126029-1783704600-1783710000@cevibasel.ch
SUMMARY:Hattrick Riehen (4. bis 5. Klasse)
DESCRIPTION:
URL:https://cevibasel.ch/veranstaltung/hattrick-riehen-4-bis-5-klasse-164/
LOCATION:Andreasmatte
END:VEVENT
BEGIN:VEVENT
DTSTART;TZID=Europe/Zurich:20260710T190000
DTEND;TZID=Europe/Zurich:20260710T203000
DTSTAMP:20260423T133543
CREATED:20240724T101941Z
LAST-MODIFIED:20260206T033341Z
UID:126027-1783710000-1783715400@cevibasel.ch
SUMMARY:Hattrick Basel West (16-18 Jahre)
DESCRIPTION:
URL:https://cevibasel.ch/veranstaltung/hattrick-basel-west-16-18-jahre-164/
LOCATION:Fussballfelder Pfaffenholz
END:VEVENT
BEGIN:VEVENT
DTSTART;VALUE=DATE:20260711
DTEND;VALUE=DATE:20260712
DTSTAMP:20260423T133543
CREATED:20251120T030219Z
LAST-MODIFIED:20260206T033344Z
UID:169907-1783728000-1783814399@cevibasel.ch
SUMMARY:Jungschar Angebote
DESCRIPTION:
URL:https://cevibasel.ch/veranstaltung/jungscharangebote-28/
END:VEVENT
BEGIN:VEVENT
DTSTART;TZID=Europe/Zurich:20260711T133000
DTEND;TZID=Europe/Zurich:20260711T153000
DTSTAMP:20260423T133543
CREATED:20240724T101941Z
LAST-MODIFIED:20251120T120703Z
UID:126030-1783776600-1783783800@cevibasel.ch
SUMMARY:Hattrick Gundeli (6-11 Jahre)
DESCRIPTION:
URL:https://cevibasel.ch/veranstaltung/hattrick-gundeli-6-11-jahre-164/
LOCATION:Margarethenpark
END:VEVENT
BEGIN:VEVENT
DTSTART;TZID=Europe/Zurich:20260711T140000
DTEND;TZID=Europe/Zurich:20260711T170000
DTSTAMP:20260423T133543
CREATED:20240724T103239Z
LAST-MODIFIED:20251117T005405Z
UID:126043-1783778400-1783789200@cevibasel.ch
SUMMARY:Jungschi Binningen
DESCRIPTION:
URL:https://cevibasel.ch/veranstaltung/jungschi-binningen-164/
END:VEVENT
BEGIN:VEVENT
DTSTART;TZID=Europe/Zurich:20260711T140000
DTEND;TZID=Europe/Zurich:20260711T170000
DTSTAMP:20260423T133543
CREATED:20240724T103239Z
LAST-MODIFIED:20251117T005405Z
UID:126044-1783778400-1783789200@cevibasel.ch
SUMMARY:Jungschi Ettigen & Therwil
DESCRIPTION:
URL:https://cevibasel.ch/veranstaltung/jungschi-ettigen-therwil-164/
END:VEVENT
BEGIN:VEVENT
DTSTART;TZID=Europe/Zurich:20260711T140000
DTEND;TZID=Europe/Zurich:20260711T170000
DTSTAMP:20260423T133543
CREATED:20240724T103239Z
LAST-MODIFIED:20251117T005403Z
UID:126045-1783778400-1783789200@cevibasel.ch
SUMMARY:Jungschi Thomas
DESCRIPTION:
URL:https://cevibasel.ch/veranstaltung/jungschi-thomas-164/
END:VEVENT
BEGIN:VEVENT
DTSTART;TZID=Europe/Zurich:20260711T140000
DTEND;TZID=Europe/Zurich:20260711T170000
DTSTAMP:20260423T133543
CREATED:20240724T103239Z
LAST-MODIFIED:20251117T005405Z
UID:126041-1783778400-1783789200@cevibasel.ch
SUMMARY:Jungschi Allschwil
DESCRIPTION:
URL:https://cevibasel.ch/veranstaltung/jungschi-allschwil-164/
END:VEVENT
BEGIN:VEVENT
DTSTART;TZID=Europe/Zurich:20260711T140000
DTEND;TZID=Europe/Zurich:20260711T170000
DTSTAMP:20260423T133543
CREATED:20240724T103239Z
LAST-MODIFIED:20241105T080255Z
UID:126042-1783778400-1783789200@cevibasel.ch
SUMMARY:Jungschi Reinach
DESCRIPTION:
URL:https://cevibasel.ch/veranstaltung/jungschi-reinach-164/
END:VEVENT
BEGIN:VEVENT
DTSTART;TZID=Europe/Zurich:20260711T140000
DTEND;TZID=Europe/Zurich:20260711T170000
DTSTAMP:20260423T133543
CREATED:20240724T103240Z
LAST-MODIFIED:20241105T080255Z
UID:126048-1783778400-1783789200@cevibasel.ch
SUMMARY:Jungschi Muttenz
DESCRIPTION:
URL:https://cevibasel.ch/veranstaltung/jungschi-muttenz-164/
END:VEVENT
BEGIN:VEVENT
DTSTART;TZID=Europe/Zurich:20260711T140000
DTEND;TZID=Europe/Zurich:20260711T170000
DTSTAMP:20260423T133543
CREATED:20240724T103240Z
LAST-MODIFIED:20251117T005405Z
UID:126049-1783778400-1783789200@cevibasel.ch
SUMMARY:Jungschi Gotthelf-Neubad
DESCRIPTION:
URL:https://cevibasel.ch/veranstaltung/jungschi-gotthelf-neubad-164/
END:VEVENT
BEGIN:VEVENT
DTSTART;TZID=Europe/Zurich:20260711T140000
DTEND;TZID=Europe/Zurich:20260711T170000
DTSTAMP:20260423T133543
CREATED:20240724T103240Z
LAST-MODIFIED:20251117T005404Z
UID:126046-1783778400-1783789200@cevibasel.ch
SUMMARY:Jungschi Bubendorf
DESCRIPTION:
URL:https://cevibasel.ch/veranstaltung/jungschi-bubendorf-164/
END:VEVENT
BEGIN:VEVENT
DTSTART;TZID=Europe/Zurich:20260711T140000
DTEND;TZID=Europe/Zurich:20260711T170000
DTSTAMP:20260423T133543
CREATED:20240724T103240Z
LAST-MODIFIED:20251117T005403Z
UID:126047-1783778400-1783789200@cevibasel.ch
SUMMARY:Jungschi Titus
DESCRIPTION:
URL:https://cevibasel.ch/veranstaltung/jungschi-titus-164/
END:VEVENT
BEGIN:VEVENT
DTSTART;TZID=Europe/Zurich:20260713T190000
DTEND;TZID=Europe/Zurich:20260713T203000
DTSTAMP:20260423T133543
CREATED:20240724T103242Z
LAST-MODIFIED:20260206T033344Z
UID:126051-1783969200-1783974600@cevibasel.ch
SUMMARY:Hattrick Men\, 19.00-20.30
DESCRIPTION:
URL:https://cevibasel.ch/veranstaltung/hattrick-men-19-00-20-30-199/
LOCATION:Fussballfelder Pfaffenholz
END:VEVENT
BEGIN:VEVENT
DTSTART;TZID=Europe/Zurich:20260713T203000
DTEND;TZID=Europe/Zurich:20260713T220000
DTSTAMP:20260423T133543
CREATED:20240724T103240Z
LAST-MODIFIED:20260206T033344Z
UID:126050-1783974600-1783980000@cevibasel.ch
SUMMARY:Hattrick Ladies\, 20.30-22.00
DESCRIPTION:
URL:https://cevibasel.ch/veranstaltung/hattrick-ladies-20-30-22-00-200/
LOCATION:Fussballfelder Pfaffenholz
END:VEVENT
BEGIN:VEVENT
DTSTART;TZID=Europe/Zurich:20260714T173000
DTEND;TZID=Europe/Zurich:20260714T190000
DTSTAMP:20260423T133543
CREATED:20240724T103242Z
LAST-MODIFIED:20260206T033349Z
UID:126053-1784050200-1784055600@cevibasel.ch
SUMMARY:Hattrick Riehen (1. bis 3. Klasse)
DESCRIPTION:
URL:https://cevibasel.ch/veranstaltung/hattrick-riehen-1-bis-3-klasse-165/
LOCATION:Fussballplatz Andreasmatte
END:VEVENT
BEGIN:VEVENT
DTSTART;TZID=Europe/Zurich:20260714T180000
DTEND;TZID=Europe/Zurich:20260714T193000
DTSTAMP:20260423T133543
CREATED:20240724T103242Z
LAST-MODIFIED:20260206T033344Z
UID:126052-1784052000-1784057400@cevibasel.ch
SUMMARY:Hattrick Gellert (7-12 Jahre)
DESCRIPTION:
URL:https://cevibasel.ch/veranstaltung/hattrick-gellert-7-12-jahre-165/
LOCATION:Fussballplatz Luftmatt
END:VEVENT
BEGIN:VEVENT
DTSTART;TZID=Europe/Zurich:20260714T190000
DTEND;TZID=Europe/Zurich:20260714T203000
DTSTAMP:20260423T133543
CREATED:20240724T103242Z
LAST-MODIFIED:20260206T033344Z
UID:126054-1784055600-1784061000@cevibasel.ch
SUMMARY:Hattrick Riehen (6. bis 7. Klasse)
DESCRIPTION:
URL:https://cevibasel.ch/veranstaltung/hattrick-riehen-6-bis-7-klasse-165/
LOCATION:Fussballplatz Andreasmatte
END:VEVENT
BEGIN:VEVENT
DTSTART;TZID=Europe/Zurich:20260715T183000
DTEND;TZID=Europe/Zurich:20260715T210000
DTSTAMP:20260423T133543
CREATED:20240724T103242Z
LAST-MODIFIED:20260206T033349Z
UID:126055-1784140200-1784149200@cevibasel.ch
SUMMARY:Ten Sing
DESCRIPTION:
URL:https://cevibasel.ch/veranstaltung/ten-sing-164/
LOCATION:CVJM Haus Kleinbasel
END:VEVENT
BEGIN:VEVENT
DTSTART;TZID=Europe/Zurich:20260716T083000
DTEND;TZID=Europe/Zurich:20260716T113000
DTSTAMP:20260423T133543
CREATED:20240815T050238Z
LAST-MODIFIED:20241214T053430Z
UID:129268-1784190600-1784201400@cevibasel.ch
SUMMARY:Mütterngruppe
DESCRIPTION:
URL:https://cevibasel.ch/veranstaltung/mutterngruppe-463/
LOCATION:Cevi Seki
END:VEVENT
BEGIN:VEVENT
DTSTART;TZID=Europe/Zurich:20260716T083000
DTEND;TZID=Europe/Zurich:20260716T113000
DTSTAMP:20260423T133543
CREATED:20240815T050239Z
LAST-MODIFIED:20260206T033349Z
UID:129269-1784190600-1784201400@cevibasel.ch
SUMMARY:Mütterngruppe
DESCRIPTION:
URL:https://cevibasel.ch/veranstaltung/mutterngruppe-464/
LOCATION:Cevi Seki
END:VEVENT
BEGIN:VEVENT
DTSTART;TZID=Europe/Zurich:20260716T083000
DTEND;TZID=Europe/Zurich:20260716T113000
DTSTAMP:20260423T133543
CREATED:20240815T050239Z
LAST-MODIFIED:20241214T053428Z
UID:129270-1784190600-1784201400@cevibasel.ch
SUMMARY:Mütterngruppe
DESCRIPTION:
URL:https://cevibasel.ch/veranstaltung/mutterngruppe-465/
LOCATION:Cevi Seki
END:VEVENT
BEGIN:VEVENT
DTSTART;TZID=Europe/Zurich:20260716T083000
DTEND;TZID=Europe/Zurich:20260716T113000
DTSTAMP:20260423T133543
CREATED:20240815T050239Z
LAST-MODIFIED:20241214T053430Z
UID:129271-1784190600-1784201400@cevibasel.ch
SUMMARY:Mütterngruppe
DESCRIPTION:
URL:https://cevibasel.ch/veranstaltung/mutterngruppe-466/
LOCATION:Cevi Seki
END:VEVENT
END:VCALENDAR