BEGIN:VCALENDAR
VERSION:2.0
PRODID:-//Cevi Region Basel - ECPv6.15.20//NONSGML v1.0//EN
CALSCALE:GREGORIAN
METHOD:PUBLISH
X-ORIGINAL-URL:https://cevibasel.ch
X-WR-CALDESC:Events for Cevi Region Basel
REFRESH-INTERVAL;VALUE=DURATION:PT1H
X-Robots-Tag:noindex
X-PUBLISHED-TTL:PT1H
BEGIN:VTIMEZONE
TZID:Europe/Zurich
BEGIN:DAYLIGHT
TZOFFSETFROM:+0100
TZOFFSETTO:+0200
TZNAME:CEST
DTSTART:20250330T010000
END:DAYLIGHT
BEGIN:STANDARD
TZOFFSETFROM:+0200
TZOFFSETTO:+0100
TZNAME:CET
DTSTART:20251026T010000
END:STANDARD
BEGIN:DAYLIGHT
TZOFFSETFROM:+0100
TZOFFSETTO:+0200
TZNAME:CEST
DTSTART:20260329T010000
END:DAYLIGHT
BEGIN:STANDARD
TZOFFSETFROM:+0200
TZOFFSETTO:+0100
TZNAME:CET
DTSTART:20261025T010000
END:STANDARD
BEGIN:DAYLIGHT
TZOFFSETFROM:+0100
TZOFFSETTO:+0200
TZNAME:CEST
DTSTART:20270328T010000
END:DAYLIGHT
BEGIN:STANDARD
TZOFFSETFROM:+0200
TZOFFSETTO:+0100
TZNAME:CET
DTSTART:20271031T010000
END:STANDARD
END:VTIMEZONE
BEGIN:VEVENT
DTSTART;TZID=Europe/Zurich:20260714T173000
DTEND;TZID=Europe/Zurich:20260714T190000
DTSTAMP:20260423T120503
CREATED:20240724T103242Z
LAST-MODIFIED:20260206T033349Z
UID:126053-1784050200-1784055600@cevibasel.ch
SUMMARY:Hattrick Riehen (1. bis 3. Klasse)
DESCRIPTION:
URL:https://cevibasel.ch/veranstaltung/hattrick-riehen-1-bis-3-klasse-165/
LOCATION:Fussballplatz Andreasmatte
END:VEVENT
BEGIN:VEVENT
DTSTART;TZID=Europe/Zurich:20260714T180000
DTEND;TZID=Europe/Zurich:20260714T193000
DTSTAMP:20260423T120503
CREATED:20240724T103242Z
LAST-MODIFIED:20260206T033344Z
UID:126052-1784052000-1784057400@cevibasel.ch
SUMMARY:Hattrick Gellert (7-12 Jahre)
DESCRIPTION:
URL:https://cevibasel.ch/veranstaltung/hattrick-gellert-7-12-jahre-165/
LOCATION:Fussballplatz Luftmatt
END:VEVENT
BEGIN:VEVENT
DTSTART;TZID=Europe/Zurich:20260714T190000
DTEND;TZID=Europe/Zurich:20260714T203000
DTSTAMP:20260423T120503
CREATED:20240724T103242Z
LAST-MODIFIED:20260206T033344Z
UID:126054-1784055600-1784061000@cevibasel.ch
SUMMARY:Hattrick Riehen (6. bis 7. Klasse)
DESCRIPTION:
URL:https://cevibasel.ch/veranstaltung/hattrick-riehen-6-bis-7-klasse-165/
LOCATION:Fussballplatz Andreasmatte
END:VEVENT
BEGIN:VEVENT
DTSTART;TZID=Europe/Zurich:20260715T183000
DTEND;TZID=Europe/Zurich:20260715T210000
DTSTAMP:20260423T120503
CREATED:20240724T103242Z
LAST-MODIFIED:20260206T033349Z
UID:126055-1784140200-1784149200@cevibasel.ch
SUMMARY:Ten Sing
DESCRIPTION:
URL:https://cevibasel.ch/veranstaltung/ten-sing-164/
LOCATION:CVJM Haus Kleinbasel
END:VEVENT
BEGIN:VEVENT
DTSTART;TZID=Europe/Zurich:20260716T083000
DTEND;TZID=Europe/Zurich:20260716T113000
DTSTAMP:20260423T120503
CREATED:20240815T050238Z
LAST-MODIFIED:20241214T053430Z
UID:129268-1784190600-1784201400@cevibasel.ch
SUMMARY:Mütterngruppe
DESCRIPTION:
URL:https://cevibasel.ch/veranstaltung/mutterngruppe-463/
LOCATION:Cevi Seki
END:VEVENT
BEGIN:VEVENT
DTSTART;TZID=Europe/Zurich:20260716T083000
DTEND;TZID=Europe/Zurich:20260716T113000
DTSTAMP:20260423T120503
CREATED:20240815T050239Z
LAST-MODIFIED:20260206T033349Z
UID:129269-1784190600-1784201400@cevibasel.ch
SUMMARY:Mütterngruppe
DESCRIPTION:
URL:https://cevibasel.ch/veranstaltung/mutterngruppe-464/
LOCATION:Cevi Seki
END:VEVENT
BEGIN:VEVENT
DTSTART;TZID=Europe/Zurich:20260716T083000
DTEND;TZID=Europe/Zurich:20260716T113000
DTSTAMP:20260423T120503
CREATED:20240815T050239Z
LAST-MODIFIED:20241214T053428Z
UID:129270-1784190600-1784201400@cevibasel.ch
SUMMARY:Mütterngruppe
DESCRIPTION:
URL:https://cevibasel.ch/veranstaltung/mutterngruppe-465/
LOCATION:Cevi Seki
END:VEVENT
BEGIN:VEVENT
DTSTART;TZID=Europe/Zurich:20260716T083000
DTEND;TZID=Europe/Zurich:20260716T113000
DTSTAMP:20260423T120503
CREATED:20240815T050239Z
LAST-MODIFIED:20241214T053430Z
UID:129271-1784190600-1784201400@cevibasel.ch
SUMMARY:Mütterngruppe
DESCRIPTION:
URL:https://cevibasel.ch/veranstaltung/mutterngruppe-466/
LOCATION:Cevi Seki
END:VEVENT
BEGIN:VEVENT
DTSTART;TZID=Europe/Zurich:20260716T083000
DTEND;TZID=Europe/Zurich:20260716T113000
DTSTAMP:20260423T120503
CREATED:20240815T050240Z
LAST-MODIFIED:20241214T053430Z
UID:129272-1784190600-1784201400@cevibasel.ch
SUMMARY:Mütterngruppe
DESCRIPTION:
URL:https://cevibasel.ch/veranstaltung/mutterngruppe-467/
LOCATION:Cevi Seki
END:VEVENT
BEGIN:VEVENT
DTSTART;TZID=Europe/Zurich:20260716T083000
DTEND;TZID=Europe/Zurich:20260716T113000
DTSTAMP:20260423T120503
CREATED:20240815T050240Z
LAST-MODIFIED:20241214T053428Z
UID:129273-1784190600-1784201400@cevibasel.ch
SUMMARY:Mütterngruppe
DESCRIPTION:
URL:https://cevibasel.ch/veranstaltung/mutterngruppe-468/
LOCATION:Cevi Seki
END:VEVENT
BEGIN:VEVENT
DTSTART;TZID=Europe/Zurich:20260716T083000
DTEND;TZID=Europe/Zurich:20260716T113000
DTSTAMP:20260423T120503
CREATED:20240815T050241Z
LAST-MODIFIED:20241214T053430Z
UID:129274-1784190600-1784201400@cevibasel.ch
SUMMARY:Mütterngruppe
DESCRIPTION:
URL:https://cevibasel.ch/veranstaltung/mutterngruppe-469/
LOCATION:Cevi Seki
END:VEVENT
BEGIN:VEVENT
DTSTART;TZID=Europe/Zurich:20260716T083000
DTEND;TZID=Europe/Zurich:20260716T113000
DTSTAMP:20260423T120503
CREATED:20240815T050241Z
LAST-MODIFIED:20241214T053430Z
UID:129275-1784190600-1784201400@cevibasel.ch
SUMMARY:Mütterngruppe
DESCRIPTION:
URL:https://cevibasel.ch/veranstaltung/mutterngruppe-470/
LOCATION:Cevi Seki
END:VEVENT
BEGIN:VEVENT
DTSTART;TZID=Europe/Zurich:20260716T083000
DTEND;TZID=Europe/Zurich:20260716T113000
DTSTAMP:20260423T120503
CREATED:20240815T050241Z
LAST-MODIFIED:20241214T053432Z
UID:129276-1784190600-1784201400@cevibasel.ch
SUMMARY:Mütterngruppe
DESCRIPTION:
URL:https://cevibasel.ch/veranstaltung/mutterngruppe-471/
LOCATION:Cevi Seki
END:VEVENT
BEGIN:VEVENT
DTSTART;TZID=Europe/Zurich:20260717T173000
DTEND;TZID=Europe/Zurich:20260717T190000
DTSTAMP:20260423T120503
CREATED:20240724T103243Z
LAST-MODIFIED:20260206T033350Z
UID:126057-1784309400-1784314800@cevibasel.ch
SUMMARY:Hattrick Basel West (7-15 Jahre)
DESCRIPTION:
URL:https://cevibasel.ch/veranstaltung/hattrick-basel-west-7-15-jahre-165/
END:VEVENT
BEGIN:VEVENT
DTSTART;TZID=Europe/Zurich:20260717T173000
DTEND;TZID=Europe/Zurich:20260717T190000
DTSTAMP:20260423T120503
CREATED:20240724T103243Z
LAST-MODIFIED:20260206T033349Z
UID:126058-1784309400-1784314800@cevibasel.ch
SUMMARY:Hattrick Riehen (4. bis 5. Klasse)
DESCRIPTION:
URL:https://cevibasel.ch/veranstaltung/hattrick-riehen-4-bis-5-klasse-165/
LOCATION:Andreasmatte
END:VEVENT
BEGIN:VEVENT
DTSTART;TZID=Europe/Zurich:20260717T190000
DTEND;TZID=Europe/Zurich:20260717T203000
DTSTAMP:20260423T120503
CREATED:20240724T103243Z
LAST-MODIFIED:20260206T033349Z
UID:126056-1784314800-1784320200@cevibasel.ch
SUMMARY:Hattrick Basel West (16-18 Jahre)
DESCRIPTION:
URL:https://cevibasel.ch/veranstaltung/hattrick-basel-west-16-18-jahre-165/
LOCATION:Fussballfelder Pfaffenholz
END:VEVENT
BEGIN:VEVENT
DTSTART;VALUE=DATE:20260718
DTEND;VALUE=DATE:20260719
DTSTAMP:20260423T120503
CREATED:20251120T030228Z
LAST-MODIFIED:20260206T033350Z
UID:169908-1784332800-1784419199@cevibasel.ch
SUMMARY:Jungschar Angebote
DESCRIPTION:
URL:https://cevibasel.ch/veranstaltung/jungscharangebote-29/
END:VEVENT
BEGIN:VEVENT
DTSTART;TZID=Europe/Zurich:20260718T133000
DTEND;TZID=Europe/Zurich:20260718T153000
DTSTAMP:20260423T120503
CREATED:20240724T103248Z
LAST-MODIFIED:20251120T120706Z
UID:126068-1784381400-1784388600@cevibasel.ch
SUMMARY:Hattrick Gundeli (6-11 Jahre)
DESCRIPTION:
URL:https://cevibasel.ch/veranstaltung/hattrick-gundeli-6-11-jahre-165/
LOCATION:Margarethenpark
END:VEVENT
BEGIN:VEVENT
DTSTART;TZID=Europe/Zurich:20260718T140000
DTEND;TZID=Europe/Zurich:20260718T170000
DTSTAMP:20260423T120503
CREATED:20240724T103243Z
LAST-MODIFIED:20251117T005409Z
UID:126059-1784383200-1784394000@cevibasel.ch
SUMMARY:Jungschi Allschwil
DESCRIPTION:
URL:https://cevibasel.ch/veranstaltung/jungschi-allschwil-165/
END:VEVENT
BEGIN:VEVENT
DTSTART;TZID=Europe/Zurich:20260718T140000
DTEND;TZID=Europe/Zurich:20260718T170000
DTSTAMP:20260423T120503
CREATED:20240724T103243Z
LAST-MODIFIED:20251117T005408Z
UID:126060-1784383200-1784394000@cevibasel.ch
SUMMARY:Jungschi Bubendorf
DESCRIPTION:
URL:https://cevibasel.ch/veranstaltung/jungschi-bubendorf-165/
END:VEVENT
BEGIN:VEVENT
DTSTART;TZID=Europe/Zurich:20260718T140000
DTEND;TZID=Europe/Zurich:20260718T170000
DTSTAMP:20260423T120503
CREATED:20240724T103246Z
LAST-MODIFIED:20251117T005409Z
UID:126063-1784383200-1784394000@cevibasel.ch
SUMMARY:Jungschi Gotthelf-Neubad
DESCRIPTION:
URL:https://cevibasel.ch/veranstaltung/jungschi-gotthelf-neubad-165/
END:VEVENT
BEGIN:VEVENT
DTSTART;TZID=Europe/Zurich:20260718T140000
DTEND;TZID=Europe/Zurich:20260718T170000
DTSTAMP:20260423T120503
CREATED:20240724T103246Z
LAST-MODIFIED:20251117T005408Z
UID:126064-1784383200-1784394000@cevibasel.ch
SUMMARY:Jungschi Thomas
DESCRIPTION:
URL:https://cevibasel.ch/veranstaltung/jungschi-thomas-165/
END:VEVENT
BEGIN:VEVENT
DTSTART;TZID=Europe/Zurich:20260718T140000
DTEND;TZID=Europe/Zurich:20260718T170000
DTSTAMP:20260423T120503
CREATED:20240724T103246Z
LAST-MODIFIED:20251117T005409Z
UID:126065-1784383200-1784394000@cevibasel.ch
SUMMARY:Jungschi Ettigen & Therwil
DESCRIPTION:
URL:https://cevibasel.ch/veranstaltung/jungschi-ettigen-therwil-165/
END:VEVENT
BEGIN:VEVENT
DTSTART;TZID=Europe/Zurich:20260718T140000
DTEND;TZID=Europe/Zurich:20260718T170000
DTSTAMP:20260423T120503
CREATED:20240724T103246Z
LAST-MODIFIED:20241105T080312Z
UID:126061-1784383200-1784394000@cevibasel.ch
SUMMARY:Jungschi Reinach
DESCRIPTION:
URL:https://cevibasel.ch/veranstaltung/jungschi-reinach-165/
END:VEVENT
BEGIN:VEVENT
DTSTART;TZID=Europe/Zurich:20260718T140000
DTEND;TZID=Europe/Zurich:20260718T170000
DTSTAMP:20260423T120503
CREATED:20240724T103246Z
LAST-MODIFIED:20251117T005408Z
UID:126062-1784383200-1784394000@cevibasel.ch
SUMMARY:Jungschi Titus
DESCRIPTION:
URL:https://cevibasel.ch/veranstaltung/jungschi-titus-165/
END:VEVENT
BEGIN:VEVENT
DTSTART;TZID=Europe/Zurich:20260718T140000
DTEND;TZID=Europe/Zurich:20260718T170000
DTSTAMP:20260423T120503
CREATED:20240724T103248Z
LAST-MODIFIED:20241105T080313Z
UID:126066-1784383200-1784394000@cevibasel.ch
SUMMARY:Jungschi Muttenz
DESCRIPTION:
URL:https://cevibasel.ch/veranstaltung/jungschi-muttenz-165/
END:VEVENT
BEGIN:VEVENT
DTSTART;TZID=Europe/Zurich:20260718T140000
DTEND;TZID=Europe/Zurich:20260718T170000
DTSTAMP:20260423T120503
CREATED:20240724T103248Z
LAST-MODIFIED:20251117T005409Z
UID:126067-1784383200-1784394000@cevibasel.ch
SUMMARY:Jungschi Binningen
DESCRIPTION:
URL:https://cevibasel.ch/veranstaltung/jungschi-binningen-165/
END:VEVENT
BEGIN:VEVENT
DTSTART;TZID=Europe/Zurich:20260720T190000
DTEND;TZID=Europe/Zurich:20260720T203000
DTSTAMP:20260423T120503
CREATED:20240724T103248Z
LAST-MODIFIED:20260206T033350Z
UID:126070-1784574000-1784579400@cevibasel.ch
SUMMARY:Hattrick Men\, 19.00-20.30
DESCRIPTION:
URL:https://cevibasel.ch/veranstaltung/hattrick-men-19-00-20-30-200/
LOCATION:Fussballfelder Pfaffenholz
END:VEVENT
BEGIN:VEVENT
DTSTART;TZID=Europe/Zurich:20260720T203000
DTEND;TZID=Europe/Zurich:20260720T220000
DTSTAMP:20260423T120503
CREATED:20240724T103248Z
LAST-MODIFIED:20260206T033350Z
UID:126069-1784579400-1784584800@cevibasel.ch
SUMMARY:Hattrick Ladies\, 20.30-22.00
DESCRIPTION:
URL:https://cevibasel.ch/veranstaltung/hattrick-ladies-20-30-22-00-201/
LOCATION:Fussballfelder Pfaffenholz
END:VEVENT
BEGIN:VEVENT
DTSTART;TZID=Europe/Zurich:20260721T173000
DTEND;TZID=Europe/Zurich:20260721T190000
DTSTAMP:20260423T120503
CREATED:20240724T103249Z
LAST-MODIFIED:20260206T033352Z
UID:126072-1784655000-1784660400@cevibasel.ch
SUMMARY:Hattrick Riehen (1. bis 3. Klasse)
DESCRIPTION:
URL:https://cevibasel.ch/veranstaltung/hattrick-riehen-1-bis-3-klasse-166/
LOCATION:Fussballplatz Andreasmatte
END:VEVENT
END:VCALENDAR