BEGIN:VCALENDAR
VERSION:2.0
PRODID:-//Cevi Region Basel - ECPv6.15.20//NONSGML v1.0//EN
CALSCALE:GREGORIAN
METHOD:PUBLISH
X-WR-CALNAME:Cevi Region Basel
X-ORIGINAL-URL:https://cevibasel.ch
X-WR-CALDESC:Events for Cevi Region Basel
REFRESH-INTERVAL;VALUE=DURATION:PT1H
X-Robots-Tag:noindex
X-PUBLISHED-TTL:PT1H
BEGIN:VTIMEZONE
TZID:Europe/Zurich
BEGIN:DAYLIGHT
TZOFFSETFROM:+0100
TZOFFSETTO:+0200
TZNAME:CEST
DTSTART:20220327T010000
END:DAYLIGHT
BEGIN:STANDARD
TZOFFSETFROM:+0200
TZOFFSETTO:+0100
TZNAME:CET
DTSTART:20221030T010000
END:STANDARD
BEGIN:DAYLIGHT
TZOFFSETFROM:+0100
TZOFFSETTO:+0200
TZNAME:CEST
DTSTART:20230326T010000
END:DAYLIGHT
BEGIN:STANDARD
TZOFFSETFROM:+0200
TZOFFSETTO:+0100
TZNAME:CET
DTSTART:20231029T010000
END:STANDARD
BEGIN:DAYLIGHT
TZOFFSETFROM:+0100
TZOFFSETTO:+0200
TZNAME:CEST
DTSTART:20240331T010000
END:DAYLIGHT
BEGIN:STANDARD
TZOFFSETFROM:+0200
TZOFFSETTO:+0100
TZNAME:CET
DTSTART:20241027T010000
END:STANDARD
END:VTIMEZONE
BEGIN:VEVENT
DTSTART;VALUE=DATE:20230505
DTEND;VALUE=DATE:20230506
DTSTAMP:20260423T000141
CREATED:20230505T120530Z
LAST-MODIFIED:20230505T235326Z
UID:109278-1683244800-1683331199@cevibasel.ch
SUMMARY:Café Emma\, 9.30-11.30 Uhr
DESCRIPTION:
URL:https://cevibasel.ch/veranstaltung/cafe-emma-9-30-11-30-uhr/
END:VEVENT
BEGIN:VEVENT
DTSTART;VALUE=DATE:20230507
DTEND;VALUE=DATE:20230508
DTSTAMP:20260423T000141
CREATED:20230307T212628Z
LAST-MODIFIED:20230507T235408Z
UID:107519-1683417600-1683503999@cevibasel.ch
SUMMARY:J+S-MF
DESCRIPTION:
URL:https://cevibasel.ch/veranstaltung/js-mf-2/
END:VEVENT
BEGIN:VEVENT
DTSTART;VALUE=DATE:20230508
DTEND;VALUE=DATE:20230509
DTSTAMP:20260423T000141
CREATED:20230508T083509Z
LAST-MODIFIED:20230508T235930Z
UID:110432-1683504000-1683590399@cevibasel.ch
SUMMARY:Beachvolleyball 20.00-22.00 Uhr\, im Joggeli
DESCRIPTION:
URL:https://cevibasel.ch/veranstaltung/beachvolleyball-20-00-22-00-uhr-im-joggeli/
END:VEVENT
BEGIN:VEVENT
DTSTART;VALUE=DATE:20230509
DTEND;VALUE=DATE:20230510
DTSTAMP:20260423T000141
CREATED:20230505T103547Z
LAST-MODIFIED:20230509T235234Z
UID:109154-1683590400-1683676799@cevibasel.ch
SUMMARY:Spaghettizistig\, 12.00-14.00 Uhr
DESCRIPTION:Jeden Dienstag essen wir gemeinsam Mittagessen im Cevi Seki.
URL:https://cevibasel.ch/veranstaltung/spaghettizistig-12-00-14-00-uhr/
END:VEVENT
BEGIN:VEVENT
DTSTART;VALUE=DATE:20230510
DTEND;VALUE=DATE:20230511
DTSTAMP:20260423T000141
CREATED:20230221T113113Z
LAST-MODIFIED:20230509T082116Z
UID:107141-1683676800-1683763199@cevibasel.ch
SUMMARY:Altpapier
DESCRIPTION:
URL:https://cevibasel.ch/veranstaltung/altpapier-3/
END:VEVENT
BEGIN:VEVENT
DTSTART;VALUE=DATE:20230510
DTEND;VALUE=DATE:20230511
DTSTAMP:20260423T000141
CREATED:20230505T103547Z
LAST-MODIFIED:20230510T215157Z
UID:109153-1683676800-1683763199@cevibasel.ch
SUMMARY:Spielgruppe\, 8.30-11.30 Uhr
DESCRIPTION:
URL:https://cevibasel.ch/veranstaltung/spielgruppe-8-30-11-30-uhr-2/
END:VEVENT
BEGIN:VEVENT
DTSTART;VALUE=DATE:20230510
DTEND;VALUE=DATE:20230511
DTSTAMP:20260423T000141
CREATED:20230505T103549Z
LAST-MODIFIED:20230510T235231Z
UID:109155-1683676800-1683763199@cevibasel.ch
SUMMARY:Mütterngruppe\, 9.00-11.30 Uhr
DESCRIPTION:
URL:https://cevibasel.ch/veranstaltung/muetterngruppe-9-00-11-30-uhr/
END:VEVENT
BEGIN:VEVENT
DTSTART;VALUE=DATE:20230510
DTEND;VALUE=DATE:20230511
DTSTAMP:20260423T000141
CREATED:20230508T085042Z
LAST-MODIFIED:20230510T235231Z
UID:110457-1683676800-1683763199@cevibasel.ch
SUMMARY:Beachvolleyball 16.00-18.00 Uhr\, im Rankhof
DESCRIPTION:
URL:https://cevibasel.ch/veranstaltung/beachvolleyball-16-00-18-00-uhr-im-rankhof/
END:VEVENT
BEGIN:VEVENT
DTSTART;VALUE=DATE:20230511
DTEND;VALUE=DATE:20230512
DTSTAMP:20260423T000141
CREATED:20230505T120607Z
LAST-MODIFIED:20230511T235111Z
UID:109280-1683763200-1683849599@cevibasel.ch
SUMMARY:Café Emma\, 9.30-11.30 Uhr
DESCRIPTION:
URL:https://cevibasel.ch/veranstaltung/cafe-emma-9-30-11-30-uhr-3/
END:VEVENT
BEGIN:VEVENT
DTSTART;VALUE=DATE:20230511
DTEND;VALUE=DATE:20230512
DTSTAMP:20260423T000141
CREATED:20230508T085115Z
LAST-MODIFIED:20230511T235111Z
UID:110459-1683763200-1683849599@cevibasel.ch
SUMMARY:Beachvolleyball 20.00-22.00 Uhr\, im Rankhof
DESCRIPTION:
URL:https://cevibasel.ch/veranstaltung/beachvolleyball-20-00-22-00-uhr-im-rankhof/
END:VEVENT
BEGIN:VEVENT
DTSTART;VALUE=DATE:20230512
DTEND;VALUE=DATE:20230513
DTSTAMP:20260423T000141
CREATED:20230505T103549Z
LAST-MODIFIED:20230512T215442Z
UID:109156-1683849600-1683935999@cevibasel.ch
SUMMARY:Spielgruppe\, 8.30-11.30 Uhr
DESCRIPTION:
URL:https://cevibasel.ch/veranstaltung/spielgruppe-8-30-11-30-uhr-3/
END:VEVENT
BEGIN:VEVENT
DTSTART;VALUE=DATE:20230512
DTEND;VALUE=DATE:20230513
DTSTAMP:20260423T000141
CREATED:20230505T120607Z
LAST-MODIFIED:20230512T215442Z
UID:109279-1683849600-1683935999@cevibasel.ch
SUMMARY:Café Emma\, 9.30-11.30 Uhr
DESCRIPTION:
URL:https://cevibasel.ch/veranstaltung/cafe-emma-9-30-11-30-uhr-2/
END:VEVENT
BEGIN:VEVENT
DTSTART;VALUE=DATE:20230512
DTEND;VALUE=DATE:20230513
DTSTAMP:20260423T000141
CREATED:20230508T085115Z
LAST-MODIFIED:20230512T235007Z
UID:110458-1683849600-1683935999@cevibasel.ch
SUMMARY:Beachvolleyball 19.00-21.00 Uhr\, im Joggeli
DESCRIPTION:
URL:https://cevibasel.ch/veranstaltung/beachvolleyball-19-00-21-00-uhr-im-joggeli/
END:VEVENT
BEGIN:VEVENT
DTSTART;VALUE=DATE:20230515
DTEND;VALUE=DATE:20230516
DTSTAMP:20260423T000141
CREATED:20230508T083536Z
LAST-MODIFIED:20230515T215227Z
UID:110433-1684108800-1684195199@cevibasel.ch
SUMMARY:Beachvolleyball 20.00-22.00 Uhr\, im Joggeli
DESCRIPTION:
URL:https://cevibasel.ch/veranstaltung/beachvolleyball-20-00-22-00-uhr-im-joggeli-2/
END:VEVENT
BEGIN:VEVENT
DTSTART;VALUE=DATE:20230516
DTEND;VALUE=DATE:20230517
DTSTAMP:20260423T000141
CREATED:20230505T103549Z
LAST-MODIFIED:20230516T215550Z
UID:109158-1684195200-1684281599@cevibasel.ch
SUMMARY:Spaghettizistig\, 12.00-14.00 Uhr
DESCRIPTION:
URL:https://cevibasel.ch/veranstaltung/spaghettizistig-12-00-14-00-uhr-2/
END:VEVENT
BEGIN:VEVENT
DTSTART;VALUE=DATE:20230517
DTEND;VALUE=DATE:20230518
DTSTAMP:20260423T000141
CREATED:20230505T103549Z
LAST-MODIFIED:20230517T100718Z
UID:109157-1684281600-1684367999@cevibasel.ch
SUMMARY:Spielgruppe\, 8.30-11.30 Uhr
DESCRIPTION:
URL:https://cevibasel.ch/veranstaltung/spielgruppe-8-30-11-30-uhr-4/
END:VEVENT
BEGIN:VEVENT
DTSTART;VALUE=DATE:20230517
DTEND;VALUE=DATE:20230518
DTSTAMP:20260423T000141
CREATED:20230508T085144Z
LAST-MODIFIED:20230517T100718Z
UID:110461-1684281600-1684367999@cevibasel.ch
SUMMARY:Beachvolleyball 16.00-18.00 Uhr\, im Rankhof
DESCRIPTION:
URL:https://cevibasel.ch/veranstaltung/beachvolleyball-16-00-18-00-uhr-im-rankhof-2/
END:VEVENT
BEGIN:VEVENT
DTSTART;TZID=Europe/Zurich:20230517T160000
DTEND;TZID=Europe/Zurich:20230517T180000
DTSTAMP:20260423T000141
CREATED:20230517T102156Z
LAST-MODIFIED:20230517T155653Z
UID:111798-1684339200-1684346400@cevibasel.ch
SUMMARY:Beachvolleyballtraining
DESCRIPTION:
URL:https://cevibasel.ch/veranstaltung/beachvolleyballtraining-13/
LOCATION:Beachfelder Rankhof
END:VEVENT
BEGIN:VEVENT
DTSTART;TZID=Europe/Zurich:20230518T080000
DTEND;TZID=Europe/Zurich:20230518T103000
DTSTAMP:20260423T000141
CREATED:20230517T102157Z
LAST-MODIFIED:20230518T082016Z
UID:111799-1684396800-1684405800@cevibasel.ch
SUMMARY:Mütterngruppe
DESCRIPTION:
URL:https://cevibasel.ch/veranstaltung/muetterngruppe/
LOCATION:Cevi Seki
END:VEVENT
BEGIN:VEVENT
DTSTART;TZID=Europe/Zurich:20230518T093000
DTEND;TZID=Europe/Zurich:20230518T113000
DTSTAMP:20260423T000141
CREATED:20230517T102157Z
LAST-MODIFIED:20230518T092423Z
UID:111801-1684402200-1684409400@cevibasel.ch
SUMMARY:Café Emma\, 9.30-11.30 Uhr
DESCRIPTION:
URL:https://cevibasel.ch/veranstaltung/cafe-emma-9-30-11-30-uhr-208/
LOCATION:hyve Hotel
END:VEVENT
BEGIN:VEVENT
DTSTART;TZID=Europe/Zurich:20230518T200000
DTEND;TZID=Europe/Zurich:20230518T220000
DTSTAMP:20260423T000141
CREATED:20230517T102157Z
LAST-MODIFIED:20230518T195009Z
UID:111802-1684440000-1684447200@cevibasel.ch
SUMMARY:Beachvolleyballtraining
DESCRIPTION:
URL:https://cevibasel.ch/veranstaltung/beachvolleyballtraining-14/
LOCATION:Beachfelder Rankhof
END:VEVENT
BEGIN:VEVENT
DTSTART;VALUE=DATE:20230519
DTEND;VALUE=DATE:20230520
DTSTAMP:20260423T000141
CREATED:20230505T103549Z
LAST-MODIFIED:20230505T115448Z
UID:109159-1684454400-1684540799@cevibasel.ch
SUMMARY:Spielgruppe\, 8.30-11.30 Uhr
DESCRIPTION:
URL:https://cevibasel.ch/veranstaltung/spielgruppe-8-30-11-30-uhr-5/
END:VEVENT
BEGIN:VEVENT
DTSTART;VALUE=DATE:20230519
DTEND;VALUE=DATE:20230520
DTSTAMP:20260423T000141
CREATED:20230510T152241Z
LAST-MODIFIED:20230519T185351Z
UID:111008-1684454400-1684540799@cevibasel.ch
SUMMARY:Beachvolleyballtraining
DESCRIPTION:
URL:https://cevibasel.ch/veranstaltung/beachvolleyball-19-00-21-00-uhr-im-joggeli-61/
LOCATION:Beachfelder St. Jakob
END:VEVENT
BEGIN:VEVENT
DTSTART;VALUE=DATE:20230519
DTEND;VALUE=DATE:20230520
DTSTAMP:20260423T000141
CREATED:20230516T091122Z
LAST-MODIFIED:20230519T165221Z
UID:111045-1684454400-1684540799@cevibasel.ch
SUMMARY:Hattrick Riehen (4. bis 5. Klasse)
DESCRIPTION:
URL:https://cevibasel.ch/veranstaltung/hattrick-riehen-4-bis-5-klasse-17-30-19-00/
LOCATION:Andreasmatte
END:VEVENT
BEGIN:VEVENT
DTSTART;VALUE=DATE:20230519
DTEND;VALUE=DATE:20230520
DTSTAMP:20260423T000141
CREATED:20230516T092020Z
LAST-MODIFIED:20230519T182220Z
UID:111078-1684454400-1684540799@cevibasel.ch
SUMMARY:Hattrick Basel West (16-18 Jahre)
DESCRIPTION:
URL:https://cevibasel.ch/veranstaltung/hattrick-basel-west-16-18-jahre-19-00-20-30/
LOCATION:Fussballfelder Pfaffenholz
END:VEVENT
BEGIN:VEVENT
DTSTART;VALUE=DATE:20230519
DTEND;VALUE=DATE:20230520
DTSTAMP:20260423T000141
CREATED:20230516T092020Z
LAST-MODIFIED:20230519T165221Z
UID:111079-1684454400-1684540799@cevibasel.ch
SUMMARY:Hattrick Basel West (7-15 Jahre)
DESCRIPTION:
URL:https://cevibasel.ch/veranstaltung/hattrick-basel-west-7-15-jahre-17-30-19-00/
END:VEVENT
BEGIN:VEVENT
DTSTART;TZID=Europe/Zurich:20230519T083000
DTEND;TZID=Europe/Zurich:20230519T113000
DTSTAMP:20260423T000141
CREATED:20230517T102234Z
LAST-MODIFIED:20230519T092401Z
UID:111804-1684485000-1684495800@cevibasel.ch
SUMMARY:Spielgruppe
DESCRIPTION:
URL:https://cevibasel.ch/veranstaltung/spielgruppe/
LOCATION:Cevi Seki
END:VEVENT
BEGIN:VEVENT
DTSTART;TZID=Europe/Zurich:20230519T093000
DTEND;TZID=Europe/Zurich:20230519T113000
DTSTAMP:20260423T000141
CREATED:20230517T102157Z
LAST-MODIFIED:20230519T092401Z
UID:111803-1684488600-1684495800@cevibasel.ch
SUMMARY:Café Emma
DESCRIPTION:
URL:https://cevibasel.ch/veranstaltung/cafe-emma/
LOCATION:hyve Hotel
END:VEVENT
BEGIN:VEVENT
DTSTART;VALUE=DATE:20230520
DTEND;VALUE=DATE:20230521
DTSTAMP:20260423T000141
CREATED:20230516T091122Z
LAST-MODIFIED:20230520T132258Z
UID:111046-1684540800-1684627199@cevibasel.ch
SUMMARY:Hattrick Gundeli (6-11 Jahre)
DESCRIPTION:
URL:https://cevibasel.ch/veranstaltung/hattrick-gundeli-6-11-jahre-13-30-15-30/
LOCATION:Margarethenpark
END:VEVENT
BEGIN:VEVENT
DTSTART;VALUE=DATE:20230522
DTEND;VALUE=DATE:20230523
DTSTAMP:20260423T000141
CREATED:20230508T083606Z
LAST-MODIFIED:20230517T095232Z
UID:110434-1684713600-1684799999@cevibasel.ch
SUMMARY:Beachvolleyball 20.00-22.00 Uhr\, im Joggeli
DESCRIPTION:
URL:https://cevibasel.ch/veranstaltung/beachvolleyball-20-00-22-00-uhr-im-joggeli-3/
END:VEVENT
END:VCALENDAR