BEGIN:VCALENDAR
VERSION:2.0
PRODID:-//Cevi Region Basel - ECPv6.15.20//NONSGML v1.0//EN
CALSCALE:GREGORIAN
METHOD:PUBLISH
X-WR-CALNAME:Cevi Region Basel
X-ORIGINAL-URL:https://cevibasel.ch
X-WR-CALDESC:Events for Cevi Region Basel
REFRESH-INTERVAL;VALUE=DURATION:PT1H
X-Robots-Tag:noindex
X-PUBLISHED-TTL:PT1H
BEGIN:VTIMEZONE
TZID:Europe/Zurich
BEGIN:DAYLIGHT
TZOFFSETFROM:+0100
TZOFFSETTO:+0200
TZNAME:CEST
DTSTART:20220327T010000
END:DAYLIGHT
BEGIN:STANDARD
TZOFFSETFROM:+0200
TZOFFSETTO:+0100
TZNAME:CET
DTSTART:20221030T010000
END:STANDARD
BEGIN:DAYLIGHT
TZOFFSETFROM:+0100
TZOFFSETTO:+0200
TZNAME:CEST
DTSTART:20230326T010000
END:DAYLIGHT
BEGIN:STANDARD
TZOFFSETFROM:+0200
TZOFFSETTO:+0100
TZNAME:CET
DTSTART:20231029T010000
END:STANDARD
BEGIN:DAYLIGHT
TZOFFSETFROM:+0100
TZOFFSETTO:+0200
TZNAME:CEST
DTSTART:20240331T010000
END:DAYLIGHT
BEGIN:STANDARD
TZOFFSETFROM:+0200
TZOFFSETTO:+0100
TZNAME:CET
DTSTART:20241027T010000
END:STANDARD
END:VTIMEZONE
BEGIN:VEVENT
DTSTART;VALUE=DATE:20230524
DTEND;VALUE=DATE:20230525
DTSTAMP:20260424T110019
CREATED:20230516T091130Z
LAST-MODIFIED:20230524T173645Z
UID:111051-1684886400-1684972799@cevibasel.ch
SUMMARY:Limitless Parkour & Freerunning
DESCRIPTION:
URL:https://cevibasel.ch/veranstaltung/limitless-18-00-19-45/
LOCATION:Turnhalle Sekundarschule St. Alban
END:VEVENT
BEGIN:VEVENT
DTSTART;TZID=Europe/Zurich:20230524T083000
DTEND;TZID=Europe/Zurich:20230524T113000
DTSTAMP:20260424T110019
CREATED:20230517T102537Z
LAST-MODIFIED:20230524T092218Z
UID:111820-1684917000-1684927800@cevibasel.ch
SUMMARY:Spielgruppe
DESCRIPTION:
URL:https://cevibasel.ch/veranstaltung/spielgruppe-2/
LOCATION:Cevi Seki
END:VEVENT
BEGIN:VEVENT
DTSTART;TZID=Europe/Zurich:20230524T090000
DTEND;TZID=Europe/Zurich:20230524T113000
DTSTAMP:20260424T110019
CREATED:20230517T102537Z
LAST-MODIFIED:20230524T092218Z
UID:111819-1684918800-1684927800@cevibasel.ch
SUMMARY:Mütterngruppe
DESCRIPTION:
URL:https://cevibasel.ch/veranstaltung/muetterngruppe-2/
LOCATION:Cevi Seki
END:VEVENT
BEGIN:VEVENT
DTSTART;TZID=Europe/Zurich:20230524T160000
DTEND;TZID=Europe/Zurich:20230524T180000
DTSTAMP:20260424T110019
CREATED:20230517T102556Z
LAST-MODIFIED:20230524T155229Z
UID:111823-1684944000-1684951200@cevibasel.ch
SUMMARY:Beachvolleyballtraining
DESCRIPTION:
URL:https://cevibasel.ch/veranstaltung/beachvolleyballtraining-15/
LOCATION:Beachfelder Rankhof
END:VEVENT
BEGIN:VEVENT
DTSTART;TZID=Europe/Zurich:20230524T183000
DTEND;TZID=Europe/Zurich:20230524T210000
DTSTAMP:20260424T110019
CREATED:20230516T091444Z
LAST-MODIFIED:20230524T185632Z
UID:111052-1684953000-1684962000@cevibasel.ch
SUMMARY:Ten Sing
DESCRIPTION:
URL:https://cevibasel.ch/veranstaltung/ten-sing-18-30-21-00/
LOCATION:CVJM Haus Kleinbasel
END:VEVENT
BEGIN:VEVENT
DTSTART;VALUE=DATE:20230525
DTEND;VALUE=DATE:20230526
DTSTAMP:20260424T110019
CREATED:20230505T103552Z
LAST-MODIFIED:20230517T100807Z
UID:109162-1684972800-1685059199@cevibasel.ch
SUMMARY:Mütterngruppe\, 8.00-10.30 Uhr
DESCRIPTION:
URL:https://cevibasel.ch/veranstaltung/muetterngruppe-8-00-10-30-uhr/
END:VEVENT
BEGIN:VEVENT
DTSTART;VALUE=DATE:20230525
DTEND;VALUE=DATE:20230526
DTSTAMP:20260424T110019
CREATED:20230505T120653Z
LAST-MODIFIED:20230517T100751Z
UID:109282-1684972800-1685059199@cevibasel.ch
SUMMARY:Café Emma\, 9.30-11.30 Uhr
DESCRIPTION:
URL:https://cevibasel.ch/veranstaltung/cafe-emma-9-30-11-30-uhr-5/
END:VEVENT
BEGIN:VEVENT
DTSTART;VALUE=DATE:20230525
DTEND;VALUE=DATE:20230526
DTSTAMP:20260424T110019
CREATED:20230508T085221Z
LAST-MODIFIED:20230517T100751Z
UID:110463-1684972800-1685059199@cevibasel.ch
SUMMARY:Beachvolleyball 20.00-22.00 Uhr\, im Rankhof
DESCRIPTION:
URL:https://cevibasel.ch/veranstaltung/beachvolleyball-20-00-22-00-uhr-im-rankhof-2/
END:VEVENT
BEGIN:VEVENT
DTSTART;TZID=Europe/Zurich:20230525T093000
DTEND;TZID=Europe/Zurich:20230525T113000
DTSTAMP:20260424T110019
CREATED:20230517T102556Z
LAST-MODIFIED:20230525T092256Z
UID:111826-1685007000-1685014200@cevibasel.ch
SUMMARY:Café Emma\, 9.30-11.30 Uhr
DESCRIPTION:
URL:https://cevibasel.ch/veranstaltung/cafe-emma-9-30-11-30-uhr-209/
LOCATION:hyve Hotel
END:VEVENT
BEGIN:VEVENT
DTSTART;TZID=Europe/Zurich:20230525T200000
DTEND;TZID=Europe/Zurich:20230525T220000
DTSTAMP:20260424T110019
CREATED:20230517T102556Z
LAST-MODIFIED:20230525T195335Z
UID:111827-1685044800-1685052000@cevibasel.ch
SUMMARY:Beachvolleyballtraining
DESCRIPTION:
URL:https://cevibasel.ch/veranstaltung/beachvolleyballtraining-16/
LOCATION:Beachfelder Rankhof
END:VEVENT
BEGIN:VEVENT
DTSTART;VALUE=DATE:20230526
DTEND;VALUE=DATE:20230527
DTSTAMP:20260424T110019
CREATED:20230505T103554Z
LAST-MODIFIED:20230517T100807Z
UID:109164-1685059200-1685145599@cevibasel.ch
SUMMARY:Spielgruppe\, 8.30-11.30 Uhr
DESCRIPTION:
URL:https://cevibasel.ch/veranstaltung/spielgruppe-8-30-11-30-uhr-7/
END:VEVENT
BEGIN:VEVENT
DTSTART;VALUE=DATE:20230526
DTEND;VALUE=DATE:20230527
DTSTAMP:20260424T110019
CREATED:20230505T120610Z
LAST-MODIFIED:20230517T100805Z
UID:109281-1685059200-1685145599@cevibasel.ch
SUMMARY:Café Emma\, 9.30-11.30 Uhr
DESCRIPTION:
URL:https://cevibasel.ch/veranstaltung/cafe-emma-9-30-11-30-uhr-4/
END:VEVENT
BEGIN:VEVENT
DTSTART;VALUE=DATE:20230526
DTEND;VALUE=DATE:20230527
DTSTAMP:20260424T110019
CREATED:20230508T085258Z
LAST-MODIFIED:20230517T100807Z
UID:110465-1685059200-1685145599@cevibasel.ch
SUMMARY:Beachvolleyball 19.00-21.00 Uhr\, im Joggeli
DESCRIPTION:
URL:https://cevibasel.ch/veranstaltung/beachvolleyball-19-00-21-00-uhr-im-joggeli-2/
END:VEVENT
BEGIN:VEVENT
DTSTART;VALUE=DATE:20230526
DTEND;VALUE=DATE:20230527
DTSTAMP:20260424T110019
CREATED:20230516T091130Z
LAST-MODIFIED:20230517T100811Z
UID:111050-1685059200-1685145599@cevibasel.ch
SUMMARY:Hattrick Riehen (4. bis 5. Klasse)\, 17.30-19.00
DESCRIPTION:
URL:https://cevibasel.ch/veranstaltung/hattrick-riehen-4-bis-5-klasse-17-30-19-00-2/
END:VEVENT
BEGIN:VEVENT
DTSTART;TZID=Europe/Zurich:20230526T083000
DTEND;TZID=Europe/Zurich:20230526T113000
DTSTAMP:20260424T110019
CREATED:20230517T102625Z
LAST-MODIFIED:20230526T092017Z
UID:111828-1685089800-1685100600@cevibasel.ch
SUMMARY:Spielgruppe
DESCRIPTION:
URL:https://cevibasel.ch/veranstaltung/spielgruppe-3/
LOCATION:Cevi Seki
END:VEVENT
BEGIN:VEVENT
DTSTART;TZID=Europe/Zurich:20230526T093000
DTEND;TZID=Europe/Zurich:20230526T113000
DTSTAMP:20260424T110019
CREATED:20230517T102625Z
LAST-MODIFIED:20230526T092017Z
UID:111829-1685093400-1685100600@cevibasel.ch
SUMMARY:Café Emma
DESCRIPTION:
URL:https://cevibasel.ch/veranstaltung/cafe-emma-2/
LOCATION:hyve Hotel
END:VEVENT
BEGIN:VEVENT
DTSTART;TZID=Europe/Zurich:20230526T173000
DTEND;TZID=Europe/Zurich:20230526T190000
DTSTAMP:20260424T110019
CREATED:20230517T102625Z
LAST-MODIFIED:20230526T165040Z
UID:111831-1685122200-1685127600@cevibasel.ch
SUMMARY:Hattrick Basel West (7-15 Jahre)
DESCRIPTION:
URL:https://cevibasel.ch/veranstaltung/hattrick-basel-west-7-15-jahre/
END:VEVENT
BEGIN:VEVENT
DTSTART;TZID=Europe/Zurich:20230526T173000
DTEND;TZID=Europe/Zurich:20230526T190000
DTSTAMP:20260424T110019
CREATED:20230517T102625Z
LAST-MODIFIED:20230526T165040Z
UID:111832-1685122200-1685127600@cevibasel.ch
SUMMARY:Hattrick Riehen (4. bis 5. Klasse)
DESCRIPTION:
URL:https://cevibasel.ch/veranstaltung/hattrick-riehen-4-bis-5-klasse/
LOCATION:Andreasmatte
END:VEVENT
BEGIN:VEVENT
DTSTART;TZID=Europe/Zurich:20230526T190000
DTEND;TZID=Europe/Zurich:20230526T203000
DTSTAMP:20260424T110019
CREATED:20230517T102625Z
LAST-MODIFIED:20230526T182523Z
UID:111830-1685127600-1685133000@cevibasel.ch
SUMMARY:Hattrick Basel West (16-18 Jahre)
DESCRIPTION:
URL:https://cevibasel.ch/veranstaltung/hattrick-basel-west-16-18-jahre/
LOCATION:Fussballfelder Pfaffenholz
END:VEVENT
BEGIN:VEVENT
DTSTART;TZID=Europe/Zurich:20230526T190000
DTEND;TZID=Europe/Zurich:20230526T210000
DTSTAMP:20260424T110019
CREATED:20230517T102627Z
LAST-MODIFIED:20230526T185156Z
UID:111833-1685127600-1685134800@cevibasel.ch
SUMMARY:Beachvolleyballtraining
DESCRIPTION:
URL:https://cevibasel.ch/veranstaltung/beachvolleyballtraining-17/
LOCATION:Beachfelder St. Jakob
END:VEVENT
BEGIN:VEVENT
DTSTART;TZID=Europe/Zurich:20230527T133000
DTEND;TZID=Europe/Zurich:20230527T153000
DTSTAMP:20260424T110019
CREATED:20230517T102627Z
LAST-MODIFIED:20230527T132245Z
UID:111834-1685194200-1685201400@cevibasel.ch
SUMMARY:Hattrick Gundeli (6-11 Jahre)
DESCRIPTION:
URL:https://cevibasel.ch/veranstaltung/hattrick-gundeli-6-11-jahre/
LOCATION:Margarethenpark
END:VEVENT
BEGIN:VEVENT
DTSTART;TZID=Europe/Zurich:20230527T140000
DTEND;TZID=Europe/Zurich:20230527T170000
DTSTAMP:20260424T110019
CREATED:20230517T102627Z
LAST-MODIFIED:20230527T145252Z
UID:111836-1685196000-1685206800@cevibasel.ch
SUMMARY:Jungschi Allschwil
DESCRIPTION:
URL:https://cevibasel.ch/veranstaltung/jungschi-allschwil/
LOCATION:Calvinhaus
END:VEVENT
BEGIN:VEVENT
DTSTART;TZID=Europe/Zurich:20230527T140000
DTEND;TZID=Europe/Zurich:20230527T170000
DTSTAMP:20260424T110019
CREATED:20230517T103726Z
LAST-MODIFIED:20230527T145252Z
UID:112061-1685196000-1685206800@cevibasel.ch
SUMMARY:Jungschi Bubendorf
DESCRIPTION:
URL:https://cevibasel.ch/veranstaltung/jungschi-bubendorf/
END:VEVENT
BEGIN:VEVENT
DTSTART;TZID=Europe/Zurich:20230527T140000
DTEND;TZID=Europe/Zurich:20230527T170000
DTSTAMP:20260424T110019
CREATED:20230517T103727Z
LAST-MODIFIED:20230527T145252Z
UID:112062-1685196000-1685206800@cevibasel.ch
SUMMARY:Jungschi Ettigen & Therwil
DESCRIPTION:
URL:https://cevibasel.ch/veranstaltung/jungschi-ettigen-therwil/
END:VEVENT
BEGIN:VEVENT
DTSTART;TZID=Europe/Zurich:20230527T140000
DTEND;TZID=Europe/Zurich:20230527T170000
DTSTAMP:20260424T110019
CREATED:20230517T103731Z
LAST-MODIFIED:20230527T145112Z
UID:112065-1685196000-1685206800@cevibasel.ch
SUMMARY:Jungschi Muttenz
DESCRIPTION:
URL:https://cevibasel.ch/veranstaltung/jungschi-muttenz/
END:VEVENT
BEGIN:VEVENT
DTSTART;TZID=Europe/Zurich:20230527T140000
DTEND;TZID=Europe/Zurich:20230527T170000
DTSTAMP:20260424T110019
CREATED:20230517T103731Z
LAST-MODIFIED:20230527T145112Z
UID:112066-1685196000-1685206800@cevibasel.ch
SUMMARY:Jungschi Binningen
DESCRIPTION:
URL:https://cevibasel.ch/veranstaltung/jungschi-binningen/
END:VEVENT
BEGIN:VEVENT
DTSTART;TZID=Europe/Zurich:20230527T140000
DTEND;TZID=Europe/Zurich:20230527T170000
DTSTAMP:20260424T110019
CREATED:20230517T103731Z
LAST-MODIFIED:20230527T145112Z
UID:112067-1685196000-1685206800@cevibasel.ch
SUMMARY:Jungschi Thomas
DESCRIPTION:
URL:https://cevibasel.ch/veranstaltung/jungschi-thomas/
END:VEVENT
BEGIN:VEVENT
DTSTART;TZID=Europe/Zurich:20230527T140000
DTEND;TZID=Europe/Zurich:20230527T170000
DTSTAMP:20260424T110019
CREATED:20230517T103731Z
LAST-MODIFIED:20230527T145112Z
UID:112068-1685196000-1685206800@cevibasel.ch
SUMMARY:Jungschi Titus
DESCRIPTION:
URL:https://cevibasel.ch/veranstaltung/jungschi-titus/
END:VEVENT
BEGIN:VEVENT
DTSTART;TZID=Europe/Zurich:20230527T140000
DTEND;TZID=Europe/Zurich:20230527T170000
DTSTAMP:20260424T110019
CREATED:20230517T103731Z
LAST-MODIFIED:20230527T145252Z
UID:112064-1685196000-1685206800@cevibasel.ch
SUMMARY:Jungschi Gotthelf-Neubad
DESCRIPTION:
URL:https://cevibasel.ch/veranstaltung/jungschi-gotthelf-neubad/
END:VEVENT
BEGIN:VEVENT
DTSTART;TZID=Europe/Zurich:20230527T140000
DTEND;TZID=Europe/Zurich:20230527T170000
DTSTAMP:20260424T110019
CREATED:20230517T103741Z
LAST-MODIFIED:20230527T145112Z
UID:112069-1685196000-1685206800@cevibasel.ch
SUMMARY:Jungschi Reinach
DESCRIPTION:
URL:https://cevibasel.ch/veranstaltung/jungschi-reinach/
END:VEVENT
END:VCALENDAR