BEGIN:VCALENDAR
VERSION:2.0
PRODID:-//Cevi Region Basel - ECPv6.15.20//NONSGML v1.0//EN
CALSCALE:GREGORIAN
METHOD:PUBLISH
X-ORIGINAL-URL:https://cevibasel.ch
X-WR-CALDESC:Events for Cevi Region Basel
REFRESH-INTERVAL;VALUE=DURATION:PT1H
X-Robots-Tag:noindex
X-PUBLISHED-TTL:PT1H
BEGIN:VTIMEZONE
TZID:Europe/Zurich
BEGIN:DAYLIGHT
TZOFFSETFROM:+0100
TZOFFSETTO:+0200
TZNAME:CEST
DTSTART:20220327T010000
END:DAYLIGHT
BEGIN:STANDARD
TZOFFSETFROM:+0200
TZOFFSETTO:+0100
TZNAME:CET
DTSTART:20221030T010000
END:STANDARD
BEGIN:DAYLIGHT
TZOFFSETFROM:+0100
TZOFFSETTO:+0200
TZNAME:CEST
DTSTART:20230326T010000
END:DAYLIGHT
BEGIN:STANDARD
TZOFFSETFROM:+0200
TZOFFSETTO:+0100
TZNAME:CET
DTSTART:20231029T010000
END:STANDARD
BEGIN:DAYLIGHT
TZOFFSETFROM:+0100
TZOFFSETTO:+0200
TZNAME:CEST
DTSTART:20240331T010000
END:DAYLIGHT
BEGIN:STANDARD
TZOFFSETFROM:+0200
TZOFFSETTO:+0100
TZNAME:CET
DTSTART:20241027T010000
END:STANDARD
END:VTIMEZONE
BEGIN:VEVENT
DTSTART;TZID=Europe/Zurich:20230527T140000
DTEND;TZID=Europe/Zurich:20230527T170000
DTSTAMP:20260424T184336
CREATED:20230517T103727Z
LAST-MODIFIED:20230527T145252Z
UID:112062-1685196000-1685206800@cevibasel.ch
SUMMARY:Jungschi Ettigen & Therwil
DESCRIPTION:
URL:https://cevibasel.ch/veranstaltung/jungschi-ettigen-therwil/
END:VEVENT
BEGIN:VEVENT
DTSTART;TZID=Europe/Zurich:20230527T140000
DTEND;TZID=Europe/Zurich:20230527T170000
DTSTAMP:20260424T184336
CREATED:20230517T103731Z
LAST-MODIFIED:20230527T145112Z
UID:112065-1685196000-1685206800@cevibasel.ch
SUMMARY:Jungschi Muttenz
DESCRIPTION:
URL:https://cevibasel.ch/veranstaltung/jungschi-muttenz/
END:VEVENT
BEGIN:VEVENT
DTSTART;TZID=Europe/Zurich:20230527T140000
DTEND;TZID=Europe/Zurich:20230527T170000
DTSTAMP:20260424T184336
CREATED:20230517T103731Z
LAST-MODIFIED:20230527T145112Z
UID:112066-1685196000-1685206800@cevibasel.ch
SUMMARY:Jungschi Binningen
DESCRIPTION:
URL:https://cevibasel.ch/veranstaltung/jungschi-binningen/
END:VEVENT
BEGIN:VEVENT
DTSTART;TZID=Europe/Zurich:20230527T140000
DTEND;TZID=Europe/Zurich:20230527T170000
DTSTAMP:20260424T184336
CREATED:20230517T103731Z
LAST-MODIFIED:20230527T145112Z
UID:112067-1685196000-1685206800@cevibasel.ch
SUMMARY:Jungschi Thomas
DESCRIPTION:
URL:https://cevibasel.ch/veranstaltung/jungschi-thomas/
END:VEVENT
BEGIN:VEVENT
DTSTART;TZID=Europe/Zurich:20230527T140000
DTEND;TZID=Europe/Zurich:20230527T170000
DTSTAMP:20260424T184336
CREATED:20230517T103731Z
LAST-MODIFIED:20230527T145112Z
UID:112068-1685196000-1685206800@cevibasel.ch
SUMMARY:Jungschi Titus
DESCRIPTION:
URL:https://cevibasel.ch/veranstaltung/jungschi-titus/
END:VEVENT
BEGIN:VEVENT
DTSTART;TZID=Europe/Zurich:20230527T140000
DTEND;TZID=Europe/Zurich:20230527T170000
DTSTAMP:20260424T184336
CREATED:20230517T103731Z
LAST-MODIFIED:20230527T145252Z
UID:112064-1685196000-1685206800@cevibasel.ch
SUMMARY:Jungschi Gotthelf-Neubad
DESCRIPTION:
URL:https://cevibasel.ch/veranstaltung/jungschi-gotthelf-neubad/
END:VEVENT
BEGIN:VEVENT
DTSTART;TZID=Europe/Zurich:20230527T140000
DTEND;TZID=Europe/Zurich:20230527T170000
DTSTAMP:20260424T184336
CREATED:20230517T103741Z
LAST-MODIFIED:20230527T145112Z
UID:112069-1685196000-1685206800@cevibasel.ch
SUMMARY:Jungschi Reinach
DESCRIPTION:
URL:https://cevibasel.ch/veranstaltung/jungschi-reinach/
END:VEVENT
BEGIN:VEVENT
DTSTART;VALUE=DATE:20230529
DTEND;VALUE=DATE:20230530
DTSTAMP:20260424T184336
CREATED:20230508T083741Z
LAST-MODIFIED:20230510T150635Z
UID:110435-1685318400-1685404799@cevibasel.ch
SUMMARY:Beachvolleyball 20.00-22.00 Uhr\, im Joggeli
DESCRIPTION:
URL:https://cevibasel.ch/veranstaltung/beachvolleyball-20-00-22-00-uhr-im-joggeli-4/
END:VEVENT
BEGIN:VEVENT
DTSTART;VALUE=DATE:20230529
DTEND;VALUE=DATE:20230530
DTSTAMP:20260424T184336
CREATED:20230516T093346Z
LAST-MODIFIED:20230517T095350Z
UID:111094-1685318400-1685404799@cevibasel.ch
SUMMARY:Hattrick Men\, 19.00-20.30
DESCRIPTION:
URL:https://cevibasel.ch/veranstaltung/hattrick-men-19-00-20-30-2/
END:VEVENT
BEGIN:VEVENT
DTSTART;VALUE=DATE:20230529
DTEND;VALUE=DATE:20230530
DTSTAMP:20260424T184336
CREATED:20230516T093356Z
LAST-MODIFIED:20230517T095351Z
UID:111099-1685318400-1685404799@cevibasel.ch
SUMMARY:Hattrick Ladies\, 20.30-22.00
DESCRIPTION:
URL:https://cevibasel.ch/veranstaltung/hattrick-ladies-20-30-22-00-2/
END:VEVENT
BEGIN:VEVENT
DTSTART;TZID=Europe/Zurich:20230529T190000
DTEND;TZID=Europe/Zurich:20230529T203000
DTSTAMP:20260424T184336
CREATED:20230517T100811Z
LAST-MODIFIED:20230529T182540Z
UID:111740-1685386800-1685392200@cevibasel.ch
SUMMARY:Hattrick Men\, 19.00-20.30
DESCRIPTION:
URL:https://cevibasel.ch/veranstaltung/hattrick-men-19-00-20-30-36/
LOCATION:Fussballfelder Pfaffenholz
END:VEVENT
BEGIN:VEVENT
DTSTART;TZID=Europe/Zurich:20230529T200000
DTEND;TZID=Europe/Zurich:20230529T220000
DTSTAMP:20260424T184336
CREATED:20230517T100811Z
LAST-MODIFIED:20230529T195204Z
UID:111738-1685390400-1685397600@cevibasel.ch
SUMMARY:Beachvolleyballtraining
DESCRIPTION:
URL:https://cevibasel.ch/veranstaltung/beachvolleyballtraining-2/
LOCATION:Beachfelder St. Jakob
END:VEVENT
BEGIN:VEVENT
DTSTART;TZID=Europe/Zurich:20230529T203000
DTEND;TZID=Europe/Zurich:20230529T220000
DTSTAMP:20260424T184336
CREATED:20230517T100811Z
LAST-MODIFIED:20230529T195204Z
UID:111739-1685392200-1685397600@cevibasel.ch
SUMMARY:Hattrick Ladies\, 20.30-22.00
DESCRIPTION:
URL:https://cevibasel.ch/veranstaltung/hattrick-ladies-20-30-22-00-37/
LOCATION:Fussballfelder Pfaffenholz
END:VEVENT
BEGIN:VEVENT
DTSTART;VALUE=DATE:20230530
DTEND;VALUE=DATE:20230531
DTSTAMP:20260424T184336
CREATED:20230505T103554Z
LAST-MODIFIED:20230517T095350Z
UID:109165-1685404800-1685491199@cevibasel.ch
SUMMARY:Spaghettizistig\, 12.00-14.00 Uhr
DESCRIPTION:
URL:https://cevibasel.ch/veranstaltung/spaghettizistig-12-00-14-00-uhr-4/
END:VEVENT
BEGIN:VEVENT
DTSTART;VALUE=DATE:20230530
DTEND;VALUE=DATE:20230531
DTSTAMP:20260424T184336
CREATED:20230516T091613Z
LAST-MODIFIED:20230517T095400Z
UID:111056-1685404800-1685491199@cevibasel.ch
SUMMARY:Hattrick Riehen (1. bis 3. Klasse)\, 17.30-19.00
DESCRIPTION:
URL:https://cevibasel.ch/veranstaltung/hattrick-riehen-1-bis-3-klasse-17-30-19-00-3/
END:VEVENT
BEGIN:VEVENT
DTSTART;VALUE=DATE:20230530
DTEND;VALUE=DATE:20230531
DTSTAMP:20260424T184336
CREATED:20230516T091614Z
LAST-MODIFIED:20230517T100815Z
UID:111057-1685404800-1685491199@cevibasel.ch
SUMMARY:Hattrick Riehen (6. bis 7. Klasse)\, 19.00-20.30
DESCRIPTION:
URL:https://cevibasel.ch/veranstaltung/hattrick-riehen-6-bis-7-klasse-19-00-20-30-3/
END:VEVENT
BEGIN:VEVENT
DTSTART;TZID=Europe/Zurich:20230530T120000
DTEND;TZID=Europe/Zurich:20230530T140000
DTSTAMP:20260424T184336
CREATED:20230517T100812Z
LAST-MODIFIED:20230530T115031Z
UID:111741-1685448000-1685455200@cevibasel.ch
SUMMARY:Spaghettizistig
DESCRIPTION:
URL:https://cevibasel.ch/veranstaltung/spaghettizistig-2/
LOCATION:Cevi Seki
END:VEVENT
BEGIN:VEVENT
DTSTART;TZID=Europe/Zurich:20230530T173000
DTEND;TZID=Europe/Zurich:20230530T190000
DTSTAMP:20260424T184336
CREATED:20230517T100817Z
LAST-MODIFIED:20230530T165133Z
UID:111743-1685467800-1685473200@cevibasel.ch
SUMMARY:Hattrick Riehen (1. bis 3. Klasse)
DESCRIPTION:
URL:https://cevibasel.ch/veranstaltung/hattrick-riehen-1-bis-3-klasse-2/
LOCATION:Fussballplatz Andreasmatte
END:VEVENT
BEGIN:VEVENT
DTSTART;TZID=Europe/Zurich:20230530T180000
DTEND;TZID=Europe/Zurich:20230530T193000
DTSTAMP:20260424T184336
CREATED:20230517T100817Z
LAST-MODIFIED:20230530T172120Z
UID:111742-1685469600-1685475000@cevibasel.ch
SUMMARY:Hattrick Gellert (7-12 Jahre)
DESCRIPTION:
URL:https://cevibasel.ch/veranstaltung/hattrick-gellert-7-12-jahre-2/
LOCATION:Fussballplatz Luftmatt
END:VEVENT
BEGIN:VEVENT
DTSTART;TZID=Europe/Zurich:20230530T190000
DTEND;TZID=Europe/Zurich:20230530T203000
DTSTAMP:20260424T184336
CREATED:20230517T102754Z
LAST-MODIFIED:20230530T182308Z
UID:111842-1685473200-1685478600@cevibasel.ch
SUMMARY:Hattrick Riehen (6. bis 7. Klasse)
DESCRIPTION:
URL:https://cevibasel.ch/veranstaltung/hattrick-riehen-6-bis-7-klasse-2/
LOCATION:Fussballplatz Andreasmatte
END:VEVENT
BEGIN:VEVENT
DTSTART;VALUE=DATE:20230531
DTEND;VALUE=DATE:20230601
DTSTAMP:20260424T184336
CREATED:20230505T103554Z
LAST-MODIFIED:20230517T100815Z
UID:109166-1685491200-1685577599@cevibasel.ch
SUMMARY:Spielgruppe\, 8.30-11.30 Uhr
DESCRIPTION:
URL:https://cevibasel.ch/veranstaltung/spielgruppe-8-30-11-30-uhr-8/
END:VEVENT
BEGIN:VEVENT
DTSTART;VALUE=DATE:20230531
DTEND;VALUE=DATE:20230601
DTSTAMP:20260424T184336
CREATED:20230508T085346Z
LAST-MODIFIED:20230517T100815Z
UID:110469-1685491200-1685577599@cevibasel.ch
SUMMARY:Beachvolleyball 16.00-18.00 Uhr\, im Rankhof
DESCRIPTION:
URL:https://cevibasel.ch/veranstaltung/beachvolleyball-16-00-18-00-uhr-im-rankhof-4/
END:VEVENT
BEGIN:VEVENT
DTSTART;VALUE=DATE:20230531
DTEND;VALUE=DATE:20230601
DTSTAMP:20260424T184336
CREATED:20230516T091622Z
LAST-MODIFIED:20230517T100815Z
UID:111059-1685491200-1685577599@cevibasel.ch
SUMMARY:Limitless\, 18.00-19.45
DESCRIPTION:
URL:https://cevibasel.ch/veranstaltung/limitless-18-00-19-45-2/
END:VEVENT
BEGIN:VEVENT
DTSTART;VALUE=DATE:20230531
DTEND;VALUE=DATE:20230601
DTSTAMP:20260424T184336
CREATED:20230516T091632Z
LAST-MODIFIED:20230517T100911Z
UID:111060-1685491200-1685577599@cevibasel.ch
SUMMARY:Ten Sing\, 18.30-21.00
DESCRIPTION:
URL:https://cevibasel.ch/veranstaltung/ten-sing-18-30-21-00-2/
END:VEVENT
BEGIN:VEVENT
DTSTART;TZID=Europe/Zurich:20230531T083000
DTEND;TZID=Europe/Zurich:20230531T113000
DTSTAMP:20260424T184336
CREATED:20230517T102758Z
LAST-MODIFIED:20230531T092141Z
UID:111844-1685521800-1685532600@cevibasel.ch
SUMMARY:Spielgruppe
DESCRIPTION:
URL:https://cevibasel.ch/veranstaltung/spielgruppe-4/
LOCATION:Cevi Seki
END:VEVENT
BEGIN:VEVENT
DTSTART;TZID=Europe/Zurich:20230531T160000
DTEND;TZID=Europe/Zurich:20230531T180000
DTSTAMP:20260424T184336
CREATED:20230517T102758Z
LAST-MODIFIED:20230531T155032Z
UID:111845-1685548800-1685556000@cevibasel.ch
SUMMARY:Beachvolleyballtraining
DESCRIPTION:
URL:https://cevibasel.ch/veranstaltung/beachvolleyballtraining-18/
LOCATION:Beachfelder Rankhof
END:VEVENT
BEGIN:VEVENT
DTSTART;TZID=Europe/Zurich:20230531T180000
DTEND;TZID=Europe/Zurich:20230531T194500
DTSTAMP:20260424T184336
CREATED:20230517T102758Z
LAST-MODIFIED:20230531T173914Z
UID:111846-1685556000-1685562300@cevibasel.ch
SUMMARY:Limitless Parkour & Freerunning
DESCRIPTION:
URL:https://cevibasel.ch/veranstaltung/limitless-parkour-freerunning/
LOCATION:Turnhalle Sekundarschule St. Alban
END:VEVENT
BEGIN:VEVENT
DTSTART;TZID=Europe/Zurich:20230531T183000
DTEND;TZID=Europe/Zurich:20230531T210000
DTSTAMP:20260424T184336
CREATED:20230517T102758Z
LAST-MODIFIED:20230531T185402Z
UID:111847-1685557800-1685566800@cevibasel.ch
SUMMARY:Ten Sing
DESCRIPTION:
URL:https://cevibasel.ch/veranstaltung/ten-sing/
LOCATION:CVJM Haus Kleinbasel
END:VEVENT
BEGIN:VEVENT
DTSTART;VALUE=DATE:20230601
DTEND;VALUE=DATE:20230602
DTSTAMP:20260424T184336
CREATED:20230505T120657Z
LAST-MODIFIED:20230517T100815Z
UID:109284-1685577600-1685663999@cevibasel.ch
SUMMARY:Café Emma\, 9.30-11.30 Uhr
DESCRIPTION:
URL:https://cevibasel.ch/veranstaltung/cafe-emma-9-30-11-30-uhr-7/
END:VEVENT
BEGIN:VEVENT
DTSTART;VALUE=DATE:20230601
DTEND;VALUE=DATE:20230602
DTSTAMP:20260424T184336
CREATED:20230508T085346Z
LAST-MODIFIED:20230517T100910Z
UID:110468-1685577600-1685663999@cevibasel.ch
SUMMARY:Beachvolleyball 20.00-22.00 Uhr\, im Rankhof
DESCRIPTION:
URL:https://cevibasel.ch/veranstaltung/beachvolleyball-20-00-22-00-uhr-im-rankhof-3/
END:VEVENT
END:VCALENDAR