BEGIN:VCALENDAR
VERSION:2.0
PRODID:-//Cevi Region Basel - ECPv6.15.20//NONSGML v1.0//EN
CALSCALE:GREGORIAN
METHOD:PUBLISH
X-WR-CALNAME:Cevi Region Basel
X-ORIGINAL-URL:https://cevibasel.ch
X-WR-CALDESC:Events for Cevi Region Basel
REFRESH-INTERVAL;VALUE=DURATION:PT1H
X-Robots-Tag:noindex
X-PUBLISHED-TTL:PT1H
BEGIN:VTIMEZONE
TZID:Europe/Zurich
BEGIN:DAYLIGHT
TZOFFSETFROM:+0100
TZOFFSETTO:+0200
TZNAME:CEST
DTSTART:20240331T010000
END:DAYLIGHT
BEGIN:STANDARD
TZOFFSETFROM:+0200
TZOFFSETTO:+0100
TZNAME:CET
DTSTART:20241027T010000
END:STANDARD
BEGIN:DAYLIGHT
TZOFFSETFROM:+0100
TZOFFSETTO:+0200
TZNAME:CEST
DTSTART:20250330T010000
END:DAYLIGHT
BEGIN:STANDARD
TZOFFSETFROM:+0200
TZOFFSETTO:+0100
TZNAME:CET
DTSTART:20251026T010000
END:STANDARD
BEGIN:DAYLIGHT
TZOFFSETFROM:+0100
TZOFFSETTO:+0200
TZNAME:CEST
DTSTART:20260329T010000
END:DAYLIGHT
BEGIN:STANDARD
TZOFFSETFROM:+0200
TZOFFSETTO:+0100
TZNAME:CET
DTSTART:20261025T010000
END:STANDARD
END:VTIMEZONE
BEGIN:VEVENT
DTSTART;TZID=Europe/Zurich:20251025T140000
DTEND;TZID=Europe/Zurich:20251025T170000
DTSTAMP:20260426T003336
CREATED:20240625T134817Z
LAST-MODIFIED:20251025T145000Z
UID:121851-1761400800-1761411600@cevibasel.ch
SUMMARY:Jungschi Allschwil
DESCRIPTION:
URL:https://cevibasel.ch/veranstaltung/jungschi-allschwil-127/
END:VEVENT
BEGIN:VEVENT
DTSTART;TZID=Europe/Zurich:20251025T140000
DTEND;TZID=Europe/Zurich:20251025T170000
DTSTAMP:20260426T003336
CREATED:20240625T134817Z
LAST-MODIFIED:20241105T110039Z
UID:121852-1761400800-1761411600@cevibasel.ch
SUMMARY:Jungschi Reinach
DESCRIPTION:
URL:https://cevibasel.ch/veranstaltung/jungschi-reinach-127/
END:VEVENT
BEGIN:VEVENT
DTSTART;TZID=Europe/Zurich:20251025T140000
DTEND;TZID=Europe/Zurich:20251025T170000
DTSTAMP:20260426T003336
CREATED:20240625T134816Z
LAST-MODIFIED:20251025T145001Z
UID:121848-1761400800-1761411600@cevibasel.ch
SUMMARY:Jungschi Ettigen & Therwil
DESCRIPTION:
URL:https://cevibasel.ch/veranstaltung/jungschi-ettigen-therwil-127/
END:VEVENT
BEGIN:VEVENT
DTSTART;TZID=Europe/Zurich:20251025T140000
DTEND;TZID=Europe/Zurich:20251025T170000
DTSTAMP:20260426T003336
CREATED:20240625T134816Z
LAST-MODIFIED:20251025T145000Z
UID:121849-1761400800-1761411600@cevibasel.ch
SUMMARY:Jungschi Titus
DESCRIPTION:
URL:https://cevibasel.ch/veranstaltung/jungschi-titus-127/
END:VEVENT
BEGIN:VEVENT
DTSTART;TZID=Europe/Zurich:20251025T140000
DTEND;TZID=Europe/Zurich:20251025T170000
DTSTAMP:20260426T003336
CREATED:20240625T134816Z
LAST-MODIFIED:20251025T145001Z
UID:121850-1761400800-1761411600@cevibasel.ch
SUMMARY:Jungschi Bubendorf
DESCRIPTION:
URL:https://cevibasel.ch/veranstaltung/jungschi-bubendorf-127/
END:VEVENT
BEGIN:VEVENT
DTSTART;TZID=Europe/Zurich:20251025T140000
DTEND;TZID=Europe/Zurich:20251025T170000
DTSTAMP:20260426T003336
CREATED:20240625T134815Z
LAST-MODIFIED:20251025T145001Z
UID:121846-1761400800-1761411600@cevibasel.ch
SUMMARY:Jungschi Binningen
DESCRIPTION:
URL:https://cevibasel.ch/veranstaltung/jungschi-binningen-127/
END:VEVENT
BEGIN:VEVENT
DTSTART;TZID=Europe/Zurich:20251025T133000
DTEND;TZID=Europe/Zurich:20251025T153000
DTSTAMP:20260426T003336
CREATED:20240625T134815Z
LAST-MODIFIED:20251025T132031Z
UID:121847-1761399000-1761406200@cevibasel.ch
SUMMARY:Hattrick Gundeli (6-11 Jahre)
DESCRIPTION:
URL:https://cevibasel.ch/veranstaltung/hattrick-gundeli-6-11-jahre-127/
LOCATION:Margarethenpark
END:VEVENT
BEGIN:VEVENT
DTSTART;VALUE=DATE:20251025
DTEND;VALUE=DATE:20251026
DTSTAMP:20260426T003336
CREATED:20240823T104647Z
LAST-MODIFIED:20251025T235022Z
UID:129466-1761350400-1761436799@cevibasel.ch
SUMMARY:Kinderartikelbörse
DESCRIPTION:
URL:https://cevibasel.ch/veranstaltung/kinderartikelborse-2/
END:VEVENT
BEGIN:VEVENT
DTSTART;TZID=Europe/Zurich:20251024T190000
DTEND;TZID=Europe/Zurich:20251024T203000
DTSTAMP:20260426T003336
CREATED:20240625T134811Z
LAST-MODIFIED:20251024T181953Z
UID:121845-1761332400-1761337800@cevibasel.ch
SUMMARY:Hattrick Basel West (16-18 Jahre)
DESCRIPTION:
URL:https://cevibasel.ch/veranstaltung/hattrick-basel-west-16-18-jahre-127/
LOCATION:Fussballfelder Pfaffenholz
END:VEVENT
BEGIN:VEVENT
DTSTART;TZID=Europe/Zurich:20251024T173000
DTEND;TZID=Europe/Zurich:20251024T190000
DTSTAMP:20260426T003336
CREATED:20240625T134811Z
LAST-MODIFIED:20251024T164957Z
UID:121843-1761327000-1761332400@cevibasel.ch
SUMMARY:Hattrick Basel West (7-15 Jahre)
DESCRIPTION:
URL:https://cevibasel.ch/veranstaltung/hattrick-basel-west-7-15-jahre-127/
END:VEVENT
BEGIN:VEVENT
DTSTART;TZID=Europe/Zurich:20251024T173000
DTEND;TZID=Europe/Zurich:20251024T190000
DTSTAMP:20260426T003336
CREATED:20240625T134811Z
LAST-MODIFIED:20251024T164957Z
UID:121844-1761327000-1761332400@cevibasel.ch
SUMMARY:Hattrick Riehen (4. bis 5. Klasse)
DESCRIPTION:
URL:https://cevibasel.ch/veranstaltung/hattrick-riehen-4-bis-5-klasse-127/
LOCATION:Andreasmatte
END:VEVENT
BEGIN:VEVENT
DTSTART;TZID=Europe/Zurich:20251023T083000
DTEND;TZID=Europe/Zurich:20251023T113000
DTSTAMP:20260426T003336
CREATED:20240812T103222Z
LAST-MODIFIED:20241224T191411Z
UID:127882-1761208200-1761219000@cevibasel.ch
SUMMARY:Mütterngruppe
DESCRIPTION:
URL:https://cevibasel.ch/veranstaltung/mutterngruppe-281/
LOCATION:Cevi Seki
END:VEVENT
BEGIN:VEVENT
DTSTART;TZID=Europe/Zurich:20251023T083000
DTEND;TZID=Europe/Zurich:20251023T113000
DTSTAMP:20260426T003336
CREATED:20240812T103220Z
LAST-MODIFIED:20241224T191413Z
UID:127878-1761208200-1761219000@cevibasel.ch
SUMMARY:Mütterngruppe
DESCRIPTION:
URL:https://cevibasel.ch/veranstaltung/mutterngruppe-277/
LOCATION:Cevi Seki
END:VEVENT
BEGIN:VEVENT
DTSTART;TZID=Europe/Zurich:20251023T083000
DTEND;TZID=Europe/Zurich:20251023T113000
DTSTAMP:20260426T003336
CREATED:20240812T103220Z
LAST-MODIFIED:20251023T092048Z
UID:127879-1761208200-1761219000@cevibasel.ch
SUMMARY:Mütterngruppe
DESCRIPTION:
URL:https://cevibasel.ch/veranstaltung/mutterngruppe-278/
LOCATION:Cevi Seki
END:VEVENT
BEGIN:VEVENT
DTSTART;TZID=Europe/Zurich:20251023T083000
DTEND;TZID=Europe/Zurich:20251023T113000
DTSTAMP:20260426T003336
CREATED:20240812T103220Z
LAST-MODIFIED:20241224T191411Z
UID:127880-1761208200-1761219000@cevibasel.ch
SUMMARY:Mütterngruppe
DESCRIPTION:
URL:https://cevibasel.ch/veranstaltung/mutterngruppe-279/
LOCATION:Cevi Seki
END:VEVENT
BEGIN:VEVENT
DTSTART;TZID=Europe/Zurich:20251023T083000
DTEND;TZID=Europe/Zurich:20251023T113000
DTSTAMP:20260426T003336
CREATED:20240812T103220Z
LAST-MODIFIED:20241224T191411Z
UID:127881-1761208200-1761219000@cevibasel.ch
SUMMARY:Mütterngruppe
DESCRIPTION:
URL:https://cevibasel.ch/veranstaltung/mutterngruppe-280/
LOCATION:Cevi Seki
END:VEVENT
BEGIN:VEVENT
DTSTART;TZID=Europe/Zurich:20251023T083000
DTEND;TZID=Europe/Zurich:20251023T113000
DTSTAMP:20260426T003336
CREATED:20240812T103219Z
LAST-MODIFIED:20250113T103344Z
UID:127877-1761208200-1761219000@cevibasel.ch
SUMMARY:Mütterngruppe
DESCRIPTION:
URL:https://cevibasel.ch/veranstaltung/mutterngruppe-276/
LOCATION:Cevi Seki
END:VEVENT
BEGIN:VEVENT
DTSTART;TZID=Europe/Zurich:20251023T083000
DTEND;TZID=Europe/Zurich:20251023T113000
DTSTAMP:20260426T003336
CREATED:20240812T103218Z
LAST-MODIFIED:20250113T103343Z
UID:127874-1761208200-1761219000@cevibasel.ch
SUMMARY:Mütterngruppe
DESCRIPTION:
URL:https://cevibasel.ch/veranstaltung/mutterngruppe-273/
LOCATION:Cevi Seki
END:VEVENT
BEGIN:VEVENT
DTSTART;TZID=Europe/Zurich:20251023T083000
DTEND;TZID=Europe/Zurich:20251023T113000
DTSTAMP:20260426T003336
CREATED:20240812T103218Z
LAST-MODIFIED:20241224T191411Z
UID:127875-1761208200-1761219000@cevibasel.ch
SUMMARY:Mütterngruppe
DESCRIPTION:
URL:https://cevibasel.ch/veranstaltung/mutterngruppe-274/
LOCATION:Cevi Seki
END:VEVENT
BEGIN:VEVENT
DTSTART;TZID=Europe/Zurich:20251023T083000
DTEND;TZID=Europe/Zurich:20251023T113000
DTSTAMP:20260426T003336
CREATED:20240812T103218Z
LAST-MODIFIED:20241224T191410Z
UID:127876-1761208200-1761219000@cevibasel.ch
SUMMARY:Mütterngruppe
DESCRIPTION:
URL:https://cevibasel.ch/veranstaltung/mutterngruppe-275/
LOCATION:Cevi Seki
END:VEVENT
BEGIN:VEVENT
DTSTART;TZID=Europe/Zurich:20251022T183000
DTEND;TZID=Europe/Zurich:20251022T210000
DTSTAMP:20260426T003336
CREATED:20240625T134810Z
LAST-MODIFIED:20251022T185049Z
UID:121842-1761157800-1761166800@cevibasel.ch
SUMMARY:Ten Sing
DESCRIPTION:
URL:https://cevibasel.ch/veranstaltung/ten-sing-126/
LOCATION:CVJM Haus Kleinbasel
END:VEVENT
BEGIN:VEVENT
DTSTART;TZID=Europe/Zurich:20251021T190000
DTEND;TZID=Europe/Zurich:20251021T203000
DTSTAMP:20260426T003336
CREATED:20240625T134808Z
LAST-MODIFIED:20251021T182019Z
UID:121839-1761073200-1761078600@cevibasel.ch
SUMMARY:Hattrick Riehen (6. bis 7. Klasse)
DESCRIPTION:
URL:https://cevibasel.ch/veranstaltung/hattrick-riehen-6-bis-7-klasse-127/
LOCATION:Fussballplatz Andreasmatte
END:VEVENT
BEGIN:VEVENT
DTSTART;TZID=Europe/Zurich:20251021T180000
DTEND;TZID=Europe/Zurich:20251021T193000
DTSTAMP:20260426T003336
CREATED:20240625T134808Z
LAST-MODIFIED:20251021T172016Z
UID:121840-1761069600-1761075000@cevibasel.ch
SUMMARY:Hattrick Gellert (7-12 Jahre)
DESCRIPTION:
URL:https://cevibasel.ch/veranstaltung/hattrick-gellert-7-12-jahre-127/
LOCATION:Fussballplatz Luftmatt
END:VEVENT
BEGIN:VEVENT
DTSTART;TZID=Europe/Zurich:20251021T173000
DTEND;TZID=Europe/Zurich:20251021T190000
DTSTAMP:20260426T003336
CREATED:20240625T134810Z
LAST-MODIFIED:20251021T164950Z
UID:121841-1761067800-1761073200@cevibasel.ch
SUMMARY:Hattrick Riehen (1. bis 3. Klasse)
DESCRIPTION:
URL:https://cevibasel.ch/veranstaltung/hattrick-riehen-1-bis-3-klasse-127/
LOCATION:Fussballplatz Andreasmatte
END:VEVENT
BEGIN:VEVENT
DTSTART;TZID=Europe/Zurich:20251020T203000
DTEND;TZID=Europe/Zurich:20251020T220000
DTSTAMP:20260426T003336
CREATED:20240625T134807Z
LAST-MODIFIED:20251020T195157Z
UID:121838-1760992200-1760997600@cevibasel.ch
SUMMARY:Hattrick Ladies\, 20.30-22.00
DESCRIPTION:
URL:https://cevibasel.ch/veranstaltung/hattrick-ladies-20-30-22-00-162/
LOCATION:Fussballfelder Pfaffenholz
END:VEVENT
BEGIN:VEVENT
DTSTART;TZID=Europe/Zurich:20251020T190000
DTEND;TZID=Europe/Zurich:20251020T203000
DTSTAMP:20260426T003336
CREATED:20240625T134807Z
LAST-MODIFIED:20251020T182042Z
UID:121837-1760986800-1760992200@cevibasel.ch
SUMMARY:Hattrick Men\, 19.00-20.30
DESCRIPTION:
URL:https://cevibasel.ch/veranstaltung/hattrick-men-19-00-20-30-161/
LOCATION:Fussballfelder Pfaffenholz
END:VEVENT
BEGIN:VEVENT
DTSTART;TZID=Europe/Zurich:20251018T140000
DTEND;TZID=Europe/Zurich:20251018T170000
DTSTAMP:20260426T003336
CREATED:20240625T134807Z
LAST-MODIFIED:20251018T145219Z
UID:121836-1760796000-1760806800@cevibasel.ch
SUMMARY:Jungschi Bubendorf
DESCRIPTION:
URL:https://cevibasel.ch/veranstaltung/jungschi-bubendorf-126/
END:VEVENT
BEGIN:VEVENT
DTSTART;TZID=Europe/Zurich:20251018T140000
DTEND;TZID=Europe/Zurich:20251018T170000
DTSTAMP:20260426T003336
CREATED:20240625T134804Z
LAST-MODIFIED:20241105T110034Z
UID:121833-1760796000-1760806800@cevibasel.ch
SUMMARY:Jungschi Muttenz
DESCRIPTION:
URL:https://cevibasel.ch/veranstaltung/jungschi-muttenz-126/
END:VEVENT
BEGIN:VEVENT
DTSTART;TZID=Europe/Zurich:20251018T140000
DTEND;TZID=Europe/Zurich:20251018T170000
DTSTAMP:20260426T003336
CREATED:20240625T134804Z
LAST-MODIFIED:20251018T145230Z
UID:121834-1760796000-1760806800@cevibasel.ch
SUMMARY:Jungschi Allschwil
DESCRIPTION:
URL:https://cevibasel.ch/veranstaltung/jungschi-allschwil-126/
END:VEVENT
BEGIN:VEVENT
DTSTART;TZID=Europe/Zurich:20251018T140000
DTEND;TZID=Europe/Zurich:20251018T170000
DTSTAMP:20260426T003336
CREATED:20240625T134804Z
LAST-MODIFIED:20251018T145230Z
UID:121835-1760796000-1760806800@cevibasel.ch
SUMMARY:Jungschi Thomas
DESCRIPTION:
URL:https://cevibasel.ch/veranstaltung/jungschi-thomas-126/
END:VEVENT
END:VCALENDAR