BEGIN:VCALENDAR
VERSION:2.0
PRODID:-//Cevi Region Basel - ECPv6.15.20//NONSGML v1.0//EN
CALSCALE:GREGORIAN
METHOD:PUBLISH
X-WR-CALNAME:Cevi Region Basel
X-ORIGINAL-URL:https://cevibasel.ch
X-WR-CALDESC:Events for Cevi Region Basel
REFRESH-INTERVAL;VALUE=DURATION:PT1H
X-Robots-Tag:noindex
X-PUBLISHED-TTL:PT1H
BEGIN:VTIMEZONE
TZID:Europe/Zurich
BEGIN:DAYLIGHT
TZOFFSETFROM:+0100
TZOFFSETTO:+0200
TZNAME:CEST
DTSTART:20250330T010000
END:DAYLIGHT
BEGIN:STANDARD
TZOFFSETFROM:+0200
TZOFFSETTO:+0100
TZNAME:CET
DTSTART:20251026T010000
END:STANDARD
BEGIN:DAYLIGHT
TZOFFSETFROM:+0100
TZOFFSETTO:+0200
TZNAME:CEST
DTSTART:20260329T010000
END:DAYLIGHT
BEGIN:STANDARD
TZOFFSETFROM:+0200
TZOFFSETTO:+0100
TZNAME:CET
DTSTART:20261025T010000
END:STANDARD
BEGIN:DAYLIGHT
TZOFFSETFROM:+0100
TZOFFSETTO:+0200
TZNAME:CEST
DTSTART:20270328T010000
END:DAYLIGHT
BEGIN:STANDARD
TZOFFSETFROM:+0200
TZOFFSETTO:+0100
TZNAME:CET
DTSTART:20271031T010000
END:STANDARD
END:VTIMEZONE
BEGIN:VEVENT
DTSTART;TZID=Europe/Zurich:20260905T140000
DTEND;TZID=Europe/Zurich:20260905T170000
DTSTAMP:20260423T223942
CREATED:20240905T003425Z
LAST-MODIFIED:20251117T005437Z
UID:132429-1788616800-1788627600@cevibasel.ch
SUMMARY:Jungschi Allschwil
DESCRIPTION:
URL:https://cevibasel.ch/veranstaltung/jungschi-allschwil-172/
END:VEVENT
BEGIN:VEVENT
DTSTART;TZID=Europe/Zurich:20260907T190000
DTEND;TZID=Europe/Zurich:20260907T203000
DTSTAMP:20260423T223942
CREATED:20240907T013410Z
LAST-MODIFIED:20260205T231411Z
UID:132488-1788807600-1788813000@cevibasel.ch
SUMMARY:Hattrick Men\, 19.00-20.30
DESCRIPTION:
URL:https://cevibasel.ch/veranstaltung/hattrick-men-19-00-20-30-207/
LOCATION:Fussballfelder Pfaffenholz
END:VEVENT
BEGIN:VEVENT
DTSTART;TZID=Europe/Zurich:20260907T203000
DTEND;TZID=Europe/Zurich:20260907T220000
DTSTAMP:20260423T223942
CREATED:20240907T013410Z
LAST-MODIFIED:20260205T231411Z
UID:132487-1788813000-1788818400@cevibasel.ch
SUMMARY:Hattrick Ladies\, 20.30-22.00
DESCRIPTION:
URL:https://cevibasel.ch/veranstaltung/hattrick-ladies-20-30-22-00-208/
LOCATION:Fussballfelder Pfaffenholz
END:VEVENT
BEGIN:VEVENT
DTSTART;TZID=Europe/Zurich:20260908T173000
DTEND;TZID=Europe/Zurich:20260908T190000
DTSTAMP:20260423T223942
CREATED:20240908T014729Z
LAST-MODIFIED:20260205T231411Z
UID:132501-1788888600-1788894000@cevibasel.ch
SUMMARY:Hattrick Riehen (1. bis 3. Klasse)
DESCRIPTION:
URL:https://cevibasel.ch/veranstaltung/hattrick-riehen-1-bis-3-klasse-173/
LOCATION:Fussballplatz Andreasmatte
END:VEVENT
BEGIN:VEVENT
DTSTART;TZID=Europe/Zurich:20260908T180000
DTEND;TZID=Europe/Zurich:20260908T193000
DTSTAMP:20260423T223942
CREATED:20240908T014731Z
LAST-MODIFIED:20260205T231411Z
UID:132502-1788890400-1788895800@cevibasel.ch
SUMMARY:Hattrick Gellert (7-12 Jahre)
DESCRIPTION:
URL:https://cevibasel.ch/veranstaltung/hattrick-gellert-7-12-jahre-173/
LOCATION:Fussballplatz Luftmatt
END:VEVENT
BEGIN:VEVENT
DTSTART;TZID=Europe/Zurich:20260908T190000
DTEND;TZID=Europe/Zurich:20260908T203000
DTSTAMP:20260423T223942
CREATED:20240908T014731Z
LAST-MODIFIED:20260205T231411Z
UID:132503-1788894000-1788899400@cevibasel.ch
SUMMARY:Hattrick Riehen (6. bis 7. Klasse)
DESCRIPTION:
URL:https://cevibasel.ch/veranstaltung/hattrick-riehen-6-bis-7-klasse-173/
LOCATION:Fussballplatz Andreasmatte
END:VEVENT
BEGIN:VEVENT
DTSTART;TZID=Europe/Zurich:20260909T183000
DTEND;TZID=Europe/Zurich:20260909T210000
DTSTAMP:20260423T223942
CREATED:20240909T004916Z
LAST-MODIFIED:20260205T231420Z
UID:132527-1788978600-1788987600@cevibasel.ch
SUMMARY:Ten Sing
DESCRIPTION:
URL:https://cevibasel.ch/veranstaltung/ten-sing-172/
LOCATION:CVJM Haus Kleinbasel
END:VEVENT
BEGIN:VEVENT
DTSTART;TZID=Europe/Zurich:20260910T083000
DTEND;TZID=Europe/Zurich:20260910T113000
DTSTAMP:20260423T223942
CREATED:20240910T004819Z
LAST-MODIFIED:20241214T024935Z
UID:132551-1789029000-1789039800@cevibasel.ch
SUMMARY:Mütterngruppe
DESCRIPTION:
URL:https://cevibasel.ch/veranstaltung/mutterngruppe-503/
LOCATION:Cevi Seki
END:VEVENT
BEGIN:VEVENT
DTSTART;TZID=Europe/Zurich:20260910T083000
DTEND;TZID=Europe/Zurich:20260910T113000
DTSTAMP:20260423T223942
CREATED:20240910T004819Z
LAST-MODIFIED:20241214T024935Z
UID:132552-1789029000-1789039800@cevibasel.ch
SUMMARY:Mütterngruppe
DESCRIPTION:
URL:https://cevibasel.ch/veranstaltung/mutterngruppe-504/
LOCATION:Cevi Seki
END:VEVENT
BEGIN:VEVENT
DTSTART;TZID=Europe/Zurich:20260910T083000
DTEND;TZID=Europe/Zurich:20260910T113000
DTSTAMP:20260423T223942
CREATED:20240910T004819Z
LAST-MODIFIED:20241214T024935Z
UID:132553-1789029000-1789039800@cevibasel.ch
SUMMARY:Mütterngruppe
DESCRIPTION:
URL:https://cevibasel.ch/veranstaltung/mutterngruppe-505/
LOCATION:Cevi Seki
END:VEVENT
BEGIN:VEVENT
DTSTART;TZID=Europe/Zurich:20260910T083000
DTEND;TZID=Europe/Zurich:20260910T113000
DTSTAMP:20260423T223942
CREATED:20240910T004819Z
LAST-MODIFIED:20241214T024931Z
UID:132554-1789029000-1789039800@cevibasel.ch
SUMMARY:Mütterngruppe
DESCRIPTION:
URL:https://cevibasel.ch/veranstaltung/mutterngruppe-506/
LOCATION:Cevi Seki
END:VEVENT
BEGIN:VEVENT
DTSTART;TZID=Europe/Zurich:20260910T083000
DTEND;TZID=Europe/Zurich:20260910T113000
DTSTAMP:20260423T223942
CREATED:20240910T004819Z
LAST-MODIFIED:20241214T024936Z
UID:132555-1789029000-1789039800@cevibasel.ch
SUMMARY:Mütterngruppe
DESCRIPTION:
URL:https://cevibasel.ch/veranstaltung/mutterngruppe-507/
LOCATION:Cevi Seki
END:VEVENT
BEGIN:VEVENT
DTSTART;TZID=Europe/Zurich:20260910T083000
DTEND;TZID=Europe/Zurich:20260910T113000
DTSTAMP:20260423T223942
CREATED:20240910T004822Z
LAST-MODIFIED:20241214T024936Z
UID:132556-1789029000-1789039800@cevibasel.ch
SUMMARY:Mütterngruppe
DESCRIPTION:
URL:https://cevibasel.ch/veranstaltung/mutterngruppe-508/
LOCATION:Cevi Seki
END:VEVENT
BEGIN:VEVENT
DTSTART;TZID=Europe/Zurich:20260910T083000
DTEND;TZID=Europe/Zurich:20260910T113000
DTSTAMP:20260423T223942
CREATED:20240910T004822Z
LAST-MODIFIED:20241214T024935Z
UID:132557-1789029000-1789039800@cevibasel.ch
SUMMARY:Mütterngruppe
DESCRIPTION:
URL:https://cevibasel.ch/veranstaltung/mutterngruppe-509/
LOCATION:Cevi Seki
END:VEVENT
BEGIN:VEVENT
DTSTART;TZID=Europe/Zurich:20260910T083000
DTEND;TZID=Europe/Zurich:20260910T113000
DTSTAMP:20260423T223942
CREATED:20240910T004822Z
LAST-MODIFIED:20260205T231420Z
UID:132558-1789029000-1789039800@cevibasel.ch
SUMMARY:Mütterngruppe
DESCRIPTION:
URL:https://cevibasel.ch/veranstaltung/mutterngruppe-510/
LOCATION:Cevi Seki
END:VEVENT
BEGIN:VEVENT
DTSTART;TZID=Europe/Zurich:20260910T083000
DTEND;TZID=Europe/Zurich:20260910T113000
DTSTAMP:20260423T223942
CREATED:20240910T004822Z
LAST-MODIFIED:20241214T024932Z
UID:132559-1789029000-1789039800@cevibasel.ch
SUMMARY:Mütterngruppe
DESCRIPTION:
URL:https://cevibasel.ch/veranstaltung/mutterngruppe-511/
LOCATION:Cevi Seki
END:VEVENT
BEGIN:VEVENT
DTSTART;TZID=Europe/Zurich:20260911T173000
DTEND;TZID=Europe/Zurich:20260911T190000
DTSTAMP:20260423T223942
CREATED:20240911T004940Z
LAST-MODIFIED:20260205T231421Z
UID:132598-1789147800-1789153200@cevibasel.ch
SUMMARY:Hattrick Riehen (4. bis 5. Klasse)
DESCRIPTION:
URL:https://cevibasel.ch/veranstaltung/hattrick-riehen-4-bis-5-klasse-173/
LOCATION:Andreasmatte
END:VEVENT
BEGIN:VEVENT
DTSTART;TZID=Europe/Zurich:20260911T173000
DTEND;TZID=Europe/Zurich:20260911T190000
DTSTAMP:20260423T223942
CREATED:20240911T004940Z
LAST-MODIFIED:20260205T231421Z
UID:132597-1789147800-1789153200@cevibasel.ch
SUMMARY:Hattrick Basel West (7-15 Jahre)
DESCRIPTION:
URL:https://cevibasel.ch/veranstaltung/hattrick-basel-west-7-15-jahre-173/
END:VEVENT
BEGIN:VEVENT
DTSTART;TZID=Europe/Zurich:20260911T190000
DTEND;TZID=Europe/Zurich:20260911T203000
DTSTAMP:20260423T223942
CREATED:20240911T004940Z
LAST-MODIFIED:20260205T231420Z
UID:132596-1789153200-1789158600@cevibasel.ch
SUMMARY:Hattrick Basel West (16-18 Jahre)
DESCRIPTION:
URL:https://cevibasel.ch/veranstaltung/hattrick-basel-west-16-18-jahre-173/
LOCATION:Fussballfelder Pfaffenholz
END:VEVENT
BEGIN:VEVENT
DTSTART;VALUE=DATE:20260912
DTEND;VALUE=DATE:20260913
DTSTAMP:20260423T223942
CREATED:20251120T030442Z
LAST-MODIFIED:20260205T231432Z
UID:169918-1789171200-1789257599@cevibasel.ch
SUMMARY:Jungschar Angebote
DESCRIPTION:
URL:https://cevibasel.ch/veranstaltung/jungscharangebote-37/
END:VEVENT
BEGIN:VEVENT
DTSTART;TZID=Europe/Zurich:20260912T133000
DTEND;TZID=Europe/Zurich:20260912T153000
DTSTAMP:20260423T223942
CREATED:20240912T011915Z
LAST-MODIFIED:20251120T120754Z
UID:132674-1789219800-1789227000@cevibasel.ch
SUMMARY:Hattrick Gundeli (6-11 Jahre)
DESCRIPTION:
URL:https://cevibasel.ch/veranstaltung/hattrick-gundeli-6-11-jahre-173/
LOCATION:Margarethenpark
END:VEVENT
BEGIN:VEVENT
DTSTART;TZID=Europe/Zurich:20260912T140000
DTEND;TZID=Europe/Zurich:20260912T170000
DTSTAMP:20260423T223942
CREATED:20240912T011914Z
LAST-MODIFIED:20251117T005440Z
UID:132668-1789221600-1789232400@cevibasel.ch
SUMMARY:Jungschi Gotthelf-Neubad
DESCRIPTION:
URL:https://cevibasel.ch/veranstaltung/jungschi-gotthelf-neubad-173/
END:VEVENT
BEGIN:VEVENT
DTSTART;TZID=Europe/Zurich:20260912T140000
DTEND;TZID=Europe/Zurich:20260912T170000
DTSTAMP:20260423T223942
CREATED:20240912T011914Z
LAST-MODIFIED:20251117T005441Z
UID:132669-1789221600-1789232400@cevibasel.ch
SUMMARY:Jungschi Allschwil
DESCRIPTION:
URL:https://cevibasel.ch/veranstaltung/jungschi-allschwil-173/
END:VEVENT
BEGIN:VEVENT
DTSTART;TZID=Europe/Zurich:20260912T140000
DTEND;TZID=Europe/Zurich:20260912T170000
DTSTAMP:20260423T223942
CREATED:20240912T011915Z
LAST-MODIFIED:20251117T005441Z
UID:132672-1789221600-1789232400@cevibasel.ch
SUMMARY:Jungschi Ettigen & Therwil
DESCRIPTION:
URL:https://cevibasel.ch/veranstaltung/jungschi-ettigen-therwil-173/
END:VEVENT
BEGIN:VEVENT
DTSTART;TZID=Europe/Zurich:20260912T140000
DTEND;TZID=Europe/Zurich:20260912T170000
DTSTAMP:20260423T223942
CREATED:20240912T011915Z
LAST-MODIFIED:20251117T005441Z
UID:132673-1789221600-1789232400@cevibasel.ch
SUMMARY:Jungschi Thomas
DESCRIPTION:
URL:https://cevibasel.ch/veranstaltung/jungschi-thomas-173/
END:VEVENT
BEGIN:VEVENT
DTSTART;TZID=Europe/Zurich:20260912T140000
DTEND;TZID=Europe/Zurich:20260912T170000
DTSTAMP:20260423T223942
CREATED:20240912T011915Z
LAST-MODIFIED:20251117T005441Z
UID:132670-1789221600-1789232400@cevibasel.ch
SUMMARY:Jungschi Binningen
DESCRIPTION:
URL:https://cevibasel.ch/veranstaltung/jungschi-binningen-173/
END:VEVENT
BEGIN:VEVENT
DTSTART;TZID=Europe/Zurich:20260912T140000
DTEND;TZID=Europe/Zurich:20260912T170000
DTSTAMP:20260423T223942
CREATED:20240912T011915Z
LAST-MODIFIED:20241105T012956Z
UID:132671-1789221600-1789232400@cevibasel.ch
SUMMARY:Jungschi Reinach
DESCRIPTION:
URL:https://cevibasel.ch/veranstaltung/jungschi-reinach-173/
END:VEVENT
BEGIN:VEVENT
DTSTART;TZID=Europe/Zurich:20260912T140000
DTEND;TZID=Europe/Zurich:20260912T170000
DTSTAMP:20260423T223942
CREATED:20240912T011919Z
LAST-MODIFIED:20241105T012959Z
UID:132677-1789221600-1789232400@cevibasel.ch
SUMMARY:Jungschi Muttenz
DESCRIPTION:
URL:https://cevibasel.ch/veranstaltung/jungschi-muttenz-173/
END:VEVENT
BEGIN:VEVENT
DTSTART;TZID=Europe/Zurich:20260912T140000
DTEND;TZID=Europe/Zurich:20260912T170000
DTSTAMP:20260423T223942
CREATED:20240912T011919Z
LAST-MODIFIED:20251117T005440Z
UID:132675-1789221600-1789232400@cevibasel.ch
SUMMARY:Jungschi Bubendorf
DESCRIPTION:
URL:https://cevibasel.ch/veranstaltung/jungschi-bubendorf-173/
END:VEVENT
BEGIN:VEVENT
DTSTART;TZID=Europe/Zurich:20260912T140000
DTEND;TZID=Europe/Zurich:20260912T170000
DTSTAMP:20260423T223942
CREATED:20240912T011919Z
LAST-MODIFIED:20251117T005441Z
UID:132676-1789221600-1789232400@cevibasel.ch
SUMMARY:Jungschi Titus
DESCRIPTION:
URL:https://cevibasel.ch/veranstaltung/jungschi-titus-173/
END:VEVENT
END:VCALENDAR