BEGIN:VCALENDAR
VERSION:2.0
PRODID:-//Cevi Region Basel - ECPv6.15.20//NONSGML v1.0//EN
CALSCALE:GREGORIAN
METHOD:PUBLISH
X-ORIGINAL-URL:https://cevibasel.ch
X-WR-CALDESC:Events for Cevi Region Basel
REFRESH-INTERVAL;VALUE=DURATION:PT1H
X-Robots-Tag:noindex
X-PUBLISHED-TTL:PT1H
BEGIN:VTIMEZONE
TZID:Europe/Zurich
BEGIN:DAYLIGHT
TZOFFSETFROM:+0100
TZOFFSETTO:+0200
TZNAME:CEST
DTSTART:20250330T010000
END:DAYLIGHT
BEGIN:STANDARD
TZOFFSETFROM:+0200
TZOFFSETTO:+0100
TZNAME:CET
DTSTART:20251026T010000
END:STANDARD
BEGIN:DAYLIGHT
TZOFFSETFROM:+0100
TZOFFSETTO:+0200
TZNAME:CEST
DTSTART:20260329T010000
END:DAYLIGHT
BEGIN:STANDARD
TZOFFSETFROM:+0200
TZOFFSETTO:+0100
TZNAME:CET
DTSTART:20261025T010000
END:STANDARD
BEGIN:DAYLIGHT
TZOFFSETFROM:+0100
TZOFFSETTO:+0200
TZNAME:CEST
DTSTART:20270328T010000
END:DAYLIGHT
BEGIN:STANDARD
TZOFFSETFROM:+0200
TZOFFSETTO:+0100
TZNAME:CET
DTSTART:20271031T010000
END:STANDARD
END:VTIMEZONE
BEGIN:VEVENT
DTSTART;TZID=Europe/Zurich:20260801T140000
DTEND;TZID=Europe/Zurich:20260801T170000
DTSTAMP:20260423T133807
CREATED:20240801T004631Z
LAST-MODIFIED:20241105T080333Z
UID:126224-1785592800-1785603600@cevibasel.ch
SUMMARY:Jungschi Reinach
DESCRIPTION:
URL:https://cevibasel.ch/veranstaltung/jungschi-reinach-167/
END:VEVENT
BEGIN:VEVENT
DTSTART;TZID=Europe/Zurich:20260801T140000
DTEND;TZID=Europe/Zurich:20260801T170000
DTSTAMP:20260423T133807
CREATED:20240801T004633Z
LAST-MODIFIED:20251117T005417Z
UID:126229-1785592800-1785603600@cevibasel.ch
SUMMARY:Jungschi Thomas
DESCRIPTION:
URL:https://cevibasel.ch/veranstaltung/jungschi-thomas-167/
END:VEVENT
BEGIN:VEVENT
DTSTART;TZID=Europe/Zurich:20260803T190000
DTEND;TZID=Europe/Zurich:20260803T203000
DTSTAMP:20260423T133807
CREATED:20240803T003419Z
LAST-MODIFIED:20260206T033434Z
UID:126261-1785783600-1785789000@cevibasel.ch
SUMMARY:Hattrick Men\, 19.00-20.30
DESCRIPTION:
URL:https://cevibasel.ch/veranstaltung/hattrick-men-19-00-20-30-202/
LOCATION:Fussballfelder Pfaffenholz
END:VEVENT
BEGIN:VEVENT
DTSTART;TZID=Europe/Zurich:20260803T203000
DTEND;TZID=Europe/Zurich:20260803T220000
DTSTAMP:20260423T133807
CREATED:20240803T003419Z
LAST-MODIFIED:20260206T033434Z
UID:126262-1785789000-1785794400@cevibasel.ch
SUMMARY:Hattrick Ladies\, 20.30-22.00
DESCRIPTION:
URL:https://cevibasel.ch/veranstaltung/hattrick-ladies-20-30-22-00-203/
LOCATION:Fussballfelder Pfaffenholz
END:VEVENT
BEGIN:VEVENT
DTSTART;TZID=Europe/Zurich:20260804T173000
DTEND;TZID=Europe/Zurich:20260804T190000
DTSTAMP:20260423T133807
CREATED:20240804T150438Z
LAST-MODIFIED:20260206T033434Z
UID:126287-1785864600-1785870000@cevibasel.ch
SUMMARY:Hattrick Riehen (1. bis 3. Klasse)
DESCRIPTION:
URL:https://cevibasel.ch/veranstaltung/hattrick-riehen-1-bis-3-klasse-168/
LOCATION:Fussballplatz Andreasmatte
END:VEVENT
BEGIN:VEVENT
DTSTART;TZID=Europe/Zurich:20260804T180000
DTEND;TZID=Europe/Zurich:20260804T193000
DTSTAMP:20260423T133807
CREATED:20240804T150438Z
LAST-MODIFIED:20260206T033434Z
UID:126289-1785866400-1785871800@cevibasel.ch
SUMMARY:Hattrick Gellert (7-12 Jahre)
DESCRIPTION:
URL:https://cevibasel.ch/veranstaltung/hattrick-gellert-7-12-jahre-168/
LOCATION:Fussballplatz Luftmatt
END:VEVENT
BEGIN:VEVENT
DTSTART;TZID=Europe/Zurich:20260804T190000
DTEND;TZID=Europe/Zurich:20260804T203000
DTSTAMP:20260423T133807
CREATED:20240804T150438Z
LAST-MODIFIED:20260206T033434Z
UID:126288-1785870000-1785875400@cevibasel.ch
SUMMARY:Hattrick Riehen (6. bis 7. Klasse)
DESCRIPTION:
URL:https://cevibasel.ch/veranstaltung/hattrick-riehen-6-bis-7-klasse-168/
LOCATION:Fussballplatz Andreasmatte
END:VEVENT
BEGIN:VEVENT
DTSTART;TZID=Europe/Zurich:20260805T083000
DTEND;TZID=Europe/Zurich:20260805T110000
DTSTAMP:20260423T133807
CREATED:20240815T050310Z
LAST-MODIFIED:20260206T033529Z
UID:129325-1785918600-1785927600@cevibasel.ch
SUMMARY:Mütterngruppe
DESCRIPTION:
URL:https://cevibasel.ch/veranstaltung/mutterngruppe-482/
LOCATION:Cevi Seki
END:VEVENT
BEGIN:VEVENT
DTSTART;TZID=Europe/Zurich:20260805T183000
DTEND;TZID=Europe/Zurich:20260805T210000
DTSTAMP:20260423T133807
CREATED:20240806T071815Z
LAST-MODIFIED:20260206T033529Z
UID:126296-1785954600-1785963600@cevibasel.ch
SUMMARY:Ten Sing
DESCRIPTION:
URL:https://cevibasel.ch/veranstaltung/ten-sing-167/
LOCATION:CVJM Haus Kleinbasel
END:VEVENT
BEGIN:VEVENT
DTSTART;TZID=Europe/Zurich:20260806T080000
DTEND;TZID=Europe/Zurich:20260806T103000
DTSTAMP:20260423T133807
CREATED:20240806T071815Z
LAST-MODIFIED:20240811T144926Z
UID:126297-1786003200-1786012200@cevibasel.ch
SUMMARY:Mütterngruppe
DESCRIPTION:
URL:https://cevibasel.ch/veranstaltung/mutterngruppe-3/
LOCATION:Cevi Seki
END:VEVENT
BEGIN:VEVENT
DTSTART;TZID=Europe/Zurich:20260807T173000
DTEND;TZID=Europe/Zurich:20260807T190000
DTSTAMP:20260423T133807
CREATED:20240807T020344Z
LAST-MODIFIED:20260206T033529Z
UID:126308-1786123800-1786129200@cevibasel.ch
SUMMARY:Hattrick Riehen (4. bis 5. Klasse)
DESCRIPTION:
URL:https://cevibasel.ch/veranstaltung/hattrick-riehen-4-bis-5-klasse-168/
LOCATION:Andreasmatte
END:VEVENT
BEGIN:VEVENT
DTSTART;TZID=Europe/Zurich:20260807T173000
DTEND;TZID=Europe/Zurich:20260807T190000
DTSTAMP:20260423T133807
CREATED:20240807T020344Z
LAST-MODIFIED:20260206T033529Z
UID:126309-1786123800-1786129200@cevibasel.ch
SUMMARY:Hattrick Basel West (7-15 Jahre)
DESCRIPTION:
URL:https://cevibasel.ch/veranstaltung/hattrick-basel-west-7-15-jahre-168/
END:VEVENT
BEGIN:VEVENT
DTSTART;TZID=Europe/Zurich:20260807T190000
DTEND;TZID=Europe/Zurich:20260807T203000
DTSTAMP:20260423T133807
CREATED:20240807T020344Z
LAST-MODIFIED:20260206T033529Z
UID:126310-1786129200-1786134600@cevibasel.ch
SUMMARY:Hattrick Basel West (16-18 Jahre)
DESCRIPTION:
URL:https://cevibasel.ch/veranstaltung/hattrick-basel-west-16-18-jahre-168/
LOCATION:Fussballfelder Pfaffenholz
END:VEVENT
BEGIN:VEVENT
DTSTART;VALUE=DATE:20260808
DTEND;VALUE=DATE:20260809
DTSTAMP:20260423T133807
CREATED:20251120T030306Z
LAST-MODIFIED:20260205T231255Z
UID:169911-1786147200-1786233599@cevibasel.ch
SUMMARY:Jungschar Angebote
DESCRIPTION:
URL:https://cevibasel.ch/veranstaltung/jungscharangebote-32/
END:VEVENT
BEGIN:VEVENT
DTSTART;TZID=Europe/Zurich:20260808T133000
DTEND;TZID=Europe/Zurich:20260808T153000
DTSTAMP:20260423T133807
CREATED:20240808T073430Z
LAST-MODIFIED:20251120T120729Z
UID:127269-1786195800-1786203000@cevibasel.ch
SUMMARY:Hattrick Gundeli (6-11 Jahre)
DESCRIPTION:
URL:https://cevibasel.ch/veranstaltung/hattrick-gundeli-6-11-jahre-168/
LOCATION:Margarethenpark
END:VEVENT
BEGIN:VEVENT
DTSTART;TZID=Europe/Zurich:20260808T140000
DTEND;TZID=Europe/Zurich:20260808T170000
DTSTAMP:20260423T133807
CREATED:20240808T073427Z
LAST-MODIFIED:20251117T005420Z
UID:127266-1786197600-1786208400@cevibasel.ch
SUMMARY:Jungschi Allschwil
DESCRIPTION:
URL:https://cevibasel.ch/veranstaltung/jungschi-allschwil-168/
END:VEVENT
BEGIN:VEVENT
DTSTART;TZID=Europe/Zurich:20260808T140000
DTEND;TZID=Europe/Zurich:20260808T170000
DTSTAMP:20260423T133807
CREATED:20240808T073427Z
LAST-MODIFIED:20251117T005421Z
UID:127267-1786197600-1786208400@cevibasel.ch
SUMMARY:Jungschi Titus
DESCRIPTION:
URL:https://cevibasel.ch/veranstaltung/jungschi-titus-168/
END:VEVENT
BEGIN:VEVENT
DTSTART;TZID=Europe/Zurich:20260808T140000
DTEND;TZID=Europe/Zurich:20260808T170000
DTSTAMP:20260423T133807
CREATED:20240808T073427Z
LAST-MODIFIED:20241105T080347Z
UID:127265-1786197600-1786208400@cevibasel.ch
SUMMARY:Jungschi Muttenz
DESCRIPTION:
URL:https://cevibasel.ch/veranstaltung/jungschi-muttenz-168/
END:VEVENT
BEGIN:VEVENT
DTSTART;TZID=Europe/Zurich:20260808T140000
DTEND;TZID=Europe/Zurich:20260808T170000
DTSTAMP:20260423T133807
CREATED:20240808T073430Z
LAST-MODIFIED:20251117T005420Z
UID:127272-1786197600-1786208400@cevibasel.ch
SUMMARY:Jungschi Bubendorf
DESCRIPTION:
URL:https://cevibasel.ch/veranstaltung/jungschi-bubendorf-168/
END:VEVENT
BEGIN:VEVENT
DTSTART;TZID=Europe/Zurich:20260808T140000
DTEND;TZID=Europe/Zurich:20260808T170000
DTSTAMP:20260423T133807
CREATED:20240808T073430Z
LAST-MODIFIED:20251117T005420Z
UID:127268-1786197600-1786208400@cevibasel.ch
SUMMARY:Jungschi Gotthelf-Neubad
DESCRIPTION:
URL:https://cevibasel.ch/veranstaltung/jungschi-gotthelf-neubad-168/
END:VEVENT
BEGIN:VEVENT
DTSTART;TZID=Europe/Zurich:20260808T140000
DTEND;TZID=Europe/Zurich:20260808T170000
DTSTAMP:20260423T133807
CREATED:20240808T073430Z
LAST-MODIFIED:20251117T005420Z
UID:127270-1786197600-1786208400@cevibasel.ch
SUMMARY:Jungschi Binningen
DESCRIPTION:
URL:https://cevibasel.ch/veranstaltung/jungschi-binningen-168/
END:VEVENT
BEGIN:VEVENT
DTSTART;TZID=Europe/Zurich:20260808T140000
DTEND;TZID=Europe/Zurich:20260808T170000
DTSTAMP:20260423T133807
CREATED:20240808T073430Z
LAST-MODIFIED:20241105T080347Z
UID:127271-1786197600-1786208400@cevibasel.ch
SUMMARY:Jungschi Reinach
DESCRIPTION:
URL:https://cevibasel.ch/veranstaltung/jungschi-reinach-168/
END:VEVENT
BEGIN:VEVENT
DTSTART;TZID=Europe/Zurich:20260808T140000
DTEND;TZID=Europe/Zurich:20260808T170000
DTSTAMP:20260423T133807
CREATED:20240808T073432Z
LAST-MODIFIED:20251117T005421Z
UID:127273-1786197600-1786208400@cevibasel.ch
SUMMARY:Jungschi Ettigen & Therwil
DESCRIPTION:
URL:https://cevibasel.ch/veranstaltung/jungschi-ettigen-therwil-168/
END:VEVENT
BEGIN:VEVENT
DTSTART;TZID=Europe/Zurich:20260808T140000
DTEND;TZID=Europe/Zurich:20260808T170000
DTSTAMP:20260423T133807
CREATED:20240808T073432Z
LAST-MODIFIED:20251117T005421Z
UID:127274-1786197600-1786208400@cevibasel.ch
SUMMARY:Jungschi Thomas
DESCRIPTION:
URL:https://cevibasel.ch/veranstaltung/jungschi-thomas-168/
END:VEVENT
BEGIN:VEVENT
DTSTART;TZID=Europe/Zurich:20260810T190000
DTEND;TZID=Europe/Zurich:20260810T203000
DTSTAMP:20260423T133807
CREATED:20240810T001901Z
LAST-MODIFIED:20260205T231255Z
UID:127310-1786388400-1786393800@cevibasel.ch
SUMMARY:Hattrick Men\, 19.00-20.30
DESCRIPTION:
URL:https://cevibasel.ch/veranstaltung/hattrick-men-19-00-20-30-203/
LOCATION:Fussballfelder Pfaffenholz
END:VEVENT
BEGIN:VEVENT
DTSTART;TZID=Europe/Zurich:20260810T203000
DTEND;TZID=Europe/Zurich:20260810T220000
DTSTAMP:20260423T133807
CREATED:20240810T001901Z
LAST-MODIFIED:20260205T231255Z
UID:127309-1786393800-1786399200@cevibasel.ch
SUMMARY:Hattrick Ladies\, 20.30-22.00
DESCRIPTION:
URL:https://cevibasel.ch/veranstaltung/hattrick-ladies-20-30-22-00-204/
LOCATION:Fussballfelder Pfaffenholz
END:VEVENT
BEGIN:VEVENT
DTSTART;TZID=Europe/Zurich:20260811T173000
DTEND;TZID=Europe/Zurich:20260811T190000
DTSTAMP:20260423T133807
CREATED:20240811T013349Z
LAST-MODIFIED:20260205T231255Z
UID:127331-1786469400-1786474800@cevibasel.ch
SUMMARY:Hattrick Riehen (1. bis 3. Klasse)
DESCRIPTION:
URL:https://cevibasel.ch/veranstaltung/hattrick-riehen-1-bis-3-klasse-169/
LOCATION:Fussballplatz Andreasmatte
END:VEVENT
BEGIN:VEVENT
DTSTART;TZID=Europe/Zurich:20260811T180000
DTEND;TZID=Europe/Zurich:20260811T193000
DTSTAMP:20260423T133807
CREATED:20240811T013350Z
LAST-MODIFIED:20260205T231257Z
UID:127333-1786471200-1786476600@cevibasel.ch
SUMMARY:Hattrick Gellert (7-12 Jahre)
DESCRIPTION:
URL:https://cevibasel.ch/veranstaltung/hattrick-gellert-7-12-jahre-169/
LOCATION:Fussballplatz Luftmatt
END:VEVENT
BEGIN:VEVENT
DTSTART;TZID=Europe/Zurich:20260811T190000
DTEND;TZID=Europe/Zurich:20260811T203000
DTSTAMP:20260423T133807
CREATED:20240811T013350Z
LAST-MODIFIED:20260205T231255Z
UID:127332-1786474800-1786480200@cevibasel.ch
SUMMARY:Hattrick Riehen (6. bis 7. Klasse)
DESCRIPTION:
URL:https://cevibasel.ch/veranstaltung/hattrick-riehen-6-bis-7-klasse-169/
LOCATION:Fussballplatz Andreasmatte
END:VEVENT
BEGIN:VEVENT
DTSTART;TZID=Europe/Zurich:20260812T183000
DTEND;TZID=Europe/Zurich:20260812T210000
DTSTAMP:20260423T133807
CREATED:20240815T050326Z
LAST-MODIFIED:20260205T231257Z
UID:129326-1786559400-1786568400@cevibasel.ch
SUMMARY:Ten Sing
DESCRIPTION:
URL:https://cevibasel.ch/veranstaltung/ten-sing-168/
LOCATION:CVJM Haus Kleinbasel
END:VEVENT
END:VCALENDAR