BEGIN:VCALENDAR
VERSION:2.0
PRODID:-//Cevi Region Basel - ECPv6.15.20//NONSGML v1.0//EN
CALSCALE:GREGORIAN
METHOD:PUBLISH
X-ORIGINAL-URL:https://cevibasel.ch
X-WR-CALDESC:Events for Cevi Region Basel
REFRESH-INTERVAL;VALUE=DURATION:PT1H
X-Robots-Tag:noindex
X-PUBLISHED-TTL:PT1H
BEGIN:VTIMEZONE
TZID:Europe/Zurich
BEGIN:DAYLIGHT
TZOFFSETFROM:+0100
TZOFFSETTO:+0200
TZNAME:CEST
DTSTART:20250330T010000
END:DAYLIGHT
BEGIN:STANDARD
TZOFFSETFROM:+0200
TZOFFSETTO:+0100
TZNAME:CET
DTSTART:20251026T010000
END:STANDARD
BEGIN:DAYLIGHT
TZOFFSETFROM:+0100
TZOFFSETTO:+0200
TZNAME:CEST
DTSTART:20260329T010000
END:DAYLIGHT
BEGIN:STANDARD
TZOFFSETFROM:+0200
TZOFFSETTO:+0100
TZNAME:CET
DTSTART:20261025T010000
END:STANDARD
BEGIN:DAYLIGHT
TZOFFSETFROM:+0100
TZOFFSETTO:+0200
TZNAME:CEST
DTSTART:20270328T010000
END:DAYLIGHT
BEGIN:STANDARD
TZOFFSETFROM:+0200
TZOFFSETTO:+0100
TZNAME:CET
DTSTART:20271031T010000
END:STANDARD
END:VTIMEZONE
BEGIN:VEVENT
DTSTART;TZID=Europe/Zurich:20261003T140000
DTEND;TZID=Europe/Zurich:20261003T170000
DTSTAMP:20260423T185956
CREATED:20241003T040434Z
LAST-MODIFIED:20251117T005603Z
UID:135556-1791036000-1791046800@cevibasel.ch
SUMMARY:Jungschi Titus
DESCRIPTION:
URL:https://cevibasel.ch/veranstaltung/jungschi-titus-176/
END:VEVENT
BEGIN:VEVENT
DTSTART;TZID=Europe/Zurich:20261003T140000
DTEND;TZID=Europe/Zurich:20261003T170000
DTSTAMP:20260423T185956
CREATED:20241003T040434Z
LAST-MODIFIED:20241105T013013Z
UID:135552-1791036000-1791046800@cevibasel.ch
SUMMARY:Jungschi Muttenz
DESCRIPTION:
URL:https://cevibasel.ch/veranstaltung/jungschi-muttenz-176/
END:VEVENT
BEGIN:VEVENT
DTSTART;TZID=Europe/Zurich:20261003T140000
DTEND;TZID=Europe/Zurich:20261003T170000
DTSTAMP:20260423T185956
CREATED:20241003T040434Z
LAST-MODIFIED:20241105T013015Z
UID:135553-1791036000-1791046800@cevibasel.ch
SUMMARY:Jungschi Reinach
DESCRIPTION:
URL:https://cevibasel.ch/veranstaltung/jungschi-reinach-176/
END:VEVENT
BEGIN:VEVENT
DTSTART;TZID=Europe/Zurich:20261003T140000
DTEND;TZID=Europe/Zurich:20261003T170000
DTSTAMP:20260423T185956
CREATED:20241003T040434Z
LAST-MODIFIED:20251117T005602Z
UID:135554-1791036000-1791046800@cevibasel.ch
SUMMARY:Jungschi Bubendorf
DESCRIPTION:
URL:https://cevibasel.ch/veranstaltung/jungschi-bubendorf-176/
END:VEVENT
BEGIN:VEVENT
DTSTART;TZID=Europe/Zurich:20261003T140000
DTEND;TZID=Europe/Zurich:20261003T170000
DTSTAMP:20260423T185956
CREATED:20241003T040434Z
LAST-MODIFIED:20251117T005603Z
UID:135555-1791036000-1791046800@cevibasel.ch
SUMMARY:Jungschi Ettigen & Therwil
DESCRIPTION:
URL:https://cevibasel.ch/veranstaltung/jungschi-ettigen-therwil-176/
END:VEVENT
BEGIN:VEVENT
DTSTART;TZID=Europe/Zurich:20261003T140000
DTEND;TZID=Europe/Zurich:20261003T170000
DTSTAMP:20260423T185956
CREATED:20241003T040435Z
LAST-MODIFIED:20251117T005603Z
UID:135557-1791036000-1791046800@cevibasel.ch
SUMMARY:Jungschi Allschwil
DESCRIPTION:
URL:https://cevibasel.ch/veranstaltung/jungschi-allschwil-176/
END:VEVENT
BEGIN:VEVENT
DTSTART;VALUE=DATE:20261004
DTEND;VALUE=DATE:20261017
DTSTAMP:20260423T185956
CREATED:20251023T045646Z
LAST-MODIFIED:20260205T231502Z
UID:169446-1791072000-1792195199@cevibasel.ch
SUMMARY:Konfestival Lager B
DESCRIPTION:
URL:https://cevibasel.ch/veranstaltung/konfestival-lager-b-6/
LOCATION:Vaumarcus le camp\nRoute du Camp 7\, 2028 Vaumarcus\, Schweiz
END:VEVENT
BEGIN:VEVENT
DTSTART;TZID=Europe/Zurich:20261005T190000
DTEND;TZID=Europe/Zurich:20261005T203000
DTSTAMP:20260423T185956
CREATED:20241005T131527Z
LAST-MODIFIED:20260205T231502Z
UID:135596-1791226800-1791232200@cevibasel.ch
SUMMARY:Hattrick Men\, 19.00-20.30
DESCRIPTION:
URL:https://cevibasel.ch/veranstaltung/hattrick-men-19-00-20-30-211/
LOCATION:Fussballfelder Pfaffenholz
END:VEVENT
BEGIN:VEVENT
DTSTART;TZID=Europe/Zurich:20261005T203000
DTEND;TZID=Europe/Zurich:20261005T220000
DTSTAMP:20260423T185956
CREATED:20241005T131527Z
LAST-MODIFIED:20260205T231517Z
UID:135597-1791232200-1791237600@cevibasel.ch
SUMMARY:Hattrick Ladies\, 20.30-22.00
DESCRIPTION:
URL:https://cevibasel.ch/veranstaltung/hattrick-ladies-20-30-22-00-212/
LOCATION:Fussballfelder Pfaffenholz
END:VEVENT
BEGIN:VEVENT
DTSTART;TZID=Europe/Zurich:20261006T173000
DTEND;TZID=Europe/Zurich:20261006T190000
DTSTAMP:20260423T185956
CREATED:20241007T024344Z
LAST-MODIFIED:20260205T231517Z
UID:135607-1791307800-1791313200@cevibasel.ch
SUMMARY:Hattrick Riehen (1. bis 3. Klasse)
DESCRIPTION:
URL:https://cevibasel.ch/veranstaltung/hattrick-riehen-1-bis-3-klasse-177/
LOCATION:Fussballplatz Andreasmatte
END:VEVENT
BEGIN:VEVENT
DTSTART;TZID=Europe/Zurich:20261006T180000
DTEND;TZID=Europe/Zurich:20261006T193000
DTSTAMP:20260423T185956
CREATED:20241007T024344Z
LAST-MODIFIED:20260205T231517Z
UID:135609-1791309600-1791315000@cevibasel.ch
SUMMARY:Hattrick Gellert (7-12 Jahre)
DESCRIPTION:
URL:https://cevibasel.ch/veranstaltung/hattrick-gellert-7-12-jahre-177/
LOCATION:Fussballplatz Luftmatt
END:VEVENT
BEGIN:VEVENT
DTSTART;TZID=Europe/Zurich:20261006T190000
DTEND;TZID=Europe/Zurich:20261006T203000
DTSTAMP:20260423T185956
CREATED:20241007T024344Z
LAST-MODIFIED:20260205T231502Z
UID:135608-1791313200-1791318600@cevibasel.ch
SUMMARY:Hattrick Riehen (6. bis 7. Klasse)
DESCRIPTION:
URL:https://cevibasel.ch/veranstaltung/hattrick-riehen-6-bis-7-klasse-177/
LOCATION:Fussballplatz Andreasmatte
END:VEVENT
BEGIN:VEVENT
DTSTART;TZID=Europe/Zurich:20261007T183000
DTEND;TZID=Europe/Zurich:20261007T210000
DTSTAMP:20260423T185956
CREATED:20241007T024348Z
LAST-MODIFIED:20260205T231502Z
UID:135610-1791397800-1791406800@cevibasel.ch
SUMMARY:Ten Sing
DESCRIPTION:
URL:https://cevibasel.ch/veranstaltung/ten-sing-176/
LOCATION:CVJM Haus Kleinbasel
END:VEVENT
BEGIN:VEVENT
DTSTART;TZID=Europe/Zurich:20261008T083000
DTEND;TZID=Europe/Zurich:20261008T113000
DTSTAMP:20260423T185956
CREATED:20241008T034629Z
LAST-MODIFIED:20241130T210421Z
UID:135619-1791448200-1791459000@cevibasel.ch
SUMMARY:Mütterngruppe
DESCRIPTION:
URL:https://cevibasel.ch/veranstaltung/mutterngruppe-523/
LOCATION:Cevi Seki
END:VEVENT
BEGIN:VEVENT
DTSTART;TZID=Europe/Zurich:20261008T083000
DTEND;TZID=Europe/Zurich:20261008T113000
DTSTAMP:20260423T185956
CREATED:20241008T034630Z
LAST-MODIFIED:20241130T210421Z
UID:135621-1791448200-1791459000@cevibasel.ch
SUMMARY:Mütterngruppe
DESCRIPTION:
URL:https://cevibasel.ch/veranstaltung/mutterngruppe-525/
LOCATION:Cevi Seki
END:VEVENT
BEGIN:VEVENT
DTSTART;TZID=Europe/Zurich:20261008T083000
DTEND;TZID=Europe/Zurich:20261008T113000
DTSTAMP:20260423T185956
CREATED:20241008T034630Z
LAST-MODIFIED:20241130T210421Z
UID:135622-1791448200-1791459000@cevibasel.ch
SUMMARY:Mütterngruppe
DESCRIPTION:
URL:https://cevibasel.ch/veranstaltung/mutterngruppe-526/
LOCATION:Cevi Seki
END:VEVENT
BEGIN:VEVENT
DTSTART;TZID=Europe/Zurich:20261008T083000
DTEND;TZID=Europe/Zurich:20261008T113000
DTSTAMP:20260423T185956
CREATED:20241008T034630Z
LAST-MODIFIED:20241130T210420Z
UID:135620-1791448200-1791459000@cevibasel.ch
SUMMARY:Mütterngruppe
DESCRIPTION:
URL:https://cevibasel.ch/veranstaltung/mutterngruppe-524/
LOCATION:Cevi Seki
END:VEVENT
BEGIN:VEVENT
DTSTART;TZID=Europe/Zurich:20261008T083000
DTEND;TZID=Europe/Zurich:20261008T113000
DTSTAMP:20260423T185956
CREATED:20241008T034631Z
LAST-MODIFIED:20241130T210420Z
UID:135623-1791448200-1791459000@cevibasel.ch
SUMMARY:Mütterngruppe
DESCRIPTION:
URL:https://cevibasel.ch/veranstaltung/mutterngruppe-527/
LOCATION:Cevi Seki
END:VEVENT
BEGIN:VEVENT
DTSTART;TZID=Europe/Zurich:20261008T083000
DTEND;TZID=Europe/Zurich:20261008T113000
DTSTAMP:20260423T185956
CREATED:20241008T034631Z
LAST-MODIFIED:20241130T210420Z
UID:135624-1791448200-1791459000@cevibasel.ch
SUMMARY:Mütterngruppe
DESCRIPTION:
URL:https://cevibasel.ch/veranstaltung/mutterngruppe-528/
LOCATION:Cevi Seki
END:VEVENT
BEGIN:VEVENT
DTSTART;TZID=Europe/Zurich:20261008T083000
DTEND;TZID=Europe/Zurich:20261008T113000
DTSTAMP:20260423T185956
CREATED:20241008T034632Z
LAST-MODIFIED:20241130T210420Z
UID:135627-1791448200-1791459000@cevibasel.ch
SUMMARY:Mütterngruppe
DESCRIPTION:
URL:https://cevibasel.ch/veranstaltung/mutterngruppe-531/
LOCATION:Cevi Seki
END:VEVENT
BEGIN:VEVENT
DTSTART;TZID=Europe/Zurich:20261008T083000
DTEND;TZID=Europe/Zurich:20261008T113000
DTSTAMP:20260423T185956
CREATED:20241008T034632Z
LAST-MODIFIED:20241130T210420Z
UID:135625-1791448200-1791459000@cevibasel.ch
SUMMARY:Mütterngruppe
DESCRIPTION:
URL:https://cevibasel.ch/veranstaltung/mutterngruppe-529/
LOCATION:Cevi Seki
END:VEVENT
BEGIN:VEVENT
DTSTART;TZID=Europe/Zurich:20261008T083000
DTEND;TZID=Europe/Zurich:20261008T113000
DTSTAMP:20260423T185956
CREATED:20241008T034632Z
LAST-MODIFIED:20260205T231517Z
UID:135626-1791448200-1791459000@cevibasel.ch
SUMMARY:Mütterngruppe
DESCRIPTION:
URL:https://cevibasel.ch/veranstaltung/mutterngruppe-530/
LOCATION:Cevi Seki
END:VEVENT
BEGIN:VEVENT
DTSTART;TZID=Europe/Zurich:20261009T173000
DTEND;TZID=Europe/Zurich:20261009T190000
DTSTAMP:20260423T185956
CREATED:20241009T163215Z
LAST-MODIFIED:20260205T231558Z
UID:136830-1791567000-1791572400@cevibasel.ch
SUMMARY:Hattrick Riehen (4. bis 5. Klasse)
DESCRIPTION:
URL:https://cevibasel.ch/veranstaltung/hattrick-riehen-4-bis-5-klasse-177/
LOCATION:Andreasmatte
END:VEVENT
BEGIN:VEVENT
DTSTART;TZID=Europe/Zurich:20261009T173000
DTEND;TZID=Europe/Zurich:20261009T190000
DTSTAMP:20260423T185956
CREATED:20241009T163215Z
LAST-MODIFIED:20260205T231558Z
UID:136831-1791567000-1791572400@cevibasel.ch
SUMMARY:Hattrick Basel West (7-15 Jahre)
DESCRIPTION:
URL:https://cevibasel.ch/veranstaltung/hattrick-basel-west-7-15-jahre-177/
END:VEVENT
BEGIN:VEVENT
DTSTART;TZID=Europe/Zurich:20261009T190000
DTEND;TZID=Europe/Zurich:20261009T203000
DTSTAMP:20260423T185956
CREATED:20241009T163215Z
LAST-MODIFIED:20260205T231517Z
UID:136832-1791572400-1791577800@cevibasel.ch
SUMMARY:Hattrick Basel West (16-18 Jahre)
DESCRIPTION:
URL:https://cevibasel.ch/veranstaltung/hattrick-basel-west-16-18-jahre-177/
LOCATION:Fussballfelder Pfaffenholz
END:VEVENT
BEGIN:VEVENT
DTSTART;VALUE=DATE:20261010
DTEND;VALUE=DATE:20261011
DTSTAMP:20260423T185956
CREATED:20251120T031834Z
LAST-MODIFIED:20260205T231558Z
UID:169955-1791590400-1791676799@cevibasel.ch
SUMMARY:Jungschar Angebote
DESCRIPTION:
URL:https://cevibasel.ch/veranstaltung/jungscharangebote-41/
END:VEVENT
BEGIN:VEVENT
DTSTART;TZID=Europe/Zurich:20261010T133000
DTEND;TZID=Europe/Zurich:20261010T153000
DTSTAMP:20260423T185956
CREATED:20241010T004847Z
LAST-MODIFIED:20251120T120807Z
UID:136840-1791639000-1791646200@cevibasel.ch
SUMMARY:Hattrick Gundeli (6-11 Jahre)
DESCRIPTION:
URL:https://cevibasel.ch/veranstaltung/hattrick-gundeli-6-11-jahre-177/
LOCATION:Margarethenpark
END:VEVENT
BEGIN:VEVENT
DTSTART;TZID=Europe/Zurich:20261010T140000
DTEND;TZID=Europe/Zurich:20261010T170000
DTSTAMP:20260423T185956
CREATED:20241010T004847Z
LAST-MODIFIED:20251117T005606Z
UID:136841-1791640800-1791651600@cevibasel.ch
SUMMARY:Jungschi Titus
DESCRIPTION:
URL:https://cevibasel.ch/veranstaltung/jungschi-titus-177/
END:VEVENT
BEGIN:VEVENT
DTSTART;TZID=Europe/Zurich:20261010T140000
DTEND;TZID=Europe/Zurich:20261010T170000
DTSTAMP:20260423T185956
CREATED:20241010T004848Z
LAST-MODIFIED:20251117T005606Z
UID:136842-1791640800-1791651600@cevibasel.ch
SUMMARY:Jungschi Bubendorf
DESCRIPTION:
URL:https://cevibasel.ch/veranstaltung/jungschi-bubendorf-177/
END:VEVENT
BEGIN:VEVENT
DTSTART;TZID=Europe/Zurich:20261010T140000
DTEND;TZID=Europe/Zurich:20261010T170000
DTSTAMP:20260423T185956
CREATED:20241010T004848Z
LAST-MODIFIED:20251117T005606Z
UID:136843-1791640800-1791651600@cevibasel.ch
SUMMARY:Jungschi Gotthelf-Neubad
DESCRIPTION:
URL:https://cevibasel.ch/veranstaltung/jungschi-gotthelf-neubad-177/
END:VEVENT
END:VCALENDAR