BEGIN:VCALENDAR
VERSION:2.0
PRODID:-//Cevi Region Basel - ECPv6.15.20//NONSGML v1.0//EN
CALSCALE:GREGORIAN
METHOD:PUBLISH
X-ORIGINAL-URL:https://cevibasel.ch
X-WR-CALDESC:Events for Cevi Region Basel
REFRESH-INTERVAL;VALUE=DURATION:PT1H
X-Robots-Tag:noindex
X-PUBLISHED-TTL:PT1H
BEGIN:VTIMEZONE
TZID:Europe/Zurich
BEGIN:DAYLIGHT
TZOFFSETFROM:+0100
TZOFFSETTO:+0200
TZNAME:CEST
DTSTART:20250330T010000
END:DAYLIGHT
BEGIN:STANDARD
TZOFFSETFROM:+0200
TZOFFSETTO:+0100
TZNAME:CET
DTSTART:20251026T010000
END:STANDARD
BEGIN:DAYLIGHT
TZOFFSETFROM:+0100
TZOFFSETTO:+0200
TZNAME:CEST
DTSTART:20260329T010000
END:DAYLIGHT
BEGIN:STANDARD
TZOFFSETFROM:+0200
TZOFFSETTO:+0100
TZNAME:CET
DTSTART:20261025T010000
END:STANDARD
BEGIN:DAYLIGHT
TZOFFSETFROM:+0100
TZOFFSETTO:+0200
TZNAME:CEST
DTSTART:20270328T010000
END:DAYLIGHT
BEGIN:STANDARD
TZOFFSETFROM:+0200
TZOFFSETTO:+0100
TZNAME:CET
DTSTART:20271031T010000
END:STANDARD
END:VTIMEZONE
BEGIN:VEVENT
DTSTART;TZID=Europe/Zurich:20261205T140000
DTEND;TZID=Europe/Zurich:20261205T170000
DTSTAMP:20260425T171919
CREATED:20250114T012812Z
LAST-MODIFIED:20251117T005638Z
UID:147155-1796479200-1796490000@cevibasel.ch
SUMMARY:Jungschi Titus
DESCRIPTION:
URL:https://cevibasel.ch/veranstaltung/jungschi-titus-185/
END:VEVENT
BEGIN:VEVENT
DTSTART;TZID=Europe/Zurich:20261205T140000
DTEND;TZID=Europe/Zurich:20261205T170000
DTSTAMP:20260425T171919
CREATED:20250114T012812Z
LAST-MODIFIED:20251117T005639Z
UID:147156-1796479200-1796490000@cevibasel.ch
SUMMARY:Jungschi Thomas
DESCRIPTION:
URL:https://cevibasel.ch/veranstaltung/jungschi-thomas-185/
END:VEVENT
BEGIN:VEVENT
DTSTART;TZID=Europe/Zurich:20261205T140000
DTEND;TZID=Europe/Zurich:20261205T170000
DTSTAMP:20260425T171919
CREATED:20250114T012812Z
LAST-MODIFIED:20251117T005638Z
UID:147157-1796479200-1796490000@cevibasel.ch
SUMMARY:Jungschi Bubendorf
DESCRIPTION:
URL:https://cevibasel.ch/veranstaltung/jungschi-bubendorf-185/
END:VEVENT
BEGIN:VEVENT
DTSTART;TZID=Europe/Zurich:20261205T140000
DTEND;TZID=Europe/Zurich:20261205T170000
DTSTAMP:20260425T171919
CREATED:20250114T012813Z
LAST-MODIFIED:20251117T005637Z
UID:147160-1796479200-1796490000@cevibasel.ch
SUMMARY:Jungschi Binningen
DESCRIPTION:
URL:https://cevibasel.ch/veranstaltung/jungschi-binningen-185/
END:VEVENT
BEGIN:VEVENT
DTSTART;TZID=Europe/Zurich:20261205T140000
DTEND;TZID=Europe/Zurich:20261205T170000
DTSTAMP:20260425T171919
CREATED:20250114T012813Z
LAST-MODIFIED:20251117T005639Z
UID:147158-1796479200-1796490000@cevibasel.ch
SUMMARY:Jungschi Allschwil
DESCRIPTION:
URL:https://cevibasel.ch/veranstaltung/jungschi-allschwil-185/
END:VEVENT
BEGIN:VEVENT
DTSTART;TZID=Europe/Zurich:20261205T183000
DTEND;TZID=Europe/Zurich:20261205T220000
DTSTAMP:20260425T171919
CREATED:20251204T111519Z
LAST-MODIFIED:20260205T230339Z
UID:170279-1796495400-1796508000@cevibasel.ch
SUMMARY:Faith Hub
DESCRIPTION:
URL:https://cevibasel.ch/veranstaltung/faith-hub-5/
END:VEVENT
BEGIN:VEVENT
DTSTART;TZID=Europe/Zurich:20261207T190000
DTEND;TZID=Europe/Zurich:20261207T203000
DTSTAMP:20260425T171919
CREATED:20250114T012813Z
LAST-MODIFIED:20260205T230339Z
UID:147161-1796670000-1796675400@cevibasel.ch
SUMMARY:Hattrick Men\, 19.00-20.30
DESCRIPTION:
URL:https://cevibasel.ch/veranstaltung/hattrick-men-19-00-20-30-220/
LOCATION:Fussballfelder Pfaffenholz
END:VEVENT
BEGIN:VEVENT
DTSTART;TZID=Europe/Zurich:20261207T203000
DTEND;TZID=Europe/Zurich:20261207T220000
DTSTAMP:20260425T171919
CREATED:20250114T012814Z
LAST-MODIFIED:20260205T230339Z
UID:147162-1796675400-1796680800@cevibasel.ch
SUMMARY:Hattrick Ladies\, 20.30-22.00
DESCRIPTION:
URL:https://cevibasel.ch/veranstaltung/hattrick-ladies-20-30-22-00-221/
LOCATION:Fussballfelder Pfaffenholz
END:VEVENT
BEGIN:VEVENT
DTSTART;TZID=Europe/Zurich:20261208T173000
DTEND;TZID=Europe/Zurich:20261208T190000
DTSTAMP:20260425T171919
CREATED:20250114T012814Z
LAST-MODIFIED:20260205T230340Z
UID:147164-1796751000-1796756400@cevibasel.ch
SUMMARY:Hattrick Riehen (1. bis 3. Klasse)
DESCRIPTION:
URL:https://cevibasel.ch/veranstaltung/hattrick-riehen-1-bis-3-klasse-186/
LOCATION:Fussballplatz Andreasmatte
END:VEVENT
BEGIN:VEVENT
DTSTART;TZID=Europe/Zurich:20261208T180000
DTEND;TZID=Europe/Zurich:20261208T193000
DTSTAMP:20260425T171919
CREATED:20250114T012814Z
LAST-MODIFIED:20260205T230340Z
UID:147163-1796752800-1796758200@cevibasel.ch
SUMMARY:Hattrick Gellert (7-12 Jahre)
DESCRIPTION:
URL:https://cevibasel.ch/veranstaltung/hattrick-gellert-7-12-jahre-186/
LOCATION:Fussballplatz Luftmatt
END:VEVENT
BEGIN:VEVENT
DTSTART;TZID=Europe/Zurich:20261208T190000
DTEND;TZID=Europe/Zurich:20261208T203000
DTSTAMP:20260425T171919
CREATED:20250114T012815Z
LAST-MODIFIED:20260205T230340Z
UID:147165-1796756400-1796761800@cevibasel.ch
SUMMARY:Hattrick Riehen (6. bis 7. Klasse)
DESCRIPTION:
URL:https://cevibasel.ch/veranstaltung/hattrick-riehen-6-bis-7-klasse-186/
LOCATION:Fussballplatz Andreasmatte
END:VEVENT
BEGIN:VEVENT
DTSTART;TZID=Europe/Zurich:20261209T083000
DTEND;TZID=Europe/Zurich:20261209T110000
DTSTAMP:20260425T171919
CREATED:20250114T012815Z
LAST-MODIFIED:20260205T230340Z
UID:147166-1796805000-1796814000@cevibasel.ch
SUMMARY:Mütterngruppe
DESCRIPTION:
URL:https://cevibasel.ch/veranstaltung/mutterngruppe-564/
LOCATION:Cevi Seki
END:VEVENT
BEGIN:VEVENT
DTSTART;TZID=Europe/Zurich:20261209T183000
DTEND;TZID=Europe/Zurich:20261209T210000
DTSTAMP:20260425T171919
CREATED:20250114T012815Z
LAST-MODIFIED:20260205T230340Z
UID:147167-1796841000-1796850000@cevibasel.ch
SUMMARY:Ten Sing
DESCRIPTION:
URL:https://cevibasel.ch/veranstaltung/ten-sing-185/
LOCATION:CVJM Haus Kleinbasel
END:VEVENT
BEGIN:VEVENT
DTSTART;TZID=Europe/Zurich:20261211T173000
DTEND;TZID=Europe/Zurich:20261211T190000
DTSTAMP:20260425T171919
CREATED:20250114T012815Z
LAST-MODIFIED:20260205T230344Z
UID:147169-1797010200-1797015600@cevibasel.ch
SUMMARY:Hattrick Basel West (7-15 Jahre)
DESCRIPTION:
URL:https://cevibasel.ch/veranstaltung/hattrick-basel-west-7-15-jahre-186/
END:VEVENT
BEGIN:VEVENT
DTSTART;TZID=Europe/Zurich:20261211T173000
DTEND;TZID=Europe/Zurich:20261211T190000
DTSTAMP:20260425T171919
CREATED:20250114T012815Z
LAST-MODIFIED:20260205T230344Z
UID:147168-1797010200-1797015600@cevibasel.ch
SUMMARY:Hattrick Riehen (4. bis 5. Klasse)
DESCRIPTION:
URL:https://cevibasel.ch/veranstaltung/hattrick-riehen-4-bis-5-klasse-186/
LOCATION:Andreasmatte
END:VEVENT
BEGIN:VEVENT
DTSTART;TZID=Europe/Zurich:20261211T190000
DTEND;TZID=Europe/Zurich:20261211T203000
DTSTAMP:20260425T171919
CREATED:20250114T012816Z
LAST-MODIFIED:20260205T230344Z
UID:147170-1797015600-1797021000@cevibasel.ch
SUMMARY:Hattrick Basel West (16-18 Jahre)
DESCRIPTION:
URL:https://cevibasel.ch/veranstaltung/hattrick-basel-west-16-18-jahre-186/
LOCATION:Fussballfelder Pfaffenholz
END:VEVENT
BEGIN:VEVENT
DTSTART;VALUE=DATE:20261212
DTEND;VALUE=DATE:20261213
DTSTAMP:20260425T171919
CREATED:20251120T033346Z
LAST-MODIFIED:20260205T230344Z
UID:169979-1797033600-1797119999@cevibasel.ch
SUMMARY:Jungschar Angebote
DESCRIPTION:
URL:https://cevibasel.ch/veranstaltung/jungscharangebote-50/
END:VEVENT
BEGIN:VEVENT
DTSTART;TZID=Europe/Zurich:20261212T133000
DTEND;TZID=Europe/Zurich:20261212T153000
DTSTAMP:20260425T171919
CREATED:20250114T012816Z
LAST-MODIFIED:20251120T120904Z
UID:147171-1797082200-1797089400@cevibasel.ch
SUMMARY:Hattrick Gundeli (6-11 Jahre)
DESCRIPTION:
URL:https://cevibasel.ch/veranstaltung/hattrick-gundeli-6-11-jahre-186/
LOCATION:Margarethenpark
END:VEVENT
BEGIN:VEVENT
DTSTART;TZID=Europe/Zurich:20261212T140000
DTEND;TZID=Europe/Zurich:20261212T170000
DTSTAMP:20260425T171919
CREATED:20250114T012816Z
LAST-MODIFIED:20251117T005642Z
UID:147172-1797084000-1797094800@cevibasel.ch
SUMMARY:Jungschi Titus
DESCRIPTION:
URL:https://cevibasel.ch/veranstaltung/jungschi-titus-186/
END:VEVENT
BEGIN:VEVENT
DTSTART;TZID=Europe/Zurich:20261212T140000
DTEND;TZID=Europe/Zurich:20261212T170000
DTSTAMP:20260425T171919
CREATED:20250114T012816Z
LAST-MODIFIED:20251117T005641Z
UID:147173-1797084000-1797094800@cevibasel.ch
SUMMARY:Jungschi Bubendorf
DESCRIPTION:
URL:https://cevibasel.ch/veranstaltung/jungschi-bubendorf-186/
END:VEVENT
BEGIN:VEVENT
DTSTART;TZID=Europe/Zurich:20261212T140000
DTEND;TZID=Europe/Zurich:20261212T170000
DTSTAMP:20260425T171919
CREATED:20250114T012816Z
LAST-MODIFIED:20251117T005642Z
UID:147174-1797084000-1797094800@cevibasel.ch
SUMMARY:Jungschi Allschwil
DESCRIPTION:
URL:https://cevibasel.ch/veranstaltung/jungschi-allschwil-186/
END:VEVENT
BEGIN:VEVENT
DTSTART;TZID=Europe/Zurich:20261212T140000
DTEND;TZID=Europe/Zurich:20261212T170000
DTSTAMP:20260425T171919
CREATED:20250114T012817Z
LAST-MODIFIED:20251117T005642Z
UID:147175-1797084000-1797094800@cevibasel.ch
SUMMARY:Jungschi Thomas
DESCRIPTION:
URL:https://cevibasel.ch/veranstaltung/jungschi-thomas-186/
END:VEVENT
BEGIN:VEVENT
DTSTART;TZID=Europe/Zurich:20261212T140000
DTEND;TZID=Europe/Zurich:20261212T170000
DTSTAMP:20260425T171919
CREATED:20250114T012817Z
LAST-MODIFIED:20251117T005643Z
UID:147176-1797084000-1797094800@cevibasel.ch
SUMMARY:Jungschi Gotthelf-Neubad
DESCRIPTION:
URL:https://cevibasel.ch/veranstaltung/jungschi-gotthelf-neubad-186/
END:VEVENT
BEGIN:VEVENT
DTSTART;TZID=Europe/Zurich:20261212T140000
DTEND;TZID=Europe/Zurich:20261212T170000
DTSTAMP:20260425T171919
CREATED:20250114T012817Z
LAST-MODIFIED:20251117T005642Z
UID:147177-1797084000-1797094800@cevibasel.ch
SUMMARY:Jungschi Binningen
DESCRIPTION:
URL:https://cevibasel.ch/veranstaltung/jungschi-binningen-186/
END:VEVENT
BEGIN:VEVENT
DTSTART;TZID=Europe/Zurich:20261212T140000
DTEND;TZID=Europe/Zurich:20261212T170000
DTSTAMP:20260425T171919
CREATED:20250114T012817Z
LAST-MODIFIED:20251117T005642Z
UID:147178-1797084000-1797094800@cevibasel.ch
SUMMARY:Jungschi Ettigen & Therwil
DESCRIPTION:
URL:https://cevibasel.ch/veranstaltung/jungschi-ettigen-therwil-186/
END:VEVENT
BEGIN:VEVENT
DTSTART;TZID=Europe/Zurich:20261214T190000
DTEND;TZID=Europe/Zurich:20261214T203000
DTSTAMP:20260425T171919
CREATED:20250114T012817Z
LAST-MODIFIED:20260205T230347Z
UID:147179-1797274800-1797280200@cevibasel.ch
SUMMARY:Hattrick Men\, 19.00-20.30
DESCRIPTION:
URL:https://cevibasel.ch/veranstaltung/hattrick-men-19-00-20-30-221/
LOCATION:Fussballfelder Pfaffenholz
END:VEVENT
BEGIN:VEVENT
DTSTART;TZID=Europe/Zurich:20261214T203000
DTEND;TZID=Europe/Zurich:20261214T220000
DTSTAMP:20260425T171919
CREATED:20250114T012818Z
LAST-MODIFIED:20260205T230344Z
UID:147180-1797280200-1797285600@cevibasel.ch
SUMMARY:Hattrick Ladies\, 20.30-22.00
DESCRIPTION:
URL:https://cevibasel.ch/veranstaltung/hattrick-ladies-20-30-22-00-222/
LOCATION:Fussballfelder Pfaffenholz
END:VEVENT
BEGIN:VEVENT
DTSTART;TZID=Europe/Zurich:20261215T173000
DTEND;TZID=Europe/Zurich:20261215T190000
DTSTAMP:20260425T171919
CREATED:20250114T012818Z
LAST-MODIFIED:20260205T230347Z
UID:147183-1797355800-1797361200@cevibasel.ch
SUMMARY:Hattrick Riehen (1. bis 3. Klasse)
DESCRIPTION:
URL:https://cevibasel.ch/veranstaltung/hattrick-riehen-1-bis-3-klasse-187/
LOCATION:Fussballplatz Andreasmatte
END:VEVENT
BEGIN:VEVENT
DTSTART;TZID=Europe/Zurich:20261215T180000
DTEND;TZID=Europe/Zurich:20261215T193000
DTSTAMP:20260425T171919
CREATED:20250114T012818Z
LAST-MODIFIED:20260205T230347Z
UID:147182-1797357600-1797363000@cevibasel.ch
SUMMARY:Hattrick Gellert (7-12 Jahre)
DESCRIPTION:
URL:https://cevibasel.ch/veranstaltung/hattrick-gellert-7-12-jahre-187/
LOCATION:Fussballplatz Luftmatt
END:VEVENT
BEGIN:VEVENT
DTSTART;TZID=Europe/Zurich:20261215T190000
DTEND;TZID=Europe/Zurich:20261215T203000
DTSTAMP:20260425T171919
CREATED:20250114T012818Z
LAST-MODIFIED:20260205T230347Z
UID:147181-1797361200-1797366600@cevibasel.ch
SUMMARY:Hattrick Riehen (6. bis 7. Klasse)
DESCRIPTION:
URL:https://cevibasel.ch/veranstaltung/hattrick-riehen-6-bis-7-klasse-187/
LOCATION:Fussballplatz Andreasmatte
END:VEVENT
END:VCALENDAR