BEGIN:VCALENDAR
VERSION:2.0
PRODID:-//Cevi Region Basel - ECPv6.15.20//NONSGML v1.0//EN
CALSCALE:GREGORIAN
METHOD:PUBLISH
X-WR-CALNAME:Cevi Region Basel
X-ORIGINAL-URL:https://cevibasel.ch
X-WR-CALDESC:Events for Cevi Region Basel
REFRESH-INTERVAL;VALUE=DURATION:PT1H
X-Robots-Tag:noindex
X-PUBLISHED-TTL:PT1H
BEGIN:VTIMEZONE
TZID:Europe/Zurich
BEGIN:DAYLIGHT
TZOFFSETFROM:+0100
TZOFFSETTO:+0200
TZNAME:CEST
DTSTART:20240331T010000
END:DAYLIGHT
BEGIN:STANDARD
TZOFFSETFROM:+0200
TZOFFSETTO:+0100
TZNAME:CET
DTSTART:20241027T010000
END:STANDARD
BEGIN:DAYLIGHT
TZOFFSETFROM:+0100
TZOFFSETTO:+0200
TZNAME:CEST
DTSTART:20250330T010000
END:DAYLIGHT
BEGIN:STANDARD
TZOFFSETFROM:+0200
TZOFFSETTO:+0100
TZNAME:CET
DTSTART:20251026T010000
END:STANDARD
BEGIN:DAYLIGHT
TZOFFSETFROM:+0100
TZOFFSETTO:+0200
TZNAME:CEST
DTSTART:20260329T010000
END:DAYLIGHT
BEGIN:STANDARD
TZOFFSETFROM:+0200
TZOFFSETTO:+0100
TZNAME:CET
DTSTART:20261025T010000
END:STANDARD
END:VTIMEZONE
BEGIN:VEVENT
DTSTART;TZID=Europe/Zurich:20251129T133000
DTEND;TZID=Europe/Zurich:20251129T153000
DTSTAMP:20260425T150850
CREATED:20240625T134922Z
LAST-MODIFIED:20251120T120503Z
UID:121952-1764423000-1764430200@cevibasel.ch
SUMMARY:Hattrick Gundeli (6-11 Jahre)
DESCRIPTION:
URL:https://cevibasel.ch/veranstaltung/hattrick-gundeli-6-11-jahre-132/
LOCATION:Margarethenpark
END:VEVENT
BEGIN:VEVENT
DTSTART;TZID=Europe/Zurich:20251128T190000
DTEND;TZID=Europe/Zurich:20251128T203000
DTSTAMP:20260425T150850
CREATED:20240625T134916Z
LAST-MODIFIED:20251128T192008Z
UID:121943-1764356400-1764361800@cevibasel.ch
SUMMARY:Hattrick Basel West (16-18 Jahre)
DESCRIPTION:
URL:https://cevibasel.ch/veranstaltung/hattrick-basel-west-16-18-jahre-132/
LOCATION:Fussballfelder Pfaffenholz
END:VEVENT
BEGIN:VEVENT
DTSTART;TZID=Europe/Zurich:20251128T173000
DTEND;TZID=Europe/Zurich:20251128T190000
DTSTAMP:20260425T150850
CREATED:20240625T134916Z
LAST-MODIFIED:20251128T175026Z
UID:121942-1764351000-1764356400@cevibasel.ch
SUMMARY:Hattrick Riehen (4. bis 5. Klasse)
DESCRIPTION:
URL:https://cevibasel.ch/veranstaltung/hattrick-riehen-4-bis-5-klasse-132/
LOCATION:Andreasmatte
END:VEVENT
BEGIN:VEVENT
DTSTART;TZID=Europe/Zurich:20251128T173000
DTEND;TZID=Europe/Zurich:20251128T190000
DTSTAMP:20260425T150850
CREATED:20240625T134916Z
LAST-MODIFIED:20251128T175026Z
UID:121944-1764351000-1764356400@cevibasel.ch
SUMMARY:Hattrick Basel West (7-15 Jahre)
DESCRIPTION:
URL:https://cevibasel.ch/veranstaltung/hattrick-basel-west-7-15-jahre-132/
END:VEVENT
BEGIN:VEVENT
DTSTART;TZID=Europe/Zurich:20251127T080000
DTEND;TZID=Europe/Zurich:20251127T103000
DTSTAMP:20260425T150850
CREATED:20240625T134913Z
LAST-MODIFIED:20240812T100246Z
UID:121941-1764230400-1764239400@cevibasel.ch
SUMMARY:Mütterngruppe
DESCRIPTION:
URL:https://cevibasel.ch/veranstaltung/muetterngruppe-76/
LOCATION:Cevi Seki
END:VEVENT
BEGIN:VEVENT
DTSTART;TZID=Europe/Zurich:20251126T183000
DTEND;TZID=Europe/Zurich:20251126T210000
DTSTAMP:20260425T150850
CREATED:20240625T134913Z
LAST-MODIFIED:20251126T195038Z
UID:121940-1764181800-1764190800@cevibasel.ch
SUMMARY:Ten Sing
DESCRIPTION:
URL:https://cevibasel.ch/veranstaltung/ten-sing-131/
LOCATION:CVJM Haus Kleinbasel
END:VEVENT
BEGIN:VEVENT
DTSTART;TZID=Europe/Zurich:20251126T083000
DTEND;TZID=Europe/Zurich:20251126T110000
DTSTAMP:20260425T150850
CREATED:20240812T103314Z
LAST-MODIFIED:20251126T095043Z
UID:127903-1764145800-1764154800@cevibasel.ch
SUMMARY:Mütterngruppe
DESCRIPTION:
URL:https://cevibasel.ch/veranstaltung/mutterngruppe-302/
LOCATION:Cevi Seki
END:VEVENT
BEGIN:VEVENT
DTSTART;TZID=Europe/Zurich:20251125T190000
DTEND;TZID=Europe/Zurich:20251125T203000
DTSTAMP:20260425T150850
CREATED:20240625T134912Z
LAST-MODIFIED:20251125T192111Z
UID:121937-1764097200-1764102600@cevibasel.ch
SUMMARY:Hattrick Riehen (6. bis 7. Klasse)
DESCRIPTION:
URL:https://cevibasel.ch/veranstaltung/hattrick-riehen-6-bis-7-klasse-132/
LOCATION:Fussballplatz Andreasmatte
END:VEVENT
BEGIN:VEVENT
DTSTART;TZID=Europe/Zurich:20251125T180000
DTEND;TZID=Europe/Zurich:20251125T193000
DTSTAMP:20260425T150850
CREATED:20240625T134912Z
LAST-MODIFIED:20251125T182057Z
UID:121938-1764093600-1764099000@cevibasel.ch
SUMMARY:Hattrick Gellert (7-12 Jahre)
DESCRIPTION:
URL:https://cevibasel.ch/veranstaltung/hattrick-gellert-7-12-jahre-132/
LOCATION:Fussballplatz Luftmatt
END:VEVENT
BEGIN:VEVENT
DTSTART;TZID=Europe/Zurich:20251125T173000
DTEND;TZID=Europe/Zurich:20251125T190000
DTSTAMP:20260425T150850
CREATED:20240625T134912Z
LAST-MODIFIED:20251125T175128Z
UID:121939-1764091800-1764097200@cevibasel.ch
SUMMARY:Hattrick Riehen (1. bis 3. Klasse)
DESCRIPTION:
URL:https://cevibasel.ch/veranstaltung/hattrick-riehen-1-bis-3-klasse-132/
LOCATION:Fussballplatz Andreasmatte
END:VEVENT
BEGIN:VEVENT
DTSTART;TZID=Europe/Zurich:20251124T203000
DTEND;TZID=Europe/Zurich:20251124T220000
DTSTAMP:20260425T150850
CREATED:20240625T134904Z
LAST-MODIFIED:20251124T205051Z
UID:121936-1764016200-1764021600@cevibasel.ch
SUMMARY:Hattrick Ladies\, 20.30-22.00
DESCRIPTION:
URL:https://cevibasel.ch/veranstaltung/hattrick-ladies-20-30-22-00-167/
LOCATION:Fussballfelder Pfaffenholz
END:VEVENT
BEGIN:VEVENT
DTSTART;TZID=Europe/Zurich:20251124T190000
DTEND;TZID=Europe/Zurich:20251124T203000
DTSTAMP:20260425T150850
CREATED:20240625T134904Z
LAST-MODIFIED:20251124T192003Z
UID:121935-1764010800-1764016200@cevibasel.ch
SUMMARY:Hattrick Men\, 19.00-20.30
DESCRIPTION:
URL:https://cevibasel.ch/veranstaltung/hattrick-men-19-00-20-30-166/
LOCATION:Fussballfelder Pfaffenholz
END:VEVENT
BEGIN:VEVENT
DTSTART;TZID=Europe/Zurich:20251122T140000
DTEND;TZID=Europe/Zurich:20251122T170000
DTSTAMP:20260425T150850
CREATED:20240625T134904Z
LAST-MODIFIED:20241105T110053Z
UID:121934-1763820000-1763830800@cevibasel.ch
SUMMARY:Jungschi Reinach
DESCRIPTION:
URL:https://cevibasel.ch/veranstaltung/jungschi-reinach-131/
END:VEVENT
BEGIN:VEVENT
DTSTART;TZID=Europe/Zurich:20251122T140000
DTEND;TZID=Europe/Zurich:20251122T170000
DTSTAMP:20260425T150850
CREATED:20240625T134904Z
LAST-MODIFIED:20251122T155102Z
UID:121933-1763820000-1763830800@cevibasel.ch
SUMMARY:Jungschi Gotthelf-Neubad
DESCRIPTION:
URL:https://cevibasel.ch/veranstaltung/jungschi-gotthelf-neubad-131/
END:VEVENT
BEGIN:VEVENT
DTSTART;TZID=Europe/Zurich:20251122T140000
DTEND;TZID=Europe/Zurich:20251122T170000
DTSTAMP:20260425T150850
CREATED:20240625T134903Z
LAST-MODIFIED:20241105T110052Z
UID:121932-1763820000-1763830800@cevibasel.ch
SUMMARY:Jungschi Muttenz
DESCRIPTION:
URL:https://cevibasel.ch/veranstaltung/jungschi-muttenz-131/
END:VEVENT
BEGIN:VEVENT
DTSTART;TZID=Europe/Zurich:20251122T140000
DTEND;TZID=Europe/Zurich:20251122T170000
DTSTAMP:20260425T150850
CREATED:20240625T134859Z
LAST-MODIFIED:20251122T155102Z
UID:121929-1763820000-1763830800@cevibasel.ch
SUMMARY:Jungschi Ettigen & Therwil
DESCRIPTION:
URL:https://cevibasel.ch/veranstaltung/jungschi-ettigen-therwil-131/
END:VEVENT
BEGIN:VEVENT
DTSTART;TZID=Europe/Zurich:20251122T140000
DTEND;TZID=Europe/Zurich:20251122T170000
DTSTAMP:20260425T150850
CREATED:20240625T134859Z
LAST-MODIFIED:20251122T155102Z
UID:121930-1763820000-1763830800@cevibasel.ch
SUMMARY:Jungschi Allschwil
DESCRIPTION:
URL:https://cevibasel.ch/veranstaltung/jungschi-allschwil-131/
END:VEVENT
BEGIN:VEVENT
DTSTART;TZID=Europe/Zurich:20251122T140000
DTEND;TZID=Europe/Zurich:20251122T170000
DTSTAMP:20260425T150850
CREATED:20240625T134859Z
LAST-MODIFIED:20251122T155155Z
UID:121931-1763820000-1763830800@cevibasel.ch
SUMMARY:Jungschi Thomas
DESCRIPTION:
URL:https://cevibasel.ch/veranstaltung/jungschi-thomas-131/
END:VEVENT
BEGIN:VEVENT
DTSTART;TZID=Europe/Zurich:20251122T140000
DTEND;TZID=Europe/Zurich:20251122T170000
DTSTAMP:20260425T150850
CREATED:20240625T134859Z
LAST-MODIFIED:20251122T155102Z
UID:121928-1763820000-1763830800@cevibasel.ch
SUMMARY:Jungschi Titus
DESCRIPTION:
URL:https://cevibasel.ch/veranstaltung/jungschi-titus-131/
END:VEVENT
BEGIN:VEVENT
DTSTART;TZID=Europe/Zurich:20251122T140000
DTEND;TZID=Europe/Zurich:20251122T170000
DTSTAMP:20260425T150850
CREATED:20240625T134857Z
LAST-MODIFIED:20251122T155155Z
UID:121925-1763820000-1763830800@cevibasel.ch
SUMMARY:Jungschi Bubendorf
DESCRIPTION:
URL:https://cevibasel.ch/veranstaltung/jungschi-bubendorf-131/
END:VEVENT
BEGIN:VEVENT
DTSTART;TZID=Europe/Zurich:20251122T140000
DTEND;TZID=Europe/Zurich:20251122T170000
DTSTAMP:20260425T150850
CREATED:20240625T134857Z
LAST-MODIFIED:20251122T155102Z
UID:121926-1763820000-1763830800@cevibasel.ch
SUMMARY:Jungschi Binningen
DESCRIPTION:
URL:https://cevibasel.ch/veranstaltung/jungschi-binningen-131/
END:VEVENT
BEGIN:VEVENT
DTSTART;TZID=Europe/Zurich:20251122T133000
DTEND;TZID=Europe/Zurich:20251122T153000
DTSTAMP:20260425T150850
CREATED:20240625T134859Z
LAST-MODIFIED:20251120T120446Z
UID:121927-1763818200-1763825400@cevibasel.ch
SUMMARY:Hattrick Gundeli (6-11 Jahre)
DESCRIPTION:
URL:https://cevibasel.ch/veranstaltung/hattrick-gundeli-6-11-jahre-131/
LOCATION:Margarethenpark
END:VEVENT
BEGIN:VEVENT
DTSTART;TZID=Europe/Zurich:20251121T190000
DTEND;TZID=Europe/Zurich:20251121T230000
DTSTAMP:20260425T150850
CREATED:20250328T230400Z
LAST-MODIFIED:20251121T051957Z
UID:152877-1763751600-1763766000@cevibasel.ch
SUMMARY:Cevi Ehetag
DESCRIPTION:
URL:https://cevibasel.ch/veranstaltung/cevi-ehetag/
END:VEVENT
BEGIN:VEVENT
DTSTART;TZID=Europe/Zurich:20251121T190000
DTEND;TZID=Europe/Zurich:20251121T203000
DTSTAMP:20260425T150850
CREATED:20240625T134857Z
LAST-MODIFIED:20251121T192130Z
UID:121922-1763751600-1763757000@cevibasel.ch
SUMMARY:Hattrick Basel West (16-18 Jahre)
DESCRIPTION:
URL:https://cevibasel.ch/veranstaltung/hattrick-basel-west-16-18-jahre-131/
LOCATION:Fussballfelder Pfaffenholz
END:VEVENT
BEGIN:VEVENT
DTSTART;TZID=Europe/Zurich:20251121T173000
DTEND;TZID=Europe/Zurich:20251121T190000
DTSTAMP:20260425T150850
CREATED:20240625T134857Z
LAST-MODIFIED:20251121T175034Z
UID:121924-1763746200-1763751600@cevibasel.ch
SUMMARY:Hattrick Riehen (4. bis 5. Klasse)
DESCRIPTION:
URL:https://cevibasel.ch/veranstaltung/hattrick-riehen-4-bis-5-klasse-131/
LOCATION:Andreasmatte
END:VEVENT
BEGIN:VEVENT
DTSTART;TZID=Europe/Zurich:20251121T173000
DTEND;TZID=Europe/Zurich:20251121T190000
DTSTAMP:20260425T150850
CREATED:20240625T134857Z
LAST-MODIFIED:20251121T175034Z
UID:121923-1763746200-1763751600@cevibasel.ch
SUMMARY:Hattrick Basel West (7-15 Jahre)
DESCRIPTION:
URL:https://cevibasel.ch/veranstaltung/hattrick-basel-west-7-15-jahre-131/
END:VEVENT
BEGIN:VEVENT
DTSTART;TZID=Europe/Zurich:20251120T083000
DTEND;TZID=Europe/Zurich:20251120T113000
DTSTAMP:20260425T150850
CREATED:20240812T103301Z
LAST-MODIFIED:20241224T191441Z
UID:127902-1763627400-1763638200@cevibasel.ch
SUMMARY:Mütterngruppe
DESCRIPTION:
URL:https://cevibasel.ch/veranstaltung/mutterngruppe-301/
LOCATION:Cevi Seki
END:VEVENT
BEGIN:VEVENT
DTSTART;TZID=Europe/Zurich:20251120T083000
DTEND;TZID=Europe/Zurich:20251120T113000
DTSTAMP:20260425T150850
CREATED:20240812T103300Z
LAST-MODIFIED:20241224T191439Z
UID:127901-1763627400-1763638200@cevibasel.ch
SUMMARY:Mütterngruppe
DESCRIPTION:
URL:https://cevibasel.ch/veranstaltung/mutterngruppe-300/
LOCATION:Cevi Seki
END:VEVENT
BEGIN:VEVENT
DTSTART;TZID=Europe/Zurich:20251120T083000
DTEND;TZID=Europe/Zurich:20251120T113000
DTSTAMP:20260425T150850
CREATED:20240812T103257Z
LAST-MODIFIED:20241224T191442Z
UID:127896-1763627400-1763638200@cevibasel.ch
SUMMARY:Mütterngruppe
DESCRIPTION:
URL:https://cevibasel.ch/veranstaltung/mutterngruppe-295/
LOCATION:Cevi Seki
END:VEVENT
BEGIN:VEVENT
DTSTART;TZID=Europe/Zurich:20251120T083000
DTEND;TZID=Europe/Zurich:20251120T113000
DTSTAMP:20260425T150850
CREATED:20240812T103257Z
LAST-MODIFIED:20241224T191441Z
UID:127897-1763627400-1763638200@cevibasel.ch
SUMMARY:Mütterngruppe
DESCRIPTION:
URL:https://cevibasel.ch/veranstaltung/mutterngruppe-296/
LOCATION:Cevi Seki
END:VEVENT
END:VCALENDAR