BEGIN:VCALENDAR
VERSION:2.0
PRODID:-//Cevi Region Basel - ECPv6.15.20//NONSGML v1.0//EN
CALSCALE:GREGORIAN
METHOD:PUBLISH
X-WR-CALNAME:Cevi Region Basel
X-ORIGINAL-URL:https://cevibasel.ch
X-WR-CALDESC:Events for Cevi Region Basel
REFRESH-INTERVAL;VALUE=DURATION:PT1H
X-Robots-Tag:noindex
X-PUBLISHED-TTL:PT1H
BEGIN:VTIMEZONE
TZID:Europe/Zurich
BEGIN:DAYLIGHT
TZOFFSETFROM:+0100
TZOFFSETTO:+0200
TZNAME:CEST
DTSTART:20220327T010000
END:DAYLIGHT
BEGIN:STANDARD
TZOFFSETFROM:+0200
TZOFFSETTO:+0100
TZNAME:CET
DTSTART:20221030T010000
END:STANDARD
BEGIN:DAYLIGHT
TZOFFSETFROM:+0100
TZOFFSETTO:+0200
TZNAME:CEST
DTSTART:20230326T010000
END:DAYLIGHT
BEGIN:STANDARD
TZOFFSETFROM:+0200
TZOFFSETTO:+0100
TZNAME:CET
DTSTART:20231029T010000
END:STANDARD
BEGIN:DAYLIGHT
TZOFFSETFROM:+0100
TZOFFSETTO:+0200
TZNAME:CEST
DTSTART:20240331T010000
END:DAYLIGHT
BEGIN:STANDARD
TZOFFSETFROM:+0200
TZOFFSETTO:+0100
TZNAME:CET
DTSTART:20241027T010000
END:STANDARD
END:VTIMEZONE
BEGIN:VEVENT
DTSTART;TZID=Europe/Zurich:20230530T180000
DTEND;TZID=Europe/Zurich:20230530T193000
DTSTAMP:20260425T132641
CREATED:20230517T100817Z
LAST-MODIFIED:20230530T172120Z
UID:111742-1685469600-1685475000@cevibasel.ch
SUMMARY:Hattrick Gellert (7-12 Jahre)
DESCRIPTION:
URL:https://cevibasel.ch/veranstaltung/hattrick-gellert-7-12-jahre-2/
LOCATION:Fussballplatz Luftmatt
END:VEVENT
BEGIN:VEVENT
DTSTART;TZID=Europe/Zurich:20230530T190000
DTEND;TZID=Europe/Zurich:20230530T203000
DTSTAMP:20260425T132641
CREATED:20230517T102754Z
LAST-MODIFIED:20230530T182308Z
UID:111842-1685473200-1685478600@cevibasel.ch
SUMMARY:Hattrick Riehen (6. bis 7. Klasse)
DESCRIPTION:
URL:https://cevibasel.ch/veranstaltung/hattrick-riehen-6-bis-7-klasse-2/
LOCATION:Fussballplatz Andreasmatte
END:VEVENT
BEGIN:VEVENT
DTSTART;VALUE=DATE:20230531
DTEND;VALUE=DATE:20230601
DTSTAMP:20260425T132641
CREATED:20230505T103554Z
LAST-MODIFIED:20230517T100815Z
UID:109166-1685491200-1685577599@cevibasel.ch
SUMMARY:Spielgruppe\, 8.30-11.30 Uhr
DESCRIPTION:
URL:https://cevibasel.ch/veranstaltung/spielgruppe-8-30-11-30-uhr-8/
END:VEVENT
BEGIN:VEVENT
DTSTART;VALUE=DATE:20230531
DTEND;VALUE=DATE:20230601
DTSTAMP:20260425T132641
CREATED:20230508T085346Z
LAST-MODIFIED:20230517T100815Z
UID:110469-1685491200-1685577599@cevibasel.ch
SUMMARY:Beachvolleyball 16.00-18.00 Uhr\, im Rankhof
DESCRIPTION:
URL:https://cevibasel.ch/veranstaltung/beachvolleyball-16-00-18-00-uhr-im-rankhof-4/
END:VEVENT
BEGIN:VEVENT
DTSTART;VALUE=DATE:20230531
DTEND;VALUE=DATE:20230601
DTSTAMP:20260425T132641
CREATED:20230516T091622Z
LAST-MODIFIED:20230517T100815Z
UID:111059-1685491200-1685577599@cevibasel.ch
SUMMARY:Limitless\, 18.00-19.45
DESCRIPTION:
URL:https://cevibasel.ch/veranstaltung/limitless-18-00-19-45-2/
END:VEVENT
BEGIN:VEVENT
DTSTART;VALUE=DATE:20230531
DTEND;VALUE=DATE:20230601
DTSTAMP:20260425T132641
CREATED:20230516T091632Z
LAST-MODIFIED:20230517T100911Z
UID:111060-1685491200-1685577599@cevibasel.ch
SUMMARY:Ten Sing\, 18.30-21.00
DESCRIPTION:
URL:https://cevibasel.ch/veranstaltung/ten-sing-18-30-21-00-2/
END:VEVENT
BEGIN:VEVENT
DTSTART;TZID=Europe/Zurich:20230531T083000
DTEND;TZID=Europe/Zurich:20230531T113000
DTSTAMP:20260425T132641
CREATED:20230517T102758Z
LAST-MODIFIED:20230531T092141Z
UID:111844-1685521800-1685532600@cevibasel.ch
SUMMARY:Spielgruppe
DESCRIPTION:
URL:https://cevibasel.ch/veranstaltung/spielgruppe-4/
LOCATION:Cevi Seki
END:VEVENT
BEGIN:VEVENT
DTSTART;TZID=Europe/Zurich:20230531T160000
DTEND;TZID=Europe/Zurich:20230531T180000
DTSTAMP:20260425T132641
CREATED:20230517T102758Z
LAST-MODIFIED:20230531T155032Z
UID:111845-1685548800-1685556000@cevibasel.ch
SUMMARY:Beachvolleyballtraining
DESCRIPTION:
URL:https://cevibasel.ch/veranstaltung/beachvolleyballtraining-18/
LOCATION:Beachfelder Rankhof
END:VEVENT
BEGIN:VEVENT
DTSTART;TZID=Europe/Zurich:20230531T180000
DTEND;TZID=Europe/Zurich:20230531T194500
DTSTAMP:20260425T132641
CREATED:20230517T102758Z
LAST-MODIFIED:20230531T173914Z
UID:111846-1685556000-1685562300@cevibasel.ch
SUMMARY:Limitless Parkour & Freerunning
DESCRIPTION:
URL:https://cevibasel.ch/veranstaltung/limitless-parkour-freerunning/
LOCATION:Turnhalle Sekundarschule St. Alban
END:VEVENT
BEGIN:VEVENT
DTSTART;TZID=Europe/Zurich:20230531T183000
DTEND;TZID=Europe/Zurich:20230531T210000
DTSTAMP:20260425T132641
CREATED:20230517T102758Z
LAST-MODIFIED:20230531T185402Z
UID:111847-1685557800-1685566800@cevibasel.ch
SUMMARY:Ten Sing
DESCRIPTION:
URL:https://cevibasel.ch/veranstaltung/ten-sing/
LOCATION:CVJM Haus Kleinbasel
END:VEVENT
BEGIN:VEVENT
DTSTART;VALUE=DATE:20230601
DTEND;VALUE=DATE:20230602
DTSTAMP:20260425T132641
CREATED:20230505T120657Z
LAST-MODIFIED:20230517T100815Z
UID:109284-1685577600-1685663999@cevibasel.ch
SUMMARY:Café Emma\, 9.30-11.30 Uhr
DESCRIPTION:
URL:https://cevibasel.ch/veranstaltung/cafe-emma-9-30-11-30-uhr-7/
END:VEVENT
BEGIN:VEVENT
DTSTART;VALUE=DATE:20230601
DTEND;VALUE=DATE:20230602
DTSTAMP:20260425T132641
CREATED:20230508T085346Z
LAST-MODIFIED:20230517T100910Z
UID:110468-1685577600-1685663999@cevibasel.ch
SUMMARY:Beachvolleyball 20.00-22.00 Uhr\, im Rankhof
DESCRIPTION:
URL:https://cevibasel.ch/veranstaltung/beachvolleyball-20-00-22-00-uhr-im-rankhof-3/
END:VEVENT
BEGIN:VEVENT
DTSTART;TZID=Europe/Zurich:20230601T080000
DTEND;TZID=Europe/Zurich:20230601T103000
DTSTAMP:20260425T132641
CREATED:20230517T102758Z
LAST-MODIFIED:20230601T082607Z
UID:111848-1685606400-1685615400@cevibasel.ch
SUMMARY:Mütterngruppe
DESCRIPTION:
URL:https://cevibasel.ch/veranstaltung/muetterngruppe-3/
LOCATION:Cevi Seki
END:VEVENT
BEGIN:VEVENT
DTSTART;TZID=Europe/Zurich:20230601T093000
DTEND;TZID=Europe/Zurich:20230601T113000
DTSTAMP:20260425T132641
CREATED:20230517T102803Z
LAST-MODIFIED:20230601T092209Z
UID:111849-1685611800-1685619000@cevibasel.ch
SUMMARY:Café Emma\, 9.30-11.30 Uhr
DESCRIPTION:
URL:https://cevibasel.ch/veranstaltung/cafe-emma-9-30-11-30-uhr-210/
LOCATION:hyve Hotel
END:VEVENT
BEGIN:VEVENT
DTSTART;TZID=Europe/Zurich:20230601T200000
DTEND;TZID=Europe/Zurich:20230601T220000
DTSTAMP:20260425T132641
CREATED:20230517T102803Z
LAST-MODIFIED:20230601T195234Z
UID:111850-1685649600-1685656800@cevibasel.ch
SUMMARY:Beachvolleyballtraining
DESCRIPTION:
URL:https://cevibasel.ch/veranstaltung/beachvolleyballtraining-19/
LOCATION:Beachfelder Rankhof
END:VEVENT
BEGIN:VEVENT
DTSTART;VALUE=DATE:20230602
DTEND;VALUE=DATE:20230603
DTSTAMP:20260425T132641
CREATED:20230505T103554Z
LAST-MODIFIED:20230517T100817Z
UID:109167-1685664000-1685750399@cevibasel.ch
SUMMARY:Spielgruppe\, 8.30-11.30 Uhr
DESCRIPTION:
URL:https://cevibasel.ch/veranstaltung/spielgruppe-8-30-11-30-uhr-9/
END:VEVENT
BEGIN:VEVENT
DTSTART;VALUE=DATE:20230602
DTEND;VALUE=DATE:20230603
DTSTAMP:20260425T132641
CREATED:20230505T120656Z
LAST-MODIFIED:20230517T100817Z
UID:109283-1685664000-1685750399@cevibasel.ch
SUMMARY:Café Emma\, 9.30-11.30 Uhr
DESCRIPTION:
URL:https://cevibasel.ch/veranstaltung/cafe-emma-9-30-11-30-uhr-6/
END:VEVENT
BEGIN:VEVENT
DTSTART;VALUE=DATE:20230602
DTEND;VALUE=DATE:20230603
DTSTAMP:20260425T132641
CREATED:20230508T085323Z
LAST-MODIFIED:20230517T100817Z
UID:110467-1685664000-1685750399@cevibasel.ch
SUMMARY:Beachvolleyball 19.00-21.00 Uhr\, im Joggeli
DESCRIPTION:
URL:https://cevibasel.ch/veranstaltung/beachvolleyball-19-00-21-00-uhr-im-joggeli-3/
END:VEVENT
BEGIN:VEVENT
DTSTART;VALUE=DATE:20230602
DTEND;VALUE=DATE:20230603
DTSTAMP:20260425T132641
CREATED:20230516T091621Z
LAST-MODIFIED:20230517T100911Z
UID:111058-1685664000-1685750399@cevibasel.ch
SUMMARY:Hattrick Riehen (4. bis 5. Klasse)\, 17.30-19.00
DESCRIPTION:
URL:https://cevibasel.ch/veranstaltung/hattrick-riehen-4-bis-5-klasse-17-30-19-00-3/
END:VEVENT
BEGIN:VEVENT
DTSTART;VALUE=DATE:20230602
DTEND;VALUE=DATE:20230603
DTSTAMP:20260425T132641
CREATED:20230516T095459Z
LAST-MODIFIED:20230517T100911Z
UID:111112-1685664000-1685750399@cevibasel.ch
SUMMARY:Hattrick Basel West (7-15 Jahre)\, 17.30-19.00
DESCRIPTION:
URL:https://cevibasel.ch/veranstaltung/hattrick-basel-west-7-15-jahre-17-30-19-00-3/
END:VEVENT
BEGIN:VEVENT
DTSTART;TZID=Europe/Zurich:20230602T060000
DTEND;TZID=Europe/Zurich:20230602T070000
DTSTAMP:20260425T132641
CREATED:20230516T100935Z
LAST-MODIFIED:20230517T095511Z
UID:111192-1685685600-1685689200@cevibasel.ch
SUMMARY:Test 1
DESCRIPTION:
URL:https://cevibasel.ch/veranstaltung/test-1/
END:VEVENT
BEGIN:VEVENT
DTSTART;TZID=Europe/Zurich:20230602T070000
DTEND;TZID=Europe/Zurich:20230602T080000
DTSTAMP:20260425T132641
CREATED:20230516T100935Z
LAST-MODIFIED:20230517T095511Z
UID:111191-1685689200-1685692800@cevibasel.ch
SUMMARY:Test 2
DESCRIPTION:
URL:https://cevibasel.ch/veranstaltung/test-2/
END:VEVENT
BEGIN:VEVENT
DTSTART;TZID=Europe/Zurich:20230602T080000
DTEND;TZID=Europe/Zurich:20230602T090000
DTSTAMP:20260425T132641
CREATED:20230516T100935Z
LAST-MODIFIED:20230517T095511Z
UID:111193-1685692800-1685696400@cevibasel.ch
SUMMARY:Test 3
DESCRIPTION:
URL:https://cevibasel.ch/veranstaltung/test-3/
END:VEVENT
BEGIN:VEVENT
DTSTART;TZID=Europe/Zurich:20230602T083000
DTEND;TZID=Europe/Zurich:20230602T113000
DTSTAMP:20260425T132641
CREATED:20230517T102803Z
LAST-MODIFIED:20230602T092046Z
UID:111851-1685694600-1685705400@cevibasel.ch
SUMMARY:Spielgruppe
DESCRIPTION:
URL:https://cevibasel.ch/veranstaltung/spielgruppe-5/
LOCATION:Cevi Seki
END:VEVENT
BEGIN:VEVENT
DTSTART;TZID=Europe/Zurich:20230602T090000
DTEND;TZID=Europe/Zurich:20230602T100000
DTSTAMP:20260425T132641
CREATED:20230516T100856Z
LAST-MODIFIED:20230517T095408Z
UID:111188-1685696400-1685700000@cevibasel.ch
SUMMARY:Test 4
DESCRIPTION:
URL:https://cevibasel.ch/veranstaltung/test-4/
END:VEVENT
BEGIN:VEVENT
DTSTART;TZID=Europe/Zurich:20230602T093000
DTEND;TZID=Europe/Zurich:20230602T113000
DTSTAMP:20260425T132641
CREATED:20230517T102803Z
LAST-MODIFIED:20230602T092046Z
UID:111852-1685698200-1685705400@cevibasel.ch
SUMMARY:Café Emma
DESCRIPTION:
URL:https://cevibasel.ch/veranstaltung/cafe-emma-3/
LOCATION:hyve Hotel
END:VEVENT
BEGIN:VEVENT
DTSTART;TZID=Europe/Zurich:20230602T100000
DTEND;TZID=Europe/Zurich:20230602T110000
DTSTAMP:20260425T132641
CREATED:20230516T100856Z
LAST-MODIFIED:20230517T095510Z
UID:111189-1685700000-1685703600@cevibasel.ch
SUMMARY:Test 5
DESCRIPTION:
URL:https://cevibasel.ch/veranstaltung/test-5/
END:VEVENT
BEGIN:VEVENT
DTSTART;TZID=Europe/Zurich:20230602T173000
DTEND;TZID=Europe/Zurich:20230602T190000
DTSTAMP:20260425T132641
CREATED:20230517T102803Z
LAST-MODIFIED:20230602T165519Z
UID:111853-1685727000-1685732400@cevibasel.ch
SUMMARY:Hattrick Riehen (4. bis 5. Klasse)
DESCRIPTION:
URL:https://cevibasel.ch/veranstaltung/hattrick-riehen-4-bis-5-klasse-2/
LOCATION:Andreasmatte
END:VEVENT
BEGIN:VEVENT
DTSTART;TZID=Europe/Zurich:20230602T173000
DTEND;TZID=Europe/Zurich:20230602T190000
DTSTAMP:20260425T132641
CREATED:20230517T102808Z
LAST-MODIFIED:20230602T165519Z
UID:111856-1685727000-1685732400@cevibasel.ch
SUMMARY:Hattrick Basel West (7-15 Jahre)
DESCRIPTION:
URL:https://cevibasel.ch/veranstaltung/hattrick-basel-west-7-15-jahre-2/
END:VEVENT
BEGIN:VEVENT
DTSTART;TZID=Europe/Zurich:20230602T190000
DTEND;TZID=Europe/Zurich:20230602T203000
DTSTAMP:20260425T132641
CREATED:20230517T102808Z
LAST-MODIFIED:20230602T182317Z
UID:111855-1685732400-1685737800@cevibasel.ch
SUMMARY:Hattrick Basel West (16-18 Jahre)
DESCRIPTION:
URL:https://cevibasel.ch/veranstaltung/hattrick-basel-west-16-18-jahre-2/
LOCATION:Fussballfelder Pfaffenholz
END:VEVENT
END:VCALENDAR