BEGIN:VCALENDAR
VERSION:2.0
PRODID:-//Cevi Region Basel - ECPv6.15.20//NONSGML v1.0//EN
CALSCALE:GREGORIAN
METHOD:PUBLISH
X-ORIGINAL-URL:https://cevibasel.ch
X-WR-CALDESC:Events for Cevi Region Basel
REFRESH-INTERVAL;VALUE=DURATION:PT1H
X-Robots-Tag:noindex
X-PUBLISHED-TTL:PT1H
BEGIN:VTIMEZONE
TZID:Europe/Zurich
BEGIN:DAYLIGHT
TZOFFSETFROM:+0100
TZOFFSETTO:+0200
TZNAME:CEST
DTSTART:20250330T010000
END:DAYLIGHT
BEGIN:STANDARD
TZOFFSETFROM:+0200
TZOFFSETTO:+0100
TZNAME:CET
DTSTART:20251026T010000
END:STANDARD
BEGIN:DAYLIGHT
TZOFFSETFROM:+0100
TZOFFSETTO:+0200
TZNAME:CEST
DTSTART:20260329T010000
END:DAYLIGHT
BEGIN:STANDARD
TZOFFSETFROM:+0200
TZOFFSETTO:+0100
TZNAME:CET
DTSTART:20261025T010000
END:STANDARD
BEGIN:DAYLIGHT
TZOFFSETFROM:+0100
TZOFFSETTO:+0200
TZNAME:CEST
DTSTART:20270328T010000
END:DAYLIGHT
BEGIN:STANDARD
TZOFFSETFROM:+0200
TZOFFSETTO:+0100
TZNAME:CET
DTSTART:20271031T010000
END:STANDARD
END:VTIMEZONE
BEGIN:VEVENT
DTSTART;TZID=Europe/Zurich:20261212T140000
DTEND;TZID=Europe/Zurich:20261212T170000
DTSTAMP:20260425T125549
CREATED:20250114T012817Z
LAST-MODIFIED:20251117T005643Z
UID:147176-1797084000-1797094800@cevibasel.ch
SUMMARY:Jungschi Gotthelf-Neubad
DESCRIPTION:
URL:https://cevibasel.ch/veranstaltung/jungschi-gotthelf-neubad-186/
END:VEVENT
BEGIN:VEVENT
DTSTART;TZID=Europe/Zurich:20261212T140000
DTEND;TZID=Europe/Zurich:20261212T170000
DTSTAMP:20260425T125549
CREATED:20250114T012817Z
LAST-MODIFIED:20251117T005642Z
UID:147177-1797084000-1797094800@cevibasel.ch
SUMMARY:Jungschi Binningen
DESCRIPTION:
URL:https://cevibasel.ch/veranstaltung/jungschi-binningen-186/
END:VEVENT
BEGIN:VEVENT
DTSTART;TZID=Europe/Zurich:20261214T190000
DTEND;TZID=Europe/Zurich:20261214T203000
DTSTAMP:20260425T125549
CREATED:20250114T012817Z
LAST-MODIFIED:20260205T230347Z
UID:147179-1797274800-1797280200@cevibasel.ch
SUMMARY:Hattrick Men\, 19.00-20.30
DESCRIPTION:
URL:https://cevibasel.ch/veranstaltung/hattrick-men-19-00-20-30-221/
LOCATION:Fussballfelder Pfaffenholz
END:VEVENT
BEGIN:VEVENT
DTSTART;TZID=Europe/Zurich:20261214T203000
DTEND;TZID=Europe/Zurich:20261214T220000
DTSTAMP:20260425T125549
CREATED:20250114T012818Z
LAST-MODIFIED:20260205T230344Z
UID:147180-1797280200-1797285600@cevibasel.ch
SUMMARY:Hattrick Ladies\, 20.30-22.00
DESCRIPTION:
URL:https://cevibasel.ch/veranstaltung/hattrick-ladies-20-30-22-00-222/
LOCATION:Fussballfelder Pfaffenholz
END:VEVENT
BEGIN:VEVENT
DTSTART;TZID=Europe/Zurich:20261215T173000
DTEND;TZID=Europe/Zurich:20261215T190000
DTSTAMP:20260425T125549
CREATED:20250114T012818Z
LAST-MODIFIED:20260205T230347Z
UID:147183-1797355800-1797361200@cevibasel.ch
SUMMARY:Hattrick Riehen (1. bis 3. Klasse)
DESCRIPTION:
URL:https://cevibasel.ch/veranstaltung/hattrick-riehen-1-bis-3-klasse-187/
LOCATION:Fussballplatz Andreasmatte
END:VEVENT
BEGIN:VEVENT
DTSTART;TZID=Europe/Zurich:20261215T180000
DTEND;TZID=Europe/Zurich:20261215T193000
DTSTAMP:20260425T125549
CREATED:20250114T012818Z
LAST-MODIFIED:20260205T230347Z
UID:147182-1797357600-1797363000@cevibasel.ch
SUMMARY:Hattrick Gellert (7-12 Jahre)
DESCRIPTION:
URL:https://cevibasel.ch/veranstaltung/hattrick-gellert-7-12-jahre-187/
LOCATION:Fussballplatz Luftmatt
END:VEVENT
BEGIN:VEVENT
DTSTART;TZID=Europe/Zurich:20261215T190000
DTEND;TZID=Europe/Zurich:20261215T203000
DTSTAMP:20260425T125549
CREATED:20250114T012818Z
LAST-MODIFIED:20260205T230347Z
UID:147181-1797361200-1797366600@cevibasel.ch
SUMMARY:Hattrick Riehen (6. bis 7. Klasse)
DESCRIPTION:
URL:https://cevibasel.ch/veranstaltung/hattrick-riehen-6-bis-7-klasse-187/
LOCATION:Fussballplatz Andreasmatte
END:VEVENT
BEGIN:VEVENT
DTSTART;TZID=Europe/Zurich:20261216T183000
DTEND;TZID=Europe/Zurich:20261216T210000
DTSTAMP:20260425T125549
CREATED:20250114T012818Z
LAST-MODIFIED:20260205T230347Z
UID:147184-1797445800-1797454800@cevibasel.ch
SUMMARY:Ten Sing
DESCRIPTION:
URL:https://cevibasel.ch/veranstaltung/ten-sing-186/
LOCATION:CVJM Haus Kleinbasel
END:VEVENT
BEGIN:VEVENT
DTSTART;TZID=Europe/Zurich:20261217T083000
DTEND;TZID=Europe/Zurich:20261217T113000
DTSTAMP:20260425T125549
CREATED:20250114T012819Z
LAST-MODIFIED:20260205T230403Z
UID:147185-1797496200-1797507000@cevibasel.ch
SUMMARY:Mütterngruppe
DESCRIPTION:
URL:https://cevibasel.ch/veranstaltung/mutterngruppe-565/
LOCATION:Cevi Seki
END:VEVENT
BEGIN:VEVENT
DTSTART;TZID=Europe/Zurich:20261218T173000
DTEND;TZID=Europe/Zurich:20261218T190000
DTSTAMP:20260425T125549
CREATED:20250114T012819Z
LAST-MODIFIED:20260205T230403Z
UID:147186-1797615000-1797620400@cevibasel.ch
SUMMARY:Hattrick Basel West (7-15 Jahre)
DESCRIPTION:
URL:https://cevibasel.ch/veranstaltung/hattrick-basel-west-7-15-jahre-187/
END:VEVENT
BEGIN:VEVENT
DTSTART;TZID=Europe/Zurich:20261218T173000
DTEND;TZID=Europe/Zurich:20261218T190000
DTSTAMP:20260425T125549
CREATED:20250114T012820Z
LAST-MODIFIED:20260205T230403Z
UID:147188-1797615000-1797620400@cevibasel.ch
SUMMARY:Hattrick Riehen (4. bis 5. Klasse)
DESCRIPTION:
URL:https://cevibasel.ch/veranstaltung/hattrick-riehen-4-bis-5-klasse-187/
LOCATION:Andreasmatte
END:VEVENT
BEGIN:VEVENT
DTSTART;TZID=Europe/Zurich:20261218T190000
DTEND;TZID=Europe/Zurich:20261218T203000
DTSTAMP:20260425T125549
CREATED:20250114T012819Z
LAST-MODIFIED:20260205T230403Z
UID:147187-1797620400-1797625800@cevibasel.ch
SUMMARY:Hattrick Basel West (16-18 Jahre)
DESCRIPTION:
URL:https://cevibasel.ch/veranstaltung/hattrick-basel-west-16-18-jahre-187/
LOCATION:Fussballfelder Pfaffenholz
END:VEVENT
BEGIN:VEVENT
DTSTART;VALUE=DATE:20261219
DTEND;VALUE=DATE:20261220
DTSTAMP:20260425T125549
CREATED:20251120T033351Z
LAST-MODIFIED:20260205T230403Z
UID:169980-1797638400-1797724799@cevibasel.ch
SUMMARY:Jungschar Angebote
DESCRIPTION:
URL:https://cevibasel.ch/veranstaltung/jungscharangebote-51/
END:VEVENT
BEGIN:VEVENT
DTSTART;TZID=Europe/Zurich:20261219T133000
DTEND;TZID=Europe/Zurich:20261219T153000
DTSTAMP:20260425T125549
CREATED:20250114T012821Z
LAST-MODIFIED:20251120T120907Z
UID:147191-1797687000-1797694200@cevibasel.ch
SUMMARY:Hattrick Gundeli (6-11 Jahre)
DESCRIPTION:
URL:https://cevibasel.ch/veranstaltung/hattrick-gundeli-6-11-jahre-187/
LOCATION:Margarethenpark
END:VEVENT
BEGIN:VEVENT
DTSTART;TZID=Europe/Zurich:20261219T140000
DTEND;TZID=Europe/Zurich:20261219T170000
DTSTAMP:20260425T125549
CREATED:20250114T012820Z
LAST-MODIFIED:20251117T005645Z
UID:147189-1797688800-1797699600@cevibasel.ch
SUMMARY:Jungschi Allschwil
DESCRIPTION:
URL:https://cevibasel.ch/veranstaltung/jungschi-allschwil-187/
END:VEVENT
BEGIN:VEVENT
DTSTART;TZID=Europe/Zurich:20261219T140000
DTEND;TZID=Europe/Zurich:20261219T170000
DTSTAMP:20260425T125549
CREATED:20250114T012821Z
LAST-MODIFIED:20251117T005646Z
UID:147194-1797688800-1797699600@cevibasel.ch
SUMMARY:Jungschi Binningen
DESCRIPTION:
URL:https://cevibasel.ch/veranstaltung/jungschi-binningen-187/
END:VEVENT
BEGIN:VEVENT
DTSTART;TZID=Europe/Zurich:20261219T140000
DTEND;TZID=Europe/Zurich:20261219T170000
DTSTAMP:20260425T125549
CREATED:20250114T012821Z
LAST-MODIFIED:20251117T005646Z
UID:147190-1797688800-1797699600@cevibasel.ch
SUMMARY:Jungschi Thomas
DESCRIPTION:
URL:https://cevibasel.ch/veranstaltung/jungschi-thomas-187/
END:VEVENT
BEGIN:VEVENT
DTSTART;TZID=Europe/Zurich:20261219T140000
DTEND;TZID=Europe/Zurich:20261219T170000
DTSTAMP:20260425T125549
CREATED:20250114T012821Z
LAST-MODIFIED:20251117T005645Z
UID:147192-1797688800-1797699600@cevibasel.ch
SUMMARY:Jungschi Bubendorf
DESCRIPTION:
URL:https://cevibasel.ch/veranstaltung/jungschi-bubendorf-187/
END:VEVENT
BEGIN:VEVENT
DTSTART;TZID=Europe/Zurich:20261219T140000
DTEND;TZID=Europe/Zurich:20261219T170000
DTSTAMP:20260425T125549
CREATED:20250114T012821Z
LAST-MODIFIED:20251117T005645Z
UID:147193-1797688800-1797699600@cevibasel.ch
SUMMARY:Jungschi Titus
DESCRIPTION:
URL:https://cevibasel.ch/veranstaltung/jungschi-titus-187/
END:VEVENT
BEGIN:VEVENT
DTSTART;TZID=Europe/Zurich:20261219T140000
DTEND;TZID=Europe/Zurich:20261219T170000
DTSTAMP:20260425T125549
CREATED:20250114T012822Z
LAST-MODIFIED:20251117T005646Z
UID:147195-1797688800-1797699600@cevibasel.ch
SUMMARY:Jungschi Ettigen & Therwil
DESCRIPTION:
URL:https://cevibasel.ch/veranstaltung/jungschi-ettigen-therwil-187/
END:VEVENT
BEGIN:VEVENT
DTSTART;TZID=Europe/Zurich:20261219T140000
DTEND;TZID=Europe/Zurich:20261219T170000
DTSTAMP:20260425T125549
CREATED:20250114T012822Z
LAST-MODIFIED:20251117T005646Z
UID:147196-1797688800-1797699600@cevibasel.ch
SUMMARY:Jungschi Gotthelf-Neubad
DESCRIPTION:
URL:https://cevibasel.ch/veranstaltung/jungschi-gotthelf-neubad-187/
END:VEVENT
BEGIN:VEVENT
DTSTART;TZID=Europe/Zurich:20261221T190000
DTEND;TZID=Europe/Zurich:20261221T203000
DTSTAMP:20260425T125549
CREATED:20250114T012822Z
LAST-MODIFIED:20260205T230405Z
UID:147197-1797879600-1797885000@cevibasel.ch
SUMMARY:Hattrick Men\, 19.00-20.30
DESCRIPTION:
URL:https://cevibasel.ch/veranstaltung/hattrick-men-19-00-20-30-222/
LOCATION:Fussballfelder Pfaffenholz
END:VEVENT
BEGIN:VEVENT
DTSTART;TZID=Europe/Zurich:20261221T203000
DTEND;TZID=Europe/Zurich:20261221T220000
DTSTAMP:20260425T125549
CREATED:20250114T012822Z
LAST-MODIFIED:20260205T230405Z
UID:147198-1797885000-1797890400@cevibasel.ch
SUMMARY:Hattrick Ladies\, 20.30-22.00
DESCRIPTION:
URL:https://cevibasel.ch/veranstaltung/hattrick-ladies-20-30-22-00-223/
LOCATION:Fussballfelder Pfaffenholz
END:VEVENT
BEGIN:VEVENT
DTSTART;TZID=Europe/Zurich:20261222T173000
DTEND;TZID=Europe/Zurich:20261222T190000
DTSTAMP:20260425T125549
CREATED:20250114T012822Z
LAST-MODIFIED:20260205T230405Z
UID:147199-1797960600-1797966000@cevibasel.ch
SUMMARY:Hattrick Riehen (1. bis 3. Klasse)
DESCRIPTION:
URL:https://cevibasel.ch/veranstaltung/hattrick-riehen-1-bis-3-klasse-188/
LOCATION:Fussballplatz Andreasmatte
END:VEVENT
BEGIN:VEVENT
DTSTART;TZID=Europe/Zurich:20261222T180000
DTEND;TZID=Europe/Zurich:20261222T193000
DTSTAMP:20260425T125549
CREATED:20250114T012823Z
LAST-MODIFIED:20260205T230406Z
UID:147201-1797962400-1797967800@cevibasel.ch
SUMMARY:Hattrick Gellert (7-12 Jahre)
DESCRIPTION:
URL:https://cevibasel.ch/veranstaltung/hattrick-gellert-7-12-jahre-188/
LOCATION:Fussballplatz Luftmatt
END:VEVENT
BEGIN:VEVENT
DTSTART;TZID=Europe/Zurich:20261222T190000
DTEND;TZID=Europe/Zurich:20261222T203000
DTSTAMP:20260425T125549
CREATED:20250114T012823Z
LAST-MODIFIED:20260205T230405Z
UID:147200-1797966000-1797971400@cevibasel.ch
SUMMARY:Hattrick Riehen (6. bis 7. Klasse)
DESCRIPTION:
URL:https://cevibasel.ch/veranstaltung/hattrick-riehen-6-bis-7-klasse-188/
LOCATION:Fussballplatz Andreasmatte
END:VEVENT
BEGIN:VEVENT
DTSTART;TZID=Europe/Zurich:20261223T083000
DTEND;TZID=Europe/Zurich:20261223T110000
DTSTAMP:20260425T125549
CREATED:20250114T012823Z
LAST-MODIFIED:20260205T230413Z
UID:147202-1798014600-1798023600@cevibasel.ch
SUMMARY:Mütterngruppe
DESCRIPTION:
URL:https://cevibasel.ch/veranstaltung/mutterngruppe-566/
LOCATION:Cevi Seki
END:VEVENT
BEGIN:VEVENT
DTSTART;TZID=Europe/Zurich:20261223T183000
DTEND;TZID=Europe/Zurich:20261223T210000
DTSTAMP:20260425T125549
CREATED:20250114T012823Z
LAST-MODIFIED:20260205T230413Z
UID:147203-1798050600-1798059600@cevibasel.ch
SUMMARY:Ten Sing
DESCRIPTION:
URL:https://cevibasel.ch/veranstaltung/ten-sing-187/
LOCATION:CVJM Haus Kleinbasel
END:VEVENT
BEGIN:VEVENT
DTSTART;TZID=Europe/Zurich:20261225T173000
DTEND;TZID=Europe/Zurich:20261225T190000
DTSTAMP:20260425T125549
CREATED:20250114T012823Z
LAST-MODIFIED:20260205T230413Z
UID:147204-1798219800-1798225200@cevibasel.ch
SUMMARY:Hattrick Basel West (7-15 Jahre)
DESCRIPTION:
URL:https://cevibasel.ch/veranstaltung/hattrick-basel-west-7-15-jahre-188/
END:VEVENT
BEGIN:VEVENT
DTSTART;TZID=Europe/Zurich:20261225T173000
DTEND;TZID=Europe/Zurich:20261225T190000
DTSTAMP:20260425T125549
CREATED:20250114T012824Z
LAST-MODIFIED:20260205T230413Z
UID:147205-1798219800-1798225200@cevibasel.ch
SUMMARY:Hattrick Riehen (4. bis 5. Klasse)
DESCRIPTION:
URL:https://cevibasel.ch/veranstaltung/hattrick-riehen-4-bis-5-klasse-188/
LOCATION:Andreasmatte
END:VEVENT
END:VCALENDAR