BEGIN:VCALENDAR
VERSION:2.0
PRODID:-//Cevi Region Basel - ECPv6.15.20//NONSGML v1.0//EN
CALSCALE:GREGORIAN
METHOD:PUBLISH
X-ORIGINAL-URL:https://cevibasel.ch
X-WR-CALDESC:Events for Cevi Region Basel
REFRESH-INTERVAL;VALUE=DURATION:PT1H
X-Robots-Tag:noindex
X-PUBLISHED-TTL:PT1H
BEGIN:VTIMEZONE
TZID:Europe/Zurich
BEGIN:DAYLIGHT
TZOFFSETFROM:+0100
TZOFFSETTO:+0200
TZNAME:CEST
DTSTART:20250330T010000
END:DAYLIGHT
BEGIN:STANDARD
TZOFFSETFROM:+0200
TZOFFSETTO:+0100
TZNAME:CET
DTSTART:20251026T010000
END:STANDARD
BEGIN:DAYLIGHT
TZOFFSETFROM:+0100
TZOFFSETTO:+0200
TZNAME:CEST
DTSTART:20260329T010000
END:DAYLIGHT
BEGIN:STANDARD
TZOFFSETFROM:+0200
TZOFFSETTO:+0100
TZNAME:CET
DTSTART:20261025T010000
END:STANDARD
BEGIN:DAYLIGHT
TZOFFSETFROM:+0100
TZOFFSETTO:+0200
TZNAME:CEST
DTSTART:20270328T010000
END:DAYLIGHT
BEGIN:STANDARD
TZOFFSETFROM:+0200
TZOFFSETTO:+0100
TZNAME:CET
DTSTART:20271031T010000
END:STANDARD
END:VTIMEZONE
BEGIN:VEVENT
DTSTART;VALUE=DATE:20261121
DTEND;VALUE=DATE:20261122
DTSTAMP:20260425T125646
CREATED:20251120T033310Z
LAST-MODIFIED:20260205T231941Z
UID:169975-1795219200-1795305599@cevibasel.ch
SUMMARY:Jungschar Angebote
DESCRIPTION:
URL:https://cevibasel.ch/veranstaltung/jungscharangebote-47/
END:VEVENT
BEGIN:VEVENT
DTSTART;VALUE=DATE:20261121
DTEND;VALUE=DATE:20261123
DTSTAMP:20260425T125646
CREATED:20251204T115950Z
LAST-MODIFIED:20260205T231941Z
UID:170287-1795219200-1795391999@cevibasel.ch
SUMMARY:Ten Sing Shows
DESCRIPTION:
URL:https://cevibasel.ch/veranstaltung/ten-sing-shows/
END:VEVENT
BEGIN:VEVENT
DTSTART;TZID=Europe/Zurich:20261121T133000
DTEND;TZID=Europe/Zurich:20261121T153000
DTSTAMP:20260425T125646
CREATED:20241121T024832Z
LAST-MODIFIED:20251120T120850Z
UID:142254-1795267800-1795275000@cevibasel.ch
SUMMARY:Hattrick Gundeli (6-11 Jahre)
DESCRIPTION:
URL:https://cevibasel.ch/veranstaltung/hattrick-gundeli-6-11-jahre-183/
LOCATION:Margarethenpark
END:VEVENT
BEGIN:VEVENT
DTSTART;TZID=Europe/Zurich:20261121T140000
DTEND;TZID=Europe/Zurich:20261121T170000
DTSTAMP:20260425T125646
CREATED:20241121T024831Z
LAST-MODIFIED:20251117T005630Z
UID:142250-1795269600-1795280400@cevibasel.ch
SUMMARY:Jungschi Allschwil
DESCRIPTION:
URL:https://cevibasel.ch/veranstaltung/jungschi-allschwil-183/
END:VEVENT
BEGIN:VEVENT
DTSTART;TZID=Europe/Zurich:20261121T140000
DTEND;TZID=Europe/Zurich:20261121T170000
DTSTAMP:20260425T125646
CREATED:20241121T024832Z
LAST-MODIFIED:20251117T005631Z
UID:142255-1795269600-1795280400@cevibasel.ch
SUMMARY:Jungschi Binningen
DESCRIPTION:
URL:https://cevibasel.ch/veranstaltung/jungschi-binningen-183/
END:VEVENT
BEGIN:VEVENT
DTSTART;TZID=Europe/Zurich:20261121T140000
DTEND;TZID=Europe/Zurich:20261121T170000
DTSTAMP:20260425T125646
CREATED:20241121T024832Z
LAST-MODIFIED:20251117T005630Z
UID:142251-1795269600-1795280400@cevibasel.ch
SUMMARY:Jungschi Gotthelf-Neubad
DESCRIPTION:
URL:https://cevibasel.ch/veranstaltung/jungschi-gotthelf-neubad-183/
END:VEVENT
BEGIN:VEVENT
DTSTART;TZID=Europe/Zurich:20261121T140000
DTEND;TZID=Europe/Zurich:20261121T170000
DTSTAMP:20260425T125646
CREATED:20241121T024832Z
LAST-MODIFIED:20251117T005629Z
UID:142252-1795269600-1795280400@cevibasel.ch
SUMMARY:Jungschi Ettigen & Therwil
DESCRIPTION:
URL:https://cevibasel.ch/veranstaltung/jungschi-ettigen-therwil-183/
END:VEVENT
BEGIN:VEVENT
DTSTART;TZID=Europe/Zurich:20261121T140000
DTEND;TZID=Europe/Zurich:20261121T170000
DTSTAMP:20260425T125646
CREATED:20241121T024832Z
LAST-MODIFIED:20251117T005630Z
UID:142253-1795269600-1795280400@cevibasel.ch
SUMMARY:Jungschi Thomas
DESCRIPTION:
URL:https://cevibasel.ch/veranstaltung/jungschi-thomas-183/
END:VEVENT
BEGIN:VEVENT
DTSTART;TZID=Europe/Zurich:20261121T140000
DTEND;TZID=Europe/Zurich:20261121T170000
DTSTAMP:20260425T125646
CREATED:20241121T024834Z
LAST-MODIFIED:20251117T005631Z
UID:142256-1795269600-1795280400@cevibasel.ch
SUMMARY:Jungschi Bubendorf
DESCRIPTION:
URL:https://cevibasel.ch/veranstaltung/jungschi-bubendorf-183/
END:VEVENT
BEGIN:VEVENT
DTSTART;TZID=Europe/Zurich:20261121T140000
DTEND;TZID=Europe/Zurich:20261121T170000
DTSTAMP:20260425T125646
CREATED:20241121T024834Z
LAST-MODIFIED:20251117T005630Z
UID:142257-1795269600-1795280400@cevibasel.ch
SUMMARY:Jungschi Titus
DESCRIPTION:
URL:https://cevibasel.ch/veranstaltung/jungschi-titus-183/
END:VEVENT
BEGIN:VEVENT
DTSTART;TZID=Europe/Zurich:20261123T190000
DTEND;TZID=Europe/Zurich:20261123T203000
DTSTAMP:20260425T125646
CREATED:20241124T031853Z
LAST-MODIFIED:20260205T230306Z
UID:142320-1795460400-1795465800@cevibasel.ch
SUMMARY:Hattrick Men\, 19.00-20.30
DESCRIPTION:
URL:https://cevibasel.ch/veranstaltung/hattrick-men-19-00-20-30-218/
LOCATION:Fussballfelder Pfaffenholz
END:VEVENT
BEGIN:VEVENT
DTSTART;TZID=Europe/Zurich:20261123T203000
DTEND;TZID=Europe/Zurich:20261123T220000
DTSTAMP:20260425T125646
CREATED:20241124T031852Z
LAST-MODIFIED:20260205T231941Z
UID:142319-1795465800-1795471200@cevibasel.ch
SUMMARY:Hattrick Ladies\, 20.30-22.00
DESCRIPTION:
URL:https://cevibasel.ch/veranstaltung/hattrick-ladies-20-30-22-00-219/
LOCATION:Fussballfelder Pfaffenholz
END:VEVENT
BEGIN:VEVENT
DTSTART;TZID=Europe/Zurich:20261124T173000
DTEND;TZID=Europe/Zurich:20261124T190000
DTSTAMP:20260425T125646
CREATED:20241124T031853Z
LAST-MODIFIED:20260205T230316Z
UID:142321-1795541400-1795546800@cevibasel.ch
SUMMARY:Hattrick Riehen (1. bis 3. Klasse)
DESCRIPTION:
URL:https://cevibasel.ch/veranstaltung/hattrick-riehen-1-bis-3-klasse-184/
LOCATION:Fussballplatz Andreasmatte
END:VEVENT
BEGIN:VEVENT
DTSTART;TZID=Europe/Zurich:20261124T180000
DTEND;TZID=Europe/Zurich:20261124T193000
DTSTAMP:20260425T125646
CREATED:20241124T031854Z
LAST-MODIFIED:20260205T230316Z
UID:142322-1795543200-1795548600@cevibasel.ch
SUMMARY:Hattrick Gellert (7-12 Jahre)
DESCRIPTION:
URL:https://cevibasel.ch/veranstaltung/hattrick-gellert-7-12-jahre-184/
LOCATION:Fussballplatz Luftmatt
END:VEVENT
BEGIN:VEVENT
DTSTART;TZID=Europe/Zurich:20261124T190000
DTEND;TZID=Europe/Zurich:20261124T203000
DTSTAMP:20260425T125646
CREATED:20241124T031854Z
LAST-MODIFIED:20260205T230316Z
UID:142323-1795546800-1795552200@cevibasel.ch
SUMMARY:Hattrick Riehen (6. bis 7. Klasse)
DESCRIPTION:
URL:https://cevibasel.ch/veranstaltung/hattrick-riehen-6-bis-7-klasse-184/
LOCATION:Fussballplatz Andreasmatte
END:VEVENT
BEGIN:VEVENT
DTSTART;TZID=Europe/Zurich:20261125T083000
DTEND;TZID=Europe/Zurich:20261125T110000
DTSTAMP:20260425T125646
CREATED:20241127T023412Z
LAST-MODIFIED:20260205T230316Z
UID:142339-1795595400-1795604400@cevibasel.ch
SUMMARY:Mütterngruppe
DESCRIPTION:
URL:https://cevibasel.ch/veranstaltung/mutterngruppe-562/
LOCATION:Cevi Seki
END:VEVENT
BEGIN:VEVENT
DTSTART;TZID=Europe/Zurich:20261125T183000
DTEND;TZID=Europe/Zurich:20261125T210000
DTSTAMP:20260425T125646
CREATED:20241127T023412Z
LAST-MODIFIED:20260205T230317Z
UID:142340-1795631400-1795640400@cevibasel.ch
SUMMARY:Ten Sing
DESCRIPTION:
URL:https://cevibasel.ch/veranstaltung/ten-sing-183/
LOCATION:CVJM Haus Kleinbasel
END:VEVENT
BEGIN:VEVENT
DTSTART;TZID=Europe/Zurich:20261127T173000
DTEND;TZID=Europe/Zurich:20261127T190000
DTSTAMP:20260425T125646
CREATED:20241127T023412Z
LAST-MODIFIED:20260205T230318Z
UID:142341-1795800600-1795806000@cevibasel.ch
SUMMARY:Hattrick Riehen (4. bis 5. Klasse)
DESCRIPTION:
URL:https://cevibasel.ch/veranstaltung/hattrick-riehen-4-bis-5-klasse-184/
LOCATION:Andreasmatte
END:VEVENT
BEGIN:VEVENT
DTSTART;TZID=Europe/Zurich:20261127T173000
DTEND;TZID=Europe/Zurich:20261127T190000
DTSTAMP:20260425T125646
CREATED:20241127T023415Z
LAST-MODIFIED:20260205T230318Z
UID:142343-1795800600-1795806000@cevibasel.ch
SUMMARY:Hattrick Basel West (7-15 Jahre)
DESCRIPTION:
URL:https://cevibasel.ch/veranstaltung/hattrick-basel-west-7-15-jahre-184/
END:VEVENT
BEGIN:VEVENT
DTSTART;TZID=Europe/Zurich:20261127T190000
DTEND;TZID=Europe/Zurich:20261127T203000
DTSTAMP:20260425T125646
CREATED:20241127T023415Z
LAST-MODIFIED:20260205T230318Z
UID:142342-1795806000-1795811400@cevibasel.ch
SUMMARY:Hattrick Basel West (16-18 Jahre)
DESCRIPTION:
URL:https://cevibasel.ch/veranstaltung/hattrick-basel-west-16-18-jahre-184/
LOCATION:Fussballfelder Pfaffenholz
END:VEVENT
BEGIN:VEVENT
DTSTART;VALUE=DATE:20261128
DTEND;VALUE=DATE:20261129
DTSTAMP:20260425T125646
CREATED:20251120T033320Z
LAST-MODIFIED:20260205T230318Z
UID:169976-1795824000-1795910399@cevibasel.ch
SUMMARY:Jungschar Angebote
DESCRIPTION:
URL:https://cevibasel.ch/veranstaltung/jungscharangebote-48/
END:VEVENT
BEGIN:VEVENT
DTSTART;TZID=Europe/Zurich:20261128T133000
DTEND;TZID=Europe/Zurich:20261128T153000
DTSTAMP:20260425T125646
CREATED:20250114T012809Z
LAST-MODIFIED:20251120T120855Z
UID:147140-1795872600-1795879800@cevibasel.ch
SUMMARY:Hattrick Gundeli (6-11 Jahre)
DESCRIPTION:
URL:https://cevibasel.ch/veranstaltung/hattrick-gundeli-6-11-jahre-184/
LOCATION:Margarethenpark
END:VEVENT
BEGIN:VEVENT
DTSTART;TZID=Europe/Zurich:20261128T140000
DTEND;TZID=Europe/Zurich:20261128T170000
DTSTAMP:20260425T125646
CREATED:20250114T012808Z
LAST-MODIFIED:20251117T005633Z
UID:147138-1795874400-1795885200@cevibasel.ch
SUMMARY:Jungschi Thomas
DESCRIPTION:
URL:https://cevibasel.ch/veranstaltung/jungschi-thomas-184/
END:VEVENT
BEGIN:VEVENT
DTSTART;TZID=Europe/Zurich:20261128T140000
DTEND;TZID=Europe/Zurich:20261128T170000
DTSTAMP:20260425T125646
CREATED:20250114T012808Z
LAST-MODIFIED:20251117T005633Z
UID:147139-1795874400-1795885200@cevibasel.ch
SUMMARY:Jungschi Gotthelf-Neubad
DESCRIPTION:
URL:https://cevibasel.ch/veranstaltung/jungschi-gotthelf-neubad-184/
END:VEVENT
BEGIN:VEVENT
DTSTART;TZID=Europe/Zurich:20261128T140000
DTEND;TZID=Europe/Zurich:20261128T170000
DTSTAMP:20260425T125646
CREATED:20250114T012808Z
LAST-MODIFIED:20251117T005634Z
UID:147135-1795874400-1795885200@cevibasel.ch
SUMMARY:Jungschi Allschwil
DESCRIPTION:
URL:https://cevibasel.ch/veranstaltung/jungschi-allschwil-184/
END:VEVENT
BEGIN:VEVENT
DTSTART;TZID=Europe/Zurich:20261128T140000
DTEND;TZID=Europe/Zurich:20261128T170000
DTSTAMP:20260425T125646
CREATED:20250114T012808Z
LAST-MODIFIED:20251117T005634Z
UID:147136-1795874400-1795885200@cevibasel.ch
SUMMARY:Jungschi Titus
DESCRIPTION:
URL:https://cevibasel.ch/veranstaltung/jungschi-titus-184/
END:VEVENT
BEGIN:VEVENT
DTSTART;TZID=Europe/Zurich:20261128T140000
DTEND;TZID=Europe/Zurich:20261128T170000
DTSTAMP:20260425T125646
CREATED:20250114T012808Z
LAST-MODIFIED:20251117T005634Z
UID:147137-1795874400-1795885200@cevibasel.ch
SUMMARY:Jungschi Ettigen & Therwil
DESCRIPTION:
URL:https://cevibasel.ch/veranstaltung/jungschi-ettigen-therwil-184/
END:VEVENT
BEGIN:VEVENT
DTSTART;TZID=Europe/Zurich:20261128T140000
DTEND;TZID=Europe/Zurich:20261128T170000
DTSTAMP:20260425T125646
CREATED:20250114T012809Z
LAST-MODIFIED:20251117T005633Z
UID:147141-1795874400-1795885200@cevibasel.ch
SUMMARY:Jungschi Bubendorf
DESCRIPTION:
URL:https://cevibasel.ch/veranstaltung/jungschi-bubendorf-184/
END:VEVENT
BEGIN:VEVENT
DTSTART;TZID=Europe/Zurich:20261128T140000
DTEND;TZID=Europe/Zurich:20261128T170000
DTSTAMP:20260425T125646
CREATED:20250114T012809Z
LAST-MODIFIED:20251117T005634Z
UID:147142-1795874400-1795885200@cevibasel.ch
SUMMARY:Jungschi Binningen
DESCRIPTION:
URL:https://cevibasel.ch/veranstaltung/jungschi-binningen-184/
END:VEVENT
BEGIN:VEVENT
DTSTART;TZID=Europe/Zurich:20261130T190000
DTEND;TZID=Europe/Zurich:20261130T203000
DTSTAMP:20260425T125646
CREATED:20250114T012809Z
LAST-MODIFIED:20260205T230326Z
UID:147144-1796065200-1796070600@cevibasel.ch
SUMMARY:Hattrick Men\, 19.00-20.30
DESCRIPTION:
URL:https://cevibasel.ch/veranstaltung/hattrick-men-19-00-20-30-219/
LOCATION:Fussballfelder Pfaffenholz
END:VEVENT
END:VCALENDAR