BEGIN:VCALENDAR
VERSION:2.0
PRODID:-//Cevi Region Basel - ECPv6.15.20//NONSGML v1.0//EN
CALSCALE:GREGORIAN
METHOD:PUBLISH
X-WR-CALNAME:Cevi Region Basel
X-ORIGINAL-URL:https://cevibasel.ch
X-WR-CALDESC:Events for Cevi Region Basel
REFRESH-INTERVAL;VALUE=DURATION:PT1H
X-Robots-Tag:noindex
X-PUBLISHED-TTL:PT1H
BEGIN:VTIMEZONE
TZID:Europe/Zurich
BEGIN:DAYLIGHT
TZOFFSETFROM:+0100
TZOFFSETTO:+0200
TZNAME:CEST
DTSTART:20220327T010000
END:DAYLIGHT
BEGIN:STANDARD
TZOFFSETFROM:+0200
TZOFFSETTO:+0100
TZNAME:CET
DTSTART:20221030T010000
END:STANDARD
BEGIN:DAYLIGHT
TZOFFSETFROM:+0100
TZOFFSETTO:+0200
TZNAME:CEST
DTSTART:20230326T010000
END:DAYLIGHT
BEGIN:STANDARD
TZOFFSETFROM:+0200
TZOFFSETTO:+0100
TZNAME:CET
DTSTART:20231029T010000
END:STANDARD
BEGIN:DAYLIGHT
TZOFFSETFROM:+0100
TZOFFSETTO:+0200
TZNAME:CEST
DTSTART:20240331T010000
END:DAYLIGHT
BEGIN:STANDARD
TZOFFSETFROM:+0200
TZOFFSETTO:+0100
TZNAME:CET
DTSTART:20241027T010000
END:STANDARD
END:VTIMEZONE
BEGIN:VEVENT
DTSTART;VALUE=DATE:20230603
DTEND;VALUE=DATE:20230604
DTSTAMP:20260425T132641
CREATED:20221017T113109Z
LAST-MODIFIED:20230603T235612Z
UID:103285-1685750400-1685836799@cevibasel.ch
SUMMARY:Braunwald 75 Jahre Jubiläumsfest
DESCRIPTION:
URL:https://cevibasel.ch/veranstaltung/braunwald-75-jahre-jubilaeumsfest/
END:VEVENT
BEGIN:VEVENT
DTSTART;VALUE=DATE:20230603
DTEND;VALUE=DATE:20230604
DTSTAMP:20260425T132641
CREATED:20230516T091632Z
LAST-MODIFIED:20230517T100950Z
UID:111061-1685750400-1685836799@cevibasel.ch
SUMMARY:Div. Jungscharprogramme\, ca. 14.00-17.00
DESCRIPTION:
URL:https://cevibasel.ch/veranstaltung/jungscharprogramm-ca-14-00-17-00-2/
END:VEVENT
BEGIN:VEVENT
DTSTART;VALUE=DATE:20230603
DTEND;VALUE=DATE:20230604
DTSTAMP:20260425T132641
CREATED:20230516T091737Z
LAST-MODIFIED:20230517T100950Z
UID:111062-1685750400-1685836799@cevibasel.ch
SUMMARY:Hattrick Gundeli (6-11 Jahre)\, 13.30-15.30
DESCRIPTION:
URL:https://cevibasel.ch/veranstaltung/hattrick-gundeli-6-11-jahre-13-30-15-30-3/
END:VEVENT
BEGIN:VEVENT
DTSTART;TZID=Europe/Zurich:20230603T133000
DTEND;TZID=Europe/Zurich:20230603T153000
DTSTAMP:20260425T132641
CREATED:20230517T102808Z
LAST-MODIFIED:20230603T132654Z
UID:111857-1685799000-1685806200@cevibasel.ch
SUMMARY:Hattrick Gundeli (6-11 Jahre)
DESCRIPTION:
URL:https://cevibasel.ch/veranstaltung/hattrick-gundeli-6-11-jahre-2/
LOCATION:Margarethenpark
END:VEVENT
BEGIN:VEVENT
DTSTART;TZID=Europe/Zurich:20230603T140000
DTEND;TZID=Europe/Zurich:20230603T170000
DTSTAMP:20260425T132641
CREATED:20230517T102808Z
LAST-MODIFIED:20230603T145147Z
UID:111858-1685800800-1685811600@cevibasel.ch
SUMMARY:Jungschi Allschwil
DESCRIPTION:
URL:https://cevibasel.ch/veranstaltung/jungschi-allschwil-2/
LOCATION:Calvinhaus
END:VEVENT
BEGIN:VEVENT
DTSTART;TZID=Europe/Zurich:20230603T140000
DTEND;TZID=Europe/Zurich:20230603T170000
DTSTAMP:20260425T132641
CREATED:20230517T104001Z
LAST-MODIFIED:20230603T145147Z
UID:112085-1685800800-1685811600@cevibasel.ch
SUMMARY:Jungschi Muttenz
DESCRIPTION:
URL:https://cevibasel.ch/veranstaltung/jungschi-muttenz-2/
END:VEVENT
BEGIN:VEVENT
DTSTART;TZID=Europe/Zurich:20230603T140000
DTEND;TZID=Europe/Zurich:20230603T170000
DTSTAMP:20260425T132641
CREATED:20230517T104001Z
LAST-MODIFIED:20230603T145501Z
UID:112084-1685800800-1685811600@cevibasel.ch
SUMMARY:Jungschi Thomas
DESCRIPTION:
URL:https://cevibasel.ch/veranstaltung/jungschi-thomas-2/
END:VEVENT
BEGIN:VEVENT
DTSTART;TZID=Europe/Zurich:20230603T140000
DTEND;TZID=Europe/Zurich:20230603T170000
DTSTAMP:20260425T132641
CREATED:20230517T104002Z
LAST-MODIFIED:20230603T145501Z
UID:112086-1685800800-1685811600@cevibasel.ch
SUMMARY:Jungschi Reinach
DESCRIPTION:
URL:https://cevibasel.ch/veranstaltung/jungschi-reinach-2/
END:VEVENT
BEGIN:VEVENT
DTSTART;TZID=Europe/Zurich:20230603T140000
DTEND;TZID=Europe/Zurich:20230603T170000
DTSTAMP:20260425T132641
CREATED:20230517T104123Z
LAST-MODIFIED:20230603T145501Z
UID:112091-1685800800-1685811600@cevibasel.ch
SUMMARY:Jungschi Ettigen & Therwil
DESCRIPTION:
URL:https://cevibasel.ch/veranstaltung/jungschi-ettigen-therwil-2/
END:VEVENT
BEGIN:VEVENT
DTSTART;TZID=Europe/Zurich:20230603T140000
DTEND;TZID=Europe/Zurich:20230603T170000
DTSTAMP:20260425T132641
CREATED:20230517T104123Z
LAST-MODIFIED:20230603T145146Z
UID:112087-1685800800-1685811600@cevibasel.ch
SUMMARY:Jungschi Binningen
DESCRIPTION:
URL:https://cevibasel.ch/veranstaltung/jungschi-binningen-2/
END:VEVENT
BEGIN:VEVENT
DTSTART;TZID=Europe/Zurich:20230603T140000
DTEND;TZID=Europe/Zurich:20230603T170000
DTSTAMP:20260425T132641
CREATED:20230517T104123Z
LAST-MODIFIED:20230603T145501Z
UID:112088-1685800800-1685811600@cevibasel.ch
SUMMARY:Jungschi Bubendorf
DESCRIPTION:
URL:https://cevibasel.ch/veranstaltung/jungschi-bubendorf-2/
END:VEVENT
BEGIN:VEVENT
DTSTART;TZID=Europe/Zurich:20230603T140000
DTEND;TZID=Europe/Zurich:20230603T170000
DTSTAMP:20260425T132641
CREATED:20230517T104123Z
LAST-MODIFIED:20230603T145147Z
UID:112089-1685800800-1685811600@cevibasel.ch
SUMMARY:Jungschi Gotthelf-Neubad
DESCRIPTION:
URL:https://cevibasel.ch/veranstaltung/jungschi-gotthelf-neubad-2/
END:VEVENT
BEGIN:VEVENT
DTSTART;TZID=Europe/Zurich:20230603T140000
DTEND;TZID=Europe/Zurich:20230603T170000
DTSTAMP:20260425T132641
CREATED:20230517T104149Z
LAST-MODIFIED:20230603T145501Z
UID:112093-1685800800-1685811600@cevibasel.ch
SUMMARY:Jungschi Titus
DESCRIPTION:
URL:https://cevibasel.ch/veranstaltung/jungschi-titus-2/
END:VEVENT
BEGIN:VEVENT
DTSTART;VALUE=DATE:20230605
DTEND;VALUE=DATE:20230606
DTSTAMP:20260425T132641
CREATED:20230508T083810Z
LAST-MODIFIED:20230517T095701Z
UID:110436-1685923200-1686009599@cevibasel.ch
SUMMARY:Beachvolleyball 20.00-22.00 Uhr\, im Joggeli
DESCRIPTION:
URL:https://cevibasel.ch/veranstaltung/beachvolleyball-20-00-22-00-uhr-im-joggeli-5/
END:VEVENT
BEGIN:VEVENT
DTSTART;VALUE=DATE:20230605
DTEND;VALUE=DATE:20230606
DTSTAMP:20260425T132641
CREATED:20230516T095509Z
LAST-MODIFIED:20230517T095701Z
UID:111115-1685923200-1686009599@cevibasel.ch
SUMMARY:Hattrick Men\, 19.00-20.30
DESCRIPTION:
URL:https://cevibasel.ch/veranstaltung/hattrick-men-19-00-20-30-3/
END:VEVENT
BEGIN:VEVENT
DTSTART;VALUE=DATE:20230605
DTEND;VALUE=DATE:20230606
DTSTAMP:20260425T132641
CREATED:20230516T095509Z
LAST-MODIFIED:20230517T095701Z
UID:111116-1685923200-1686009599@cevibasel.ch
SUMMARY:Hattrick Ladies\, 20.30-22.00
DESCRIPTION:
URL:https://cevibasel.ch/veranstaltung/hattrick-ladies-20-30-22-00-3/
END:VEVENT
BEGIN:VEVENT
DTSTART;TZID=Europe/Zurich:20230605T190000
DTEND;TZID=Europe/Zurich:20230605T203000
DTSTAMP:20260425T132641
CREATED:20230517T100950Z
LAST-MODIFIED:20230605T182258Z
UID:111745-1685991600-1685997000@cevibasel.ch
SUMMARY:Hattrick Men\, 19.00-20.30
DESCRIPTION:
URL:https://cevibasel.ch/veranstaltung/hattrick-men-19-00-20-30-37/
LOCATION:Fussballfelder Pfaffenholz
END:VEVENT
BEGIN:VEVENT
DTSTART;TZID=Europe/Zurich:20230605T200000
DTEND;TZID=Europe/Zurich:20230605T220000
DTSTAMP:20260425T132641
CREATED:20230517T100950Z
LAST-MODIFIED:20230605T195011Z
UID:111744-1685995200-1686002400@cevibasel.ch
SUMMARY:Beachvolleyballtraining
DESCRIPTION:
URL:https://cevibasel.ch/veranstaltung/beachvolleyballtraining-3/
LOCATION:Beachfelder St. Jakob
END:VEVENT
BEGIN:VEVENT
DTSTART;TZID=Europe/Zurich:20230605T203000
DTEND;TZID=Europe/Zurich:20230605T220000
DTSTAMP:20260425T132641
CREATED:20230517T100955Z
LAST-MODIFIED:20230605T195011Z
UID:111746-1685997000-1686002400@cevibasel.ch
SUMMARY:Hattrick Ladies\, 20.30-22.00
DESCRIPTION:
URL:https://cevibasel.ch/veranstaltung/hattrick-ladies-20-30-22-00-38/
LOCATION:Fussballfelder Pfaffenholz
END:VEVENT
BEGIN:VEVENT
DTSTART;VALUE=DATE:20230606
DTEND;VALUE=DATE:20230607
DTSTAMP:20260425T132641
CREATED:20230505T103556Z
LAST-MODIFIED:20230517T095710Z
UID:109170-1686009600-1686095999@cevibasel.ch
SUMMARY:Spaghettizistig\, 12.00-14.00 Uhr
DESCRIPTION:
URL:https://cevibasel.ch/veranstaltung/spaghettizistig-12-00-14-00-uhr-5/
END:VEVENT
BEGIN:VEVENT
DTSTART;VALUE=DATE:20230606
DTEND;VALUE=DATE:20230607
DTSTAMP:20260425T132641
CREATED:20230516T091737Z
LAST-MODIFIED:20230517T095710Z
UID:111063-1686009600-1686095999@cevibasel.ch
SUMMARY:Hattrick Riehen (1. bis 3. Klasse)\, 17.30-19.00
DESCRIPTION:
URL:https://cevibasel.ch/veranstaltung/hattrick-riehen-1-bis-3-klasse-17-30-19-00-4/
END:VEVENT
BEGIN:VEVENT
DTSTART;VALUE=DATE:20230606
DTEND;VALUE=DATE:20230607
DTSTAMP:20260425T132641
CREATED:20230516T091737Z
LAST-MODIFIED:20230517T095710Z
UID:111064-1686009600-1686095999@cevibasel.ch
SUMMARY:Hattrick Gellert (7-12 Jahre)\, 18.00-19.30
DESCRIPTION:
URL:https://cevibasel.ch/veranstaltung/hattrick-gellert-7-12-jahre-18-00-19-30-4/
END:VEVENT
BEGIN:VEVENT
DTSTART;TZID=Europe/Zurich:20230606T120000
DTEND;TZID=Europe/Zurich:20230606T140000
DTSTAMP:20260425T132641
CREATED:20230517T100955Z
LAST-MODIFIED:20230606T115814Z
UID:111747-1686052800-1686060000@cevibasel.ch
SUMMARY:Spaghettizistig
DESCRIPTION:
URL:https://cevibasel.ch/veranstaltung/spaghettizistig-3/
LOCATION:Cevi Seki
END:VEVENT
BEGIN:VEVENT
DTSTART;TZID=Europe/Zurich:20230606T173000
DTEND;TZID=Europe/Zurich:20230606T190000
DTSTAMP:20260425T132641
CREATED:20230517T100955Z
LAST-MODIFIED:20230606T165148Z
UID:111749-1686072600-1686078000@cevibasel.ch
SUMMARY:Hattrick Riehen (1. bis 3. Klasse)
DESCRIPTION:
URL:https://cevibasel.ch/veranstaltung/hattrick-riehen-1-bis-3-klasse-3/
LOCATION:Fussballplatz Andreasmatte
END:VEVENT
BEGIN:VEVENT
DTSTART;TZID=Europe/Zurich:20230606T180000
DTEND;TZID=Europe/Zurich:20230606T193000
DTSTAMP:20260425T132641
CREATED:20230517T100955Z
LAST-MODIFIED:20230606T172237Z
UID:111748-1686074400-1686079800@cevibasel.ch
SUMMARY:Hattrick Gellert (7-12 Jahre)
DESCRIPTION:
URL:https://cevibasel.ch/veranstaltung/hattrick-gellert-7-12-jahre-3/
LOCATION:Fussballplatz Luftmatt
END:VEVENT
BEGIN:VEVENT
DTSTART;TZID=Europe/Zurich:20230606T190000
DTEND;TZID=Europe/Zurich:20230606T203000
DTSTAMP:20260425T132641
CREATED:20230517T102835Z
LAST-MODIFIED:20230606T182104Z
UID:111863-1686078000-1686083400@cevibasel.ch
SUMMARY:Hattrick Riehen (6. bis 7. Klasse)
DESCRIPTION:
URL:https://cevibasel.ch/veranstaltung/hattrick-riehen-6-bis-7-klasse-3/
LOCATION:Fussballplatz Andreasmatte
END:VEVENT
BEGIN:VEVENT
DTSTART;VALUE=DATE:20230607
DTEND;VALUE=DATE:20230608
DTSTAMP:20260425T132641
CREATED:20230221T113113Z
LAST-MODIFIED:20230510T145454Z
UID:107142-1686096000-1686182399@cevibasel.ch
SUMMARY:Altpapier
DESCRIPTION:
URL:https://cevibasel.ch/veranstaltung/altpapier-4/
END:VEVENT
BEGIN:VEVENT
DTSTART;VALUE=DATE:20230607
DTEND;VALUE=DATE:20230608
DTSTAMP:20260425T132641
CREATED:20230505T103556Z
LAST-MODIFIED:20230517T101041Z
UID:109168-1686096000-1686182399@cevibasel.ch
SUMMARY:Spielgruppe\, 8.30-11.30 Uhr
DESCRIPTION:
URL:https://cevibasel.ch/veranstaltung/spielgruppe-8-30-11-30-uhr-10/
END:VEVENT
BEGIN:VEVENT
DTSTART;VALUE=DATE:20230607
DTEND;VALUE=DATE:20230608
DTSTAMP:20260425T132641
CREATED:20230505T103556Z
LAST-MODIFIED:20230517T101052Z
UID:109169-1686096000-1686182399@cevibasel.ch
SUMMARY:Mütterngruppe\, 9.00-11.30 Uhr
DESCRIPTION:
URL:https://cevibasel.ch/veranstaltung/muetterngruppe-9-00-11-30-uhr-3/
END:VEVENT
BEGIN:VEVENT
DTSTART;VALUE=DATE:20230607
DTEND;VALUE=DATE:20230608
DTSTAMP:20260425T132641
CREATED:20230508T085434Z
LAST-MODIFIED:20230517T101041Z
UID:110471-1686096000-1686182399@cevibasel.ch
SUMMARY:Beachvolleyball 16.00-18.00 Uhr\, im Rankhof
DESCRIPTION:
URL:https://cevibasel.ch/veranstaltung/beachvolleyball-16-00-18-00-uhr-im-rankhof-5/
END:VEVENT
END:VCALENDAR