BEGIN:VCALENDAR
VERSION:2.0
PRODID:-//Cevi Region Basel - ECPv6.15.20//NONSGML v1.0//EN
CALSCALE:GREGORIAN
METHOD:PUBLISH
X-WR-CALNAME:Cevi Region Basel
X-ORIGINAL-URL:https://cevibasel.ch
X-WR-CALDESC:Events for Cevi Region Basel
REFRESH-INTERVAL;VALUE=DURATION:PT1H
X-Robots-Tag:noindex
X-PUBLISHED-TTL:PT1H
BEGIN:VTIMEZONE
TZID:Europe/Zurich
BEGIN:DAYLIGHT
TZOFFSETFROM:+0100
TZOFFSETTO:+0200
TZNAME:CEST
DTSTART:20250330T010000
END:DAYLIGHT
BEGIN:STANDARD
TZOFFSETFROM:+0200
TZOFFSETTO:+0100
TZNAME:CET
DTSTART:20251026T010000
END:STANDARD
BEGIN:DAYLIGHT
TZOFFSETFROM:+0100
TZOFFSETTO:+0200
TZNAME:CEST
DTSTART:20260329T010000
END:DAYLIGHT
BEGIN:STANDARD
TZOFFSETFROM:+0200
TZOFFSETTO:+0100
TZNAME:CET
DTSTART:20261025T010000
END:STANDARD
BEGIN:DAYLIGHT
TZOFFSETFROM:+0100
TZOFFSETTO:+0200
TZNAME:CEST
DTSTART:20270328T010000
END:DAYLIGHT
BEGIN:STANDARD
TZOFFSETFROM:+0200
TZOFFSETTO:+0100
TZNAME:CET
DTSTART:20271031T010000
END:STANDARD
BEGIN:DAYLIGHT
TZOFFSETFROM:+0100
TZOFFSETTO:+0200
TZNAME:CEST
DTSTART:20280326T010000
END:DAYLIGHT
BEGIN:STANDARD
TZOFFSETFROM:+0200
TZOFFSETTO:+0100
TZNAME:CET
DTSTART:20281029T010000
END:STANDARD
END:VTIMEZONE
BEGIN:VEVENT
DTSTART;TZID=Europe/Zurich:20261219T140000
DTEND;TZID=Europe/Zurich:20261219T170000
DTSTAMP:20260425T171147
CREATED:20250114T012822Z
LAST-MODIFIED:20251117T005646Z
UID:147196-1797688800-1797699600@cevibasel.ch
SUMMARY:Jungschi Gotthelf-Neubad
DESCRIPTION:
URL:https://cevibasel.ch/veranstaltung/jungschi-gotthelf-neubad-187/
END:VEVENT
BEGIN:VEVENT
DTSTART;TZID=Europe/Zurich:20261221T190000
DTEND;TZID=Europe/Zurich:20261221T203000
DTSTAMP:20260425T171147
CREATED:20250114T012822Z
LAST-MODIFIED:20260205T230405Z
UID:147197-1797879600-1797885000@cevibasel.ch
SUMMARY:Hattrick Men\, 19.00-20.30
DESCRIPTION:
URL:https://cevibasel.ch/veranstaltung/hattrick-men-19-00-20-30-222/
LOCATION:Fussballfelder Pfaffenholz
END:VEVENT
BEGIN:VEVENT
DTSTART;TZID=Europe/Zurich:20261221T203000
DTEND;TZID=Europe/Zurich:20261221T220000
DTSTAMP:20260425T171147
CREATED:20250114T012822Z
LAST-MODIFIED:20260205T230405Z
UID:147198-1797885000-1797890400@cevibasel.ch
SUMMARY:Hattrick Ladies\, 20.30-22.00
DESCRIPTION:
URL:https://cevibasel.ch/veranstaltung/hattrick-ladies-20-30-22-00-223/
LOCATION:Fussballfelder Pfaffenholz
END:VEVENT
BEGIN:VEVENT
DTSTART;TZID=Europe/Zurich:20261222T173000
DTEND;TZID=Europe/Zurich:20261222T190000
DTSTAMP:20260425T171147
CREATED:20250114T012822Z
LAST-MODIFIED:20260205T230405Z
UID:147199-1797960600-1797966000@cevibasel.ch
SUMMARY:Hattrick Riehen (1. bis 3. Klasse)
DESCRIPTION:
URL:https://cevibasel.ch/veranstaltung/hattrick-riehen-1-bis-3-klasse-188/
LOCATION:Fussballplatz Andreasmatte
END:VEVENT
BEGIN:VEVENT
DTSTART;TZID=Europe/Zurich:20261222T180000
DTEND;TZID=Europe/Zurich:20261222T193000
DTSTAMP:20260425T171147
CREATED:20250114T012823Z
LAST-MODIFIED:20260205T230406Z
UID:147201-1797962400-1797967800@cevibasel.ch
SUMMARY:Hattrick Gellert (7-12 Jahre)
DESCRIPTION:
URL:https://cevibasel.ch/veranstaltung/hattrick-gellert-7-12-jahre-188/
LOCATION:Fussballplatz Luftmatt
END:VEVENT
BEGIN:VEVENT
DTSTART;TZID=Europe/Zurich:20261222T190000
DTEND;TZID=Europe/Zurich:20261222T203000
DTSTAMP:20260425T171147
CREATED:20250114T012823Z
LAST-MODIFIED:20260205T230405Z
UID:147200-1797966000-1797971400@cevibasel.ch
SUMMARY:Hattrick Riehen (6. bis 7. Klasse)
DESCRIPTION:
URL:https://cevibasel.ch/veranstaltung/hattrick-riehen-6-bis-7-klasse-188/
LOCATION:Fussballplatz Andreasmatte
END:VEVENT
BEGIN:VEVENT
DTSTART;TZID=Europe/Zurich:20261223T083000
DTEND;TZID=Europe/Zurich:20261223T110000
DTSTAMP:20260425T171147
CREATED:20250114T012823Z
LAST-MODIFIED:20260205T230413Z
UID:147202-1798014600-1798023600@cevibasel.ch
SUMMARY:Mütterngruppe
DESCRIPTION:
URL:https://cevibasel.ch/veranstaltung/mutterngruppe-566/
LOCATION:Cevi Seki
END:VEVENT
BEGIN:VEVENT
DTSTART;TZID=Europe/Zurich:20261223T183000
DTEND;TZID=Europe/Zurich:20261223T210000
DTSTAMP:20260425T171147
CREATED:20250114T012823Z
LAST-MODIFIED:20260205T230413Z
UID:147203-1798050600-1798059600@cevibasel.ch
SUMMARY:Ten Sing
DESCRIPTION:
URL:https://cevibasel.ch/veranstaltung/ten-sing-187/
LOCATION:CVJM Haus Kleinbasel
END:VEVENT
BEGIN:VEVENT
DTSTART;TZID=Europe/Zurich:20261225T173000
DTEND;TZID=Europe/Zurich:20261225T190000
DTSTAMP:20260425T171147
CREATED:20250114T012823Z
LAST-MODIFIED:20260205T230413Z
UID:147204-1798219800-1798225200@cevibasel.ch
SUMMARY:Hattrick Basel West (7-15 Jahre)
DESCRIPTION:
URL:https://cevibasel.ch/veranstaltung/hattrick-basel-west-7-15-jahre-188/
END:VEVENT
BEGIN:VEVENT
DTSTART;TZID=Europe/Zurich:20261225T173000
DTEND;TZID=Europe/Zurich:20261225T190000
DTSTAMP:20260425T171147
CREATED:20250114T012824Z
LAST-MODIFIED:20260205T230413Z
UID:147205-1798219800-1798225200@cevibasel.ch
SUMMARY:Hattrick Riehen (4. bis 5. Klasse)
DESCRIPTION:
URL:https://cevibasel.ch/veranstaltung/hattrick-riehen-4-bis-5-klasse-188/
LOCATION:Andreasmatte
END:VEVENT
BEGIN:VEVENT
DTSTART;TZID=Europe/Zurich:20261225T180000
DTEND;TZID=Europe/Zurich:20261225T220000
DTSTAMP:20260425T171147
CREATED:20251023T045752Z
LAST-MODIFIED:20260205T230427Z
UID:169447-1798221600-1798236000@cevibasel.ch
SUMMARY:Kundenweihnacht
DESCRIPTION:
URL:https://cevibasel.ch/veranstaltung/kundenweihnacht-2/
END:VEVENT
BEGIN:VEVENT
DTSTART;TZID=Europe/Zurich:20261225T190000
DTEND;TZID=Europe/Zurich:20261225T203000
DTSTAMP:20260425T171147
CREATED:20250114T012824Z
LAST-MODIFIED:20260205T230413Z
UID:147206-1798225200-1798230600@cevibasel.ch
SUMMARY:Hattrick Basel West (16-18 Jahre)
DESCRIPTION:
URL:https://cevibasel.ch/veranstaltung/hattrick-basel-west-16-18-jahre-188/
LOCATION:Fussballfelder Pfaffenholz
END:VEVENT
BEGIN:VEVENT
DTSTART;VALUE=DATE:20261226
DTEND;VALUE=DATE:20261227
DTSTAMP:20260425T171147
CREATED:20251120T033408Z
LAST-MODIFIED:20260205T230427Z
UID:169981-1798243200-1798329599@cevibasel.ch
SUMMARY:Jungschar Angebote
DESCRIPTION:
URL:https://cevibasel.ch/veranstaltung/jungscharangebote-52/
END:VEVENT
BEGIN:VEVENT
DTSTART;TZID=Europe/Zurich:20261226T133000
DTEND;TZID=Europe/Zurich:20261226T153000
DTSTAMP:20260425T171147
CREATED:20250114T012826Z
LAST-MODIFIED:20251120T120911Z
UID:147211-1798291800-1798299000@cevibasel.ch
SUMMARY:Hattrick Gundeli (6-11 Jahre)
DESCRIPTION:
URL:https://cevibasel.ch/veranstaltung/hattrick-gundeli-6-11-jahre-188/
LOCATION:Margarethenpark
END:VEVENT
BEGIN:VEVENT
DTSTART;TZID=Europe/Zurich:20261226T140000
DTEND;TZID=Europe/Zurich:20261226T170000
DTSTAMP:20260425T171147
CREATED:20250114T012824Z
LAST-MODIFIED:20251117T005649Z
UID:147207-1798293600-1798304400@cevibasel.ch
SUMMARY:Jungschi Binningen
DESCRIPTION:
URL:https://cevibasel.ch/veranstaltung/jungschi-binningen-188/
END:VEVENT
BEGIN:VEVENT
DTSTART;TZID=Europe/Zurich:20261226T140000
DTEND;TZID=Europe/Zurich:20261226T170000
DTSTAMP:20260425T171147
CREATED:20250114T012824Z
LAST-MODIFIED:20251117T005650Z
UID:147208-1798293600-1798304400@cevibasel.ch
SUMMARY:Jungschi Titus
DESCRIPTION:
URL:https://cevibasel.ch/veranstaltung/jungschi-titus-188/
END:VEVENT
BEGIN:VEVENT
DTSTART;TZID=Europe/Zurich:20261226T140000
DTEND;TZID=Europe/Zurich:20261226T170000
DTSTAMP:20260425T171147
CREATED:20250114T012824Z
LAST-MODIFIED:20251117T005649Z
UID:147209-1798293600-1798304400@cevibasel.ch
SUMMARY:Jungschi Allschwil
DESCRIPTION:
URL:https://cevibasel.ch/veranstaltung/jungschi-allschwil-188/
END:VEVENT
BEGIN:VEVENT
DTSTART;TZID=Europe/Zurich:20261226T140000
DTEND;TZID=Europe/Zurich:20261226T170000
DTSTAMP:20260425T171147
CREATED:20250114T012825Z
LAST-MODIFIED:20251117T005650Z
UID:147210-1798293600-1798304400@cevibasel.ch
SUMMARY:Jungschi Bubendorf
DESCRIPTION:
URL:https://cevibasel.ch/veranstaltung/jungschi-bubendorf-188/
END:VEVENT
BEGIN:VEVENT
DTSTART;TZID=Europe/Zurich:20261226T140000
DTEND;TZID=Europe/Zurich:20261226T170000
DTSTAMP:20260425T171147
CREATED:20250114T012826Z
LAST-MODIFIED:20251117T005649Z
UID:147212-1798293600-1798304400@cevibasel.ch
SUMMARY:Jungschi Ettigen & Therwil
DESCRIPTION:
URL:https://cevibasel.ch/veranstaltung/jungschi-ettigen-therwil-188/
END:VEVENT
BEGIN:VEVENT
DTSTART;TZID=Europe/Zurich:20261226T140000
DTEND;TZID=Europe/Zurich:20261226T170000
DTSTAMP:20260425T171147
CREATED:20250114T012826Z
LAST-MODIFIED:20251117T005650Z
UID:147213-1798293600-1798304400@cevibasel.ch
SUMMARY:Jungschi Thomas
DESCRIPTION:
URL:https://cevibasel.ch/veranstaltung/jungschi-thomas-188/
END:VEVENT
BEGIN:VEVENT
DTSTART;TZID=Europe/Zurich:20261226T140000
DTEND;TZID=Europe/Zurich:20261226T170000
DTSTAMP:20260425T171147
CREATED:20250114T012826Z
LAST-MODIFIED:20251117T005649Z
UID:147214-1798293600-1798304400@cevibasel.ch
SUMMARY:Jungschi Gotthelf-Neubad
DESCRIPTION:
URL:https://cevibasel.ch/veranstaltung/jungschi-gotthelf-neubad-188/
END:VEVENT
BEGIN:VEVENT
DTSTART;TZID=Europe/Zurich:20261228T190000
DTEND;TZID=Europe/Zurich:20261228T203000
DTSTAMP:20260425T171147
CREATED:20250114T012827Z
LAST-MODIFIED:20260205T230427Z
UID:147215-1798484400-1798489800@cevibasel.ch
SUMMARY:Hattrick Men\, 19.00-20.30
DESCRIPTION:
URL:https://cevibasel.ch/veranstaltung/hattrick-men-19-00-20-30-223/
LOCATION:Fussballfelder Pfaffenholz
END:VEVENT
BEGIN:VEVENT
DTSTART;TZID=Europe/Zurich:20261228T203000
DTEND;TZID=Europe/Zurich:20261228T220000
DTSTAMP:20260425T171147
CREATED:20250114T012827Z
LAST-MODIFIED:20260205T230427Z
UID:147216-1798489800-1798495200@cevibasel.ch
SUMMARY:Hattrick Ladies\, 20.30-22.00
DESCRIPTION:
URL:https://cevibasel.ch/veranstaltung/hattrick-ladies-20-30-22-00-224/
LOCATION:Fussballfelder Pfaffenholz
END:VEVENT
BEGIN:VEVENT
DTSTART;TZID=Europe/Zurich:20261229T173000
DTEND;TZID=Europe/Zurich:20261229T190000
DTSTAMP:20260425T171147
CREATED:20250114T012827Z
LAST-MODIFIED:20260205T230429Z
UID:147217-1798565400-1798570800@cevibasel.ch
SUMMARY:Hattrick Riehen (1. bis 3. Klasse)
DESCRIPTION:
URL:https://cevibasel.ch/veranstaltung/hattrick-riehen-1-bis-3-klasse-189/
LOCATION:Fussballplatz Andreasmatte
END:VEVENT
BEGIN:VEVENT
DTSTART;TZID=Europe/Zurich:20261229T180000
DTEND;TZID=Europe/Zurich:20261229T193000
DTSTAMP:20260425T171147
CREATED:20250114T012827Z
LAST-MODIFIED:20260205T230429Z
UID:147218-1798567200-1798572600@cevibasel.ch
SUMMARY:Hattrick Gellert (7-12 Jahre)
DESCRIPTION:
URL:https://cevibasel.ch/veranstaltung/hattrick-gellert-7-12-jahre-189/
LOCATION:Fussballplatz Luftmatt
END:VEVENT
BEGIN:VEVENT
DTSTART;TZID=Europe/Zurich:20261229T190000
DTEND;TZID=Europe/Zurich:20261229T203000
DTSTAMP:20260425T171147
CREATED:20250114T012827Z
LAST-MODIFIED:20260205T230427Z
UID:147219-1798570800-1798576200@cevibasel.ch
SUMMARY:Hattrick Riehen (6. bis 7. Klasse)
DESCRIPTION:
URL:https://cevibasel.ch/veranstaltung/hattrick-riehen-6-bis-7-klasse-189/
LOCATION:Fussballplatz Andreasmatte
END:VEVENT
BEGIN:VEVENT
DTSTART;TZID=Europe/Zurich:20261230T183000
DTEND;TZID=Europe/Zurich:20261230T210000
DTSTAMP:20260425T171147
CREATED:20250114T012828Z
LAST-MODIFIED:20260205T230429Z
UID:147220-1798655400-1798664400@cevibasel.ch
SUMMARY:Ten Sing
DESCRIPTION:
URL:https://cevibasel.ch/veranstaltung/ten-sing-188/
LOCATION:CVJM Haus Kleinbasel
END:VEVENT
BEGIN:VEVENT
DTSTART;TZID=Europe/Zurich:20261231T083000
DTEND;TZID=Europe/Zurich:20261231T113000
DTSTAMP:20260425T171147
CREATED:20250114T012828Z
LAST-MODIFIED:20260205T230429Z
UID:147221-1798705800-1798716600@cevibasel.ch
SUMMARY:Mütterngruppe
DESCRIPTION:
URL:https://cevibasel.ch/veranstaltung/mutterngruppe-567/
LOCATION:Cevi Seki
END:VEVENT
BEGIN:VEVENT
DTSTART;TZID=Europe/Zurich:20270101T173000
DTEND;TZID=Europe/Zurich:20270101T190000
DTSTAMP:20260425T171147
CREATED:20250114T012828Z
LAST-MODIFIED:20260205T230433Z
UID:147223-1798824600-1798830000@cevibasel.ch
SUMMARY:Hattrick Basel West (7-15 Jahre)
DESCRIPTION:
URL:https://cevibasel.ch/veranstaltung/hattrick-basel-west-7-15-jahre-189/
END:VEVENT
BEGIN:VEVENT
DTSTART;TZID=Europe/Zurich:20270101T173000
DTEND;TZID=Europe/Zurich:20270101T190000
DTSTAMP:20260425T171147
CREATED:20250114T012828Z
LAST-MODIFIED:20260205T230433Z
UID:147224-1798824600-1798830000@cevibasel.ch
SUMMARY:Hattrick Riehen (4. bis 5. Klasse)
DESCRIPTION:
URL:https://cevibasel.ch/veranstaltung/hattrick-riehen-4-bis-5-klasse-189/
LOCATION:Andreasmatte
END:VEVENT
END:VCALENDAR