BEGIN:VCALENDAR
VERSION:2.0
PRODID:-//Cevi Region Basel - ECPv6.15.20//NONSGML v1.0//EN
CALSCALE:GREGORIAN
METHOD:PUBLISH
X-WR-CALNAME:Cevi Region Basel
X-ORIGINAL-URL:https://cevibasel.ch
X-WR-CALDESC:Events for Cevi Region Basel
REFRESH-INTERVAL;VALUE=DURATION:PT1H
X-Robots-Tag:noindex
X-PUBLISHED-TTL:PT1H
BEGIN:VTIMEZONE
TZID:Europe/Zurich
BEGIN:DAYLIGHT
TZOFFSETFROM:+0100
TZOFFSETTO:+0200
TZNAME:CEST
DTSTART:20240331T010000
END:DAYLIGHT
BEGIN:STANDARD
TZOFFSETFROM:+0200
TZOFFSETTO:+0100
TZNAME:CET
DTSTART:20241027T010000
END:STANDARD
BEGIN:DAYLIGHT
TZOFFSETFROM:+0100
TZOFFSETTO:+0200
TZNAME:CEST
DTSTART:20250330T010000
END:DAYLIGHT
BEGIN:STANDARD
TZOFFSETFROM:+0200
TZOFFSETTO:+0100
TZNAME:CET
DTSTART:20251026T010000
END:STANDARD
BEGIN:DAYLIGHT
TZOFFSETFROM:+0100
TZOFFSETTO:+0200
TZNAME:CEST
DTSTART:20260329T010000
END:DAYLIGHT
BEGIN:STANDARD
TZOFFSETFROM:+0200
TZOFFSETTO:+0100
TZNAME:CET
DTSTART:20261025T010000
END:STANDARD
END:VTIMEZONE
BEGIN:VEVENT
DTSTART;TZID=Europe/Zurich:20250828T083000
DTEND;TZID=Europe/Zurich:20250828T113000
DTSTAMP:20260426T052651
CREATED:20240812T101832Z
LAST-MODIFIED:20241227T021921Z
UID:127580-1756369800-1756380600@cevibasel.ch
SUMMARY:Mütterngruppe
DESCRIPTION:
URL:https://cevibasel.ch/veranstaltung/mutterngruppe-238/
LOCATION:Cevi Seki
END:VEVENT
BEGIN:VEVENT
DTSTART;TZID=Europe/Zurich:20250828T083000
DTEND;TZID=Europe/Zurich:20250828T113000
DTSTAMP:20260426T052651
CREATED:20240812T101832Z
LAST-MODIFIED:20250113T111842Z
UID:127581-1756369800-1756380600@cevibasel.ch
SUMMARY:Mütterngruppe
DESCRIPTION:
URL:https://cevibasel.ch/veranstaltung/mutterngruppe-239/
LOCATION:Cevi Seki
END:VEVENT
BEGIN:VEVENT
DTSTART;TZID=Europe/Zurich:20250828T083000
DTEND;TZID=Europe/Zurich:20250828T113000
DTSTAMP:20260426T052651
CREATED:20240812T101831Z
LAST-MODIFIED:20250113T111842Z
UID:127576-1756369800-1756380600@cevibasel.ch
SUMMARY:Mütterngruppe
DESCRIPTION:
URL:https://cevibasel.ch/veranstaltung/mutterngruppe-234/
LOCATION:Cevi Seki
END:VEVENT
BEGIN:VEVENT
DTSTART;TZID=Europe/Zurich:20250828T083000
DTEND;TZID=Europe/Zurich:20250828T113000
DTSTAMP:20260426T052651
CREATED:20240812T101831Z
LAST-MODIFIED:20241227T021923Z
UID:127575-1756369800-1756380600@cevibasel.ch
SUMMARY:Mütterngruppe
DESCRIPTION:
URL:https://cevibasel.ch/veranstaltung/mutterngruppe-233/
LOCATION:Cevi Seki
END:VEVENT
BEGIN:VEVENT
DTSTART;TZID=Europe/Zurich:20250827T183000
DTEND;TZID=Europe/Zurich:20250827T210000
DTSTAMP:20260426T052651
CREATED:20240625T134638Z
LAST-MODIFIED:20250827T184955Z
UID:121686-1756319400-1756328400@cevibasel.ch
SUMMARY:Ten Sing
DESCRIPTION:
URL:https://cevibasel.ch/veranstaltung/ten-sing-118/
LOCATION:CVJM Haus Kleinbasel
END:VEVENT
BEGIN:VEVENT
DTSTART;TZID=Europe/Zurich:20250826T190000
DTEND;TZID=Europe/Zurich:20250826T203000
DTSTAMP:20260426T052651
CREATED:20240625T134636Z
LAST-MODIFIED:20250826T181959Z
UID:121683-1756234800-1756240200@cevibasel.ch
SUMMARY:Hattrick Riehen (6. bis 7. Klasse)
DESCRIPTION:
URL:https://cevibasel.ch/veranstaltung/hattrick-riehen-6-bis-7-klasse-119/
LOCATION:Fussballplatz Andreasmatte
END:VEVENT
BEGIN:VEVENT
DTSTART;TZID=Europe/Zurich:20250826T180000
DTEND;TZID=Europe/Zurich:20250826T193000
DTSTAMP:20260426T052651
CREATED:20240625T134636Z
LAST-MODIFIED:20250826T172010Z
UID:121685-1756231200-1756236600@cevibasel.ch
SUMMARY:Hattrick Gellert (7-12 Jahre)
DESCRIPTION:
URL:https://cevibasel.ch/veranstaltung/hattrick-gellert-7-12-jahre-119/
LOCATION:Fussballplatz Luftmatt
END:VEVENT
BEGIN:VEVENT
DTSTART;TZID=Europe/Zurich:20250826T173000
DTEND;TZID=Europe/Zurich:20250826T190000
DTSTAMP:20260426T052651
CREATED:20240625T134636Z
LAST-MODIFIED:20250826T164958Z
UID:121684-1756229400-1756234800@cevibasel.ch
SUMMARY:Hattrick Riehen (1. bis 3. Klasse)
DESCRIPTION:
URL:https://cevibasel.ch/veranstaltung/hattrick-riehen-1-bis-3-klasse-119/
LOCATION:Fussballplatz Andreasmatte
END:VEVENT
BEGIN:VEVENT
DTSTART;TZID=Europe/Zurich:20250825T203000
DTEND;TZID=Europe/Zurich:20250825T220000
DTSTAMP:20260426T052651
CREATED:20240625T134636Z
LAST-MODIFIED:20250825T195130Z
UID:121682-1756153800-1756159200@cevibasel.ch
SUMMARY:Hattrick Ladies\, 20.30-22.00
DESCRIPTION:
URL:https://cevibasel.ch/veranstaltung/hattrick-ladies-20-30-22-00-154/
LOCATION:Fussballfelder Pfaffenholz
END:VEVENT
BEGIN:VEVENT
DTSTART;TZID=Europe/Zurich:20250825T190000
DTEND;TZID=Europe/Zurich:20250825T203000
DTSTAMP:20260426T052651
CREATED:20240625T134636Z
LAST-MODIFIED:20250825T182046Z
UID:121681-1756148400-1756153800@cevibasel.ch
SUMMARY:Hattrick Men\, 19.00-20.30
DESCRIPTION:
URL:https://cevibasel.ch/veranstaltung/hattrick-men-19-00-20-30-153/
LOCATION:Fussballfelder Pfaffenholz
END:VEVENT
BEGIN:VEVENT
DTSTART;TZID=Europe/Zurich:20250823T140000
DTEND;TZID=Europe/Zurich:20250823T170000
DTSTAMP:20260426T052651
CREATED:20240625T134634Z
LAST-MODIFIED:20250823T145120Z
UID:121677-1755957600-1755968400@cevibasel.ch
SUMMARY:Jungschi Titus
DESCRIPTION:
URL:https://cevibasel.ch/veranstaltung/jungschi-titus-118/
END:VEVENT
BEGIN:VEVENT
DTSTART;TZID=Europe/Zurich:20250823T140000
DTEND;TZID=Europe/Zurich:20250823T170000
DTSTAMP:20260426T052651
CREATED:20240625T134634Z
LAST-MODIFIED:20241105T110003Z
UID:121678-1755957600-1755968400@cevibasel.ch
SUMMARY:Jungschi Muttenz
DESCRIPTION:
URL:https://cevibasel.ch/veranstaltung/jungschi-muttenz-118/
END:VEVENT
BEGIN:VEVENT
DTSTART;TZID=Europe/Zurich:20250823T140000
DTEND;TZID=Europe/Zurich:20250823T170000
DTSTAMP:20260426T052651
CREATED:20240625T134634Z
LAST-MODIFIED:20250823T145030Z
UID:121679-1755957600-1755968400@cevibasel.ch
SUMMARY:Jungschi Bubendorf
DESCRIPTION:
URL:https://cevibasel.ch/veranstaltung/jungschi-bubendorf-118/
END:VEVENT
BEGIN:VEVENT
DTSTART;TZID=Europe/Zurich:20250823T140000
DTEND;TZID=Europe/Zurich:20250823T170000
DTSTAMP:20260426T052651
CREATED:20240625T134634Z
LAST-MODIFIED:20241105T110003Z
UID:121680-1755957600-1755968400@cevibasel.ch
SUMMARY:Jungschi Reinach
DESCRIPTION:
URL:https://cevibasel.ch/veranstaltung/jungschi-reinach-118/
END:VEVENT
BEGIN:VEVENT
DTSTART;TZID=Europe/Zurich:20250823T140000
DTEND;TZID=Europe/Zurich:20250823T170000
DTSTAMP:20260426T052651
CREATED:20240625T134634Z
LAST-MODIFIED:20250823T145120Z
UID:121676-1755957600-1755968400@cevibasel.ch
SUMMARY:Jungschi Binningen
DESCRIPTION:
URL:https://cevibasel.ch/veranstaltung/jungschi-binningen-118/
END:VEVENT
BEGIN:VEVENT
DTSTART;TZID=Europe/Zurich:20250823T140000
DTEND;TZID=Europe/Zurich:20250823T170000
DTSTAMP:20260426T052651
CREATED:20240625T134632Z
LAST-MODIFIED:20250823T145030Z
UID:121672-1755957600-1755968400@cevibasel.ch
SUMMARY:Jungschi Thomas
DESCRIPTION:
URL:https://cevibasel.ch/veranstaltung/jungschi-thomas-118/
END:VEVENT
BEGIN:VEVENT
DTSTART;TZID=Europe/Zurich:20250823T140000
DTEND;TZID=Europe/Zurich:20250823T170000
DTSTAMP:20260426T052651
CREATED:20240625T134632Z
LAST-MODIFIED:20250823T145030Z
UID:121674-1755957600-1755968400@cevibasel.ch
SUMMARY:Jungschi Allschwil
DESCRIPTION:
URL:https://cevibasel.ch/veranstaltung/jungschi-allschwil-118/
END:VEVENT
BEGIN:VEVENT
DTSTART;TZID=Europe/Zurich:20250823T140000
DTEND;TZID=Europe/Zurich:20250823T170000
DTSTAMP:20260426T052651
CREATED:20240625T134632Z
LAST-MODIFIED:20250823T145030Z
UID:121675-1755957600-1755968400@cevibasel.ch
SUMMARY:Jungschi Gotthelf-Neubad
DESCRIPTION:
URL:https://cevibasel.ch/veranstaltung/jungschi-gotthelf-neubad-118/
END:VEVENT
BEGIN:VEVENT
DTSTART;TZID=Europe/Zurich:20250823T140000
DTEND;TZID=Europe/Zurich:20250823T170000
DTSTAMP:20260426T052651
CREATED:20240625T134631Z
LAST-MODIFIED:20250823T145030Z
UID:121671-1755957600-1755968400@cevibasel.ch
SUMMARY:Jungschi Ettigen & Therwil
DESCRIPTION:
URL:https://cevibasel.ch/veranstaltung/jungschi-ettigen-therwil-118/
END:VEVENT
BEGIN:VEVENT
DTSTART;TZID=Europe/Zurich:20250823T133000
DTEND;TZID=Europe/Zurich:20250823T153000
DTSTAMP:20260426T052651
CREATED:20240625T134632Z
LAST-MODIFIED:20250823T132019Z
UID:121673-1755955800-1755963000@cevibasel.ch
SUMMARY:Hattrick Gundeli (6-11 Jahre)
DESCRIPTION:
URL:https://cevibasel.ch/veranstaltung/hattrick-gundeli-6-11-jahre-118/
LOCATION:Margarethenpark
END:VEVENT
BEGIN:VEVENT
DTSTART;TZID=Europe/Zurich:20250822T190000
DTEND;TZID=Europe/Zurich:20250822T203000
DTSTAMP:20260426T052651
CREATED:20240625T134628Z
LAST-MODIFIED:20250822T181947Z
UID:121669-1755889200-1755894600@cevibasel.ch
SUMMARY:Hattrick Basel West (16-18 Jahre)
DESCRIPTION:
URL:https://cevibasel.ch/veranstaltung/hattrick-basel-west-16-18-jahre-118/
LOCATION:Fussballfelder Pfaffenholz
END:VEVENT
BEGIN:VEVENT
DTSTART;TZID=Europe/Zurich:20250822T173000
DTEND;TZID=Europe/Zurich:20250822T190000
DTSTAMP:20260426T052651
CREATED:20240625T134628Z
LAST-MODIFIED:20250822T165003Z
UID:121668-1755883800-1755889200@cevibasel.ch
SUMMARY:Hattrick Riehen (4. bis 5. Klasse)
DESCRIPTION:
URL:https://cevibasel.ch/veranstaltung/hattrick-riehen-4-bis-5-klasse-118/
LOCATION:Andreasmatte
END:VEVENT
BEGIN:VEVENT
DTSTART;TZID=Europe/Zurich:20250822T173000
DTEND;TZID=Europe/Zurich:20250822T190000
DTSTAMP:20260426T052651
CREATED:20240625T134628Z
LAST-MODIFIED:20250822T165002Z
UID:121670-1755883800-1755889200@cevibasel.ch
SUMMARY:Hattrick Basel West (7-15 Jahre)
DESCRIPTION:
URL:https://cevibasel.ch/veranstaltung/hattrick-basel-west-7-15-jahre-118/
END:VEVENT
BEGIN:VEVENT
DTSTART;TZID=Europe/Zurich:20250821T080000
DTEND;TZID=Europe/Zurich:20250821T103000
DTSTAMP:20260426T052651
CREATED:20240625T134627Z
LAST-MODIFIED:20240812T095859Z
UID:121667-1755763200-1755772200@cevibasel.ch
SUMMARY:Mütterngruppe
DESCRIPTION:
URL:https://cevibasel.ch/veranstaltung/muetterngruppe-69/
LOCATION:Cevi Seki
END:VEVENT
BEGIN:VEVENT
DTSTART;TZID=Europe/Zurich:20250820T183000
DTEND;TZID=Europe/Zurich:20250820T210000
DTSTAMP:20260426T052651
CREATED:20240625T134627Z
LAST-MODIFIED:20250820T185022Z
UID:121666-1755714600-1755723600@cevibasel.ch
SUMMARY:Ten Sing
DESCRIPTION:
URL:https://cevibasel.ch/veranstaltung/ten-sing-117/
LOCATION:CVJM Haus Kleinbasel
END:VEVENT
BEGIN:VEVENT
DTSTART;TZID=Europe/Zurich:20250820T083000
DTEND;TZID=Europe/Zurich:20250820T110000
DTSTAMP:20260426T052651
CREATED:20240812T101818Z
LAST-MODIFIED:20250820T084950Z
UID:127574-1755678600-1755687600@cevibasel.ch
SUMMARY:Mütterngruppe
DESCRIPTION:
URL:https://cevibasel.ch/veranstaltung/mutterngruppe-232/
LOCATION:Cevi Seki
END:VEVENT
BEGIN:VEVENT
DTSTART;TZID=Europe/Zurich:20250819T190000
DTEND;TZID=Europe/Zurich:20250819T215500
DTSTAMP:20260426T052651
CREATED:20241125T105852Z
LAST-MODIFIED:20250819T194950Z
UID:142328-1755630000-1755640500@cevibasel.ch
SUMMARY:Sommernachtsfest
DESCRIPTION:
URL:https://cevibasel.ch/veranstaltung/sommernachtsfest-8/
END:VEVENT
BEGIN:VEVENT
DTSTART;TZID=Europe/Zurich:20250819T190000
DTEND;TZID=Europe/Zurich:20250819T203000
DTSTAMP:20260426T052651
CREATED:20240625T134626Z
LAST-MODIFIED:20250819T182041Z
UID:121664-1755630000-1755635400@cevibasel.ch
SUMMARY:Hattrick Riehen (6. bis 7. Klasse)
DESCRIPTION:
URL:https://cevibasel.ch/veranstaltung/hattrick-riehen-6-bis-7-klasse-118/
LOCATION:Fussballplatz Andreasmatte
END:VEVENT
BEGIN:VEVENT
DTSTART;TZID=Europe/Zurich:20250819T180000
DTEND;TZID=Europe/Zurich:20250819T193000
DTSTAMP:20260426T052651
CREATED:20240625T134626Z
LAST-MODIFIED:20250819T172112Z
UID:121665-1755626400-1755631800@cevibasel.ch
SUMMARY:Hattrick Gellert (7-12 Jahre)
DESCRIPTION:
URL:https://cevibasel.ch/veranstaltung/hattrick-gellert-7-12-jahre-118/
LOCATION:Fussballplatz Luftmatt
END:VEVENT
BEGIN:VEVENT
DTSTART;TZID=Europe/Zurich:20250819T173000
DTEND;TZID=Europe/Zurich:20250819T190000
DTSTAMP:20260426T052651
CREATED:20240625T134626Z
LAST-MODIFIED:20250819T164947Z
UID:121663-1755624600-1755630000@cevibasel.ch
SUMMARY:Hattrick Riehen (1. bis 3. Klasse)
DESCRIPTION:
URL:https://cevibasel.ch/veranstaltung/hattrick-riehen-1-bis-3-klasse-118/
LOCATION:Fussballplatz Andreasmatte
END:VEVENT
END:VCALENDAR