BEGIN:VCALENDAR
VERSION:2.0
PRODID:-//Cevi Region Basel - ECPv6.15.20//NONSGML v1.0//EN
CALSCALE:GREGORIAN
METHOD:PUBLISH
X-WR-CALNAME:Cevi Region Basel
X-ORIGINAL-URL:https://cevibasel.ch
X-WR-CALDESC:Events for Cevi Region Basel
REFRESH-INTERVAL;VALUE=DURATION:PT1H
X-Robots-Tag:noindex
X-PUBLISHED-TTL:PT1H
BEGIN:VTIMEZONE
TZID:Europe/Zurich
BEGIN:DAYLIGHT
TZOFFSETFROM:+0100
TZOFFSETTO:+0200
TZNAME:CEST
DTSTART:20250330T010000
END:DAYLIGHT
BEGIN:STANDARD
TZOFFSETFROM:+0200
TZOFFSETTO:+0100
TZNAME:CET
DTSTART:20251026T010000
END:STANDARD
BEGIN:DAYLIGHT
TZOFFSETFROM:+0100
TZOFFSETTO:+0200
TZNAME:CEST
DTSTART:20260329T010000
END:DAYLIGHT
BEGIN:STANDARD
TZOFFSETFROM:+0200
TZOFFSETTO:+0100
TZNAME:CET
DTSTART:20261025T010000
END:STANDARD
BEGIN:DAYLIGHT
TZOFFSETFROM:+0100
TZOFFSETTO:+0200
TZNAME:CEST
DTSTART:20270328T010000
END:DAYLIGHT
BEGIN:STANDARD
TZOFFSETFROM:+0200
TZOFFSETTO:+0100
TZNAME:CET
DTSTART:20271031T010000
END:STANDARD
END:VTIMEZONE
BEGIN:VEVENT
DTSTART;TZID=Europe/Zurich:20260117T133000
DTEND;TZID=Europe/Zurich:20260117T153000
DTSTAMP:20260423T203749
CREATED:20240625T140308Z
LAST-MODIFIED:20251120T120545Z
UID:122904-1768656600-1768663800@cevibasel.ch
SUMMARY:Hattrick Gundeli (6-11 Jahre)
DESCRIPTION:
URL:https://cevibasel.ch/veranstaltung/hattrick-gundeli-6-11-jahre-139/
LOCATION:Margarethenpark
END:VEVENT
BEGIN:VEVENT
DTSTART;TZID=Europe/Zurich:20260117T140000
DTEND;TZID=Europe/Zurich:20260117T170000
DTSTAMP:20260423T203749
CREATED:20240625T140309Z
LAST-MODIFIED:20241105T110122Z
UID:122906-1768658400-1768669200@cevibasel.ch
SUMMARY:Jungschi Muttenz
DESCRIPTION:
URL:https://cevibasel.ch/veranstaltung/jungschi-muttenz-139/
END:VEVENT
BEGIN:VEVENT
DTSTART;TZID=Europe/Zurich:20260117T140000
DTEND;TZID=Europe/Zurich:20260117T170000
DTSTAMP:20260423T203749
CREATED:20240625T140309Z
LAST-MODIFIED:20251119T110311Z
UID:122907-1768658400-1768669200@cevibasel.ch
SUMMARY:Jungschi Gotthelf-Neubad
DESCRIPTION:
URL:https://cevibasel.ch/veranstaltung/jungschi-gotthelf-neubad-139/
END:VEVENT
BEGIN:VEVENT
DTSTART;TZID=Europe/Zurich:20260117T140000
DTEND;TZID=Europe/Zurich:20260117T170000
DTSTAMP:20260423T203749
CREATED:20240625T140309Z
LAST-MODIFIED:20251119T110405Z
UID:122908-1768658400-1768669200@cevibasel.ch
SUMMARY:Jungschi Binningen
DESCRIPTION:
URL:https://cevibasel.ch/veranstaltung/jungschi-binningen-139/
END:VEVENT
BEGIN:VEVENT
DTSTART;TZID=Europe/Zurich:20260117T140000
DTEND;TZID=Europe/Zurich:20260117T170000
DTSTAMP:20260423T203749
CREATED:20240625T140309Z
LAST-MODIFIED:20251119T110405Z
UID:122909-1768658400-1768669200@cevibasel.ch
SUMMARY:Jungschi Ettigen & Therwil
DESCRIPTION:
URL:https://cevibasel.ch/veranstaltung/jungschi-ettigen-therwil-139/
END:VEVENT
BEGIN:VEVENT
DTSTART;TZID=Europe/Zurich:20260117T140000
DTEND;TZID=Europe/Zurich:20260117T170000
DTSTAMP:20260423T203749
CREATED:20240625T140309Z
LAST-MODIFIED:20251119T110311Z
UID:122905-1768658400-1768669200@cevibasel.ch
SUMMARY:Jungschi Titus
DESCRIPTION:
URL:https://cevibasel.ch/veranstaltung/jungschi-titus-139/
END:VEVENT
BEGIN:VEVENT
DTSTART;TZID=Europe/Zurich:20260117T140000
DTEND;TZID=Europe/Zurich:20260117T170000
DTSTAMP:20260423T203749
CREATED:20240625T140312Z
LAST-MODIFIED:20241105T110122Z
UID:122911-1768658400-1768669200@cevibasel.ch
SUMMARY:Jungschi Reinach
DESCRIPTION:
URL:https://cevibasel.ch/veranstaltung/jungschi-reinach-139/
END:VEVENT
BEGIN:VEVENT
DTSTART;TZID=Europe/Zurich:20260117T140000
DTEND;TZID=Europe/Zurich:20260117T170000
DTSTAMP:20260423T203749
CREATED:20240625T140312Z
LAST-MODIFIED:20251119T110311Z
UID:122912-1768658400-1768669200@cevibasel.ch
SUMMARY:Jungschi Thomas
DESCRIPTION:
URL:https://cevibasel.ch/veranstaltung/jungschi-thomas-139/
END:VEVENT
BEGIN:VEVENT
DTSTART;TZID=Europe/Zurich:20260117T140000
DTEND;TZID=Europe/Zurich:20260117T170000
DTSTAMP:20260423T203749
CREATED:20240625T140312Z
LAST-MODIFIED:20251119T110311Z
UID:122913-1768658400-1768669200@cevibasel.ch
SUMMARY:Jungschi Allschwil
DESCRIPTION:
URL:https://cevibasel.ch/veranstaltung/jungschi-allschwil-139/
END:VEVENT
BEGIN:VEVENT
DTSTART;TZID=Europe/Zurich:20260117T140000
DTEND;TZID=Europe/Zurich:20260117T170000
DTSTAMP:20260423T203749
CREATED:20240625T140312Z
LAST-MODIFIED:20251119T110405Z
UID:122910-1768658400-1768669200@cevibasel.ch
SUMMARY:Jungschi Bubendorf
DESCRIPTION:
URL:https://cevibasel.ch/veranstaltung/jungschi-bubendorf-139/
END:VEVENT
BEGIN:VEVENT
DTSTART;TZID=Europe/Zurich:20260117T180000
DTEND;TZID=Europe/Zurich:20260118T000000
DTSTAMP:20260423T203749
CREATED:20250919T164512Z
LAST-MODIFIED:20260117T225210Z
UID:169130-1768672800-1768694400@cevibasel.ch
SUMMARY:Cevi Volleynight
DESCRIPTION:
URL:https://cevibasel.ch/veranstaltung/cevi-volleynight/
END:VEVENT
BEGIN:VEVENT
DTSTART;TZID=Europe/Zurich:20260119T190000
DTEND;TZID=Europe/Zurich:20260119T203000
DTSTAMP:20260423T203749
CREATED:20240625T140312Z
LAST-MODIFIED:20260119T191956Z
UID:122914-1768849200-1768854600@cevibasel.ch
SUMMARY:Hattrick Men\, 19.00-20.30
DESCRIPTION:
URL:https://cevibasel.ch/veranstaltung/hattrick-men-19-00-20-30-174/
LOCATION:Fussballfelder Pfaffenholz
END:VEVENT
BEGIN:VEVENT
DTSTART;TZID=Europe/Zurich:20260119T203000
DTEND;TZID=Europe/Zurich:20260119T220000
DTSTAMP:20260423T203749
CREATED:20240625T140315Z
LAST-MODIFIED:20260119T205156Z
UID:122915-1768854600-1768860000@cevibasel.ch
SUMMARY:Hattrick Ladies\, 20.30-22.00
DESCRIPTION:
URL:https://cevibasel.ch/veranstaltung/hattrick-ladies-20-30-22-00-175/
LOCATION:Fussballfelder Pfaffenholz
END:VEVENT
BEGIN:VEVENT
DTSTART;TZID=Europe/Zurich:20260120T173000
DTEND;TZID=Europe/Zurich:20260120T190000
DTSTAMP:20260423T203749
CREATED:20240625T140316Z
LAST-MODIFIED:20260120T175137Z
UID:122917-1768930200-1768935600@cevibasel.ch
SUMMARY:Hattrick Riehen (1. bis 3. Klasse)
DESCRIPTION:
URL:https://cevibasel.ch/veranstaltung/hattrick-riehen-1-bis-3-klasse-140/
LOCATION:Fussballplatz Andreasmatte
END:VEVENT
BEGIN:VEVENT
DTSTART;TZID=Europe/Zurich:20260120T180000
DTEND;TZID=Europe/Zurich:20260120T193000
DTSTAMP:20260423T203749
CREATED:20240625T140315Z
LAST-MODIFIED:20260120T182204Z
UID:122916-1768932000-1768937400@cevibasel.ch
SUMMARY:Hattrick Gellert (7-12 Jahre)
DESCRIPTION:
URL:https://cevibasel.ch/veranstaltung/hattrick-gellert-7-12-jahre-140/
LOCATION:Fussballplatz Luftmatt
END:VEVENT
BEGIN:VEVENT
DTSTART;TZID=Europe/Zurich:20260120T190000
DTEND;TZID=Europe/Zurich:20260120T203000
DTSTAMP:20260423T203749
CREATED:20240625T140316Z
LAST-MODIFIED:20260120T192009Z
UID:122918-1768935600-1768941000@cevibasel.ch
SUMMARY:Hattrick Riehen (6. bis 7. Klasse)
DESCRIPTION:
URL:https://cevibasel.ch/veranstaltung/hattrick-riehen-6-bis-7-klasse-140/
LOCATION:Fussballplatz Andreasmatte
END:VEVENT
BEGIN:VEVENT
DTSTART;TZID=Europe/Zurich:20260121T083000
DTEND;TZID=Europe/Zurich:20260121T110000
DTSTAMP:20260423T203749
CREATED:20240812T121926Z
LAST-MODIFIED:20260121T095020Z
UID:128012-1768984200-1768993200@cevibasel.ch
SUMMARY:Mütterngruppe
DESCRIPTION:
URL:https://cevibasel.ch/veranstaltung/mutterngruppe-342/
LOCATION:Cevi Seki
END:VEVENT
BEGIN:VEVENT
DTSTART;TZID=Europe/Zurich:20260121T183000
DTEND;TZID=Europe/Zurich:20260121T210000
DTSTAMP:20260423T203749
CREATED:20240625T140316Z
LAST-MODIFIED:20260121T194956Z
UID:122919-1769020200-1769029200@cevibasel.ch
SUMMARY:Ten Sing
DESCRIPTION:
URL:https://cevibasel.ch/veranstaltung/ten-sing-139/
LOCATION:CVJM Haus Kleinbasel
END:VEVENT
BEGIN:VEVENT
DTSTART;TZID=Europe/Zurich:20260122T080000
DTEND;TZID=Europe/Zurich:20260122T103000
DTSTAMP:20260423T203749
CREATED:20240625T140317Z
LAST-MODIFIED:20240812T090442Z
UID:122920-1769068800-1769077800@cevibasel.ch
SUMMARY:Mütterngruppe
DESCRIPTION:
URL:https://cevibasel.ch/veranstaltung/muetterngruppe-80/
LOCATION:Cevi Seki
END:VEVENT
BEGIN:VEVENT
DTSTART;VALUE=DATE:20260123
DTEND;VALUE=DATE:20260126
DTSTAMP:20260423T203749
CREATED:20251119T112953Z
LAST-MODIFIED:20260125T234947Z
UID:169860-1769126400-1769385599@cevibasel.ch
SUMMARY:Leitungsretraite Jungschar
DESCRIPTION:
URL:https://cevibasel.ch/veranstaltung/leitungsretraite-jungschar/
END:VEVENT
BEGIN:VEVENT
DTSTART;TZID=Europe/Zurich:20260123T173000
DTEND;TZID=Europe/Zurich:20260123T190000
DTSTAMP:20260423T203749
CREATED:20240625T140317Z
LAST-MODIFIED:20260123T175009Z
UID:122922-1769189400-1769194800@cevibasel.ch
SUMMARY:Hattrick Riehen (4. bis 5. Klasse)
DESCRIPTION:
URL:https://cevibasel.ch/veranstaltung/hattrick-riehen-4-bis-5-klasse-140/
LOCATION:Andreasmatte
END:VEVENT
BEGIN:VEVENT
DTSTART;TZID=Europe/Zurich:20260123T173000
DTEND;TZID=Europe/Zurich:20260123T190000
DTSTAMP:20260423T203749
CREATED:20240625T140317Z
LAST-MODIFIED:20260123T175009Z
UID:122923-1769189400-1769194800@cevibasel.ch
SUMMARY:Hattrick Basel West (7-15 Jahre)
DESCRIPTION:
URL:https://cevibasel.ch/veranstaltung/hattrick-basel-west-7-15-jahre-140/
END:VEVENT
BEGIN:VEVENT
DTSTART;TZID=Europe/Zurich:20260123T190000
DTEND;TZID=Europe/Zurich:20260123T203000
DTSTAMP:20260423T203749
CREATED:20240625T140317Z
LAST-MODIFIED:20260123T192206Z
UID:122921-1769194800-1769200200@cevibasel.ch
SUMMARY:Hattrick Basel West (16-18 Jahre)
DESCRIPTION:
URL:https://cevibasel.ch/veranstaltung/hattrick-basel-west-16-18-jahre-140/
LOCATION:Fussballfelder Pfaffenholz
END:VEVENT
BEGIN:VEVENT
DTSTART;VALUE=DATE:20260124
DTEND;VALUE=DATE:20260125
DTSTAMP:20260423T203749
CREATED:20251119T112844Z
LAST-MODIFIED:20260124T235003Z
UID:169855-1769212800-1769299199@cevibasel.ch
SUMMARY:Jungschar Angebote
DESCRIPTION:
URL:https://cevibasel.ch/veranstaltung/jungscharangebote/
END:VEVENT
BEGIN:VEVENT
DTSTART;VALUE=DATE:20260124
DTEND;VALUE=DATE:20260125
DTSTAMP:20260423T203749
CREATED:20251119T112953Z
LAST-MODIFIED:20260119T085359Z
UID:169859-1769212800-1769299199@cevibasel.ch
SUMMARY:JungscharAngebote
DESCRIPTION:
URL:https://cevibasel.ch/veranstaltung/jungscharangebote-4/
END:VEVENT
BEGIN:VEVENT
DTSTART;TZID=Europe/Zurich:20260124T133000
DTEND;TZID=Europe/Zurich:20260124T153000
DTSTAMP:20260423T203749
CREATED:20240625T140319Z
LAST-MODIFIED:20251120T120547Z
UID:122925-1769261400-1769268600@cevibasel.ch
SUMMARY:Hattrick Gundeli (6-11 Jahre)
DESCRIPTION:
URL:https://cevibasel.ch/veranstaltung/hattrick-gundeli-6-11-jahre-140/
LOCATION:Margarethenpark
END:VEVENT
BEGIN:VEVENT
DTSTART;TZID=Europe/Zurich:20260124T140000
DTEND;TZID=Europe/Zurich:20260124T170000
DTSTAMP:20260423T203749
CREATED:20240625T140318Z
LAST-MODIFIED:20251119T110420Z
UID:122924-1769263200-1769274000@cevibasel.ch
SUMMARY:Jungschi Thomas
DESCRIPTION:
URL:https://cevibasel.ch/veranstaltung/jungschi-thomas-140/
END:VEVENT
BEGIN:VEVENT
DTSTART;TZID=Europe/Zurich:20260124T140000
DTEND;TZID=Europe/Zurich:20260124T170000
DTSTAMP:20260423T203749
CREATED:20240625T140319Z
LAST-MODIFIED:20251119T110438Z
UID:122927-1769263200-1769274000@cevibasel.ch
SUMMARY:Jungschi Titus
DESCRIPTION:
URL:https://cevibasel.ch/veranstaltung/jungschi-titus-140/
END:VEVENT
BEGIN:VEVENT
DTSTART;TZID=Europe/Zurich:20260124T140000
DTEND;TZID=Europe/Zurich:20260124T170000
DTSTAMP:20260423T203749
CREATED:20240625T140319Z
LAST-MODIFIED:20251119T110420Z
UID:122928-1769263200-1769274000@cevibasel.ch
SUMMARY:Jungschi Bubendorf
DESCRIPTION:
URL:https://cevibasel.ch/veranstaltung/jungschi-bubendorf-140/
END:VEVENT
BEGIN:VEVENT
DTSTART;TZID=Europe/Zurich:20260124T140000
DTEND;TZID=Europe/Zurich:20260124T170000
DTSTAMP:20260423T203749
CREATED:20240625T140319Z
LAST-MODIFIED:20251119T110420Z
UID:122926-1769263200-1769274000@cevibasel.ch
SUMMARY:Jungschi Gotthelf-Neubad
DESCRIPTION:
URL:https://cevibasel.ch/veranstaltung/jungschi-gotthelf-neubad-140/
END:VEVENT
END:VCALENDAR