BEGIN:VCALENDAR
VERSION:2.0
PRODID:-//Cevi Region Basel - ECPv6.15.20//NONSGML v1.0//EN
CALSCALE:GREGORIAN
METHOD:PUBLISH
X-WR-CALNAME:Cevi Region Basel
X-ORIGINAL-URL:https://cevibasel.ch
X-WR-CALDESC:Events for Cevi Region Basel
REFRESH-INTERVAL;VALUE=DURATION:PT1H
X-Robots-Tag:noindex
X-PUBLISHED-TTL:PT1H
BEGIN:VTIMEZONE
TZID:Europe/Zurich
BEGIN:DAYLIGHT
TZOFFSETFROM:+0100
TZOFFSETTO:+0200
TZNAME:CEST
DTSTART:20250330T010000
END:DAYLIGHT
BEGIN:STANDARD
TZOFFSETFROM:+0200
TZOFFSETTO:+0100
TZNAME:CET
DTSTART:20251026T010000
END:STANDARD
BEGIN:DAYLIGHT
TZOFFSETFROM:+0100
TZOFFSETTO:+0200
TZNAME:CEST
DTSTART:20260329T010000
END:DAYLIGHT
BEGIN:STANDARD
TZOFFSETFROM:+0200
TZOFFSETTO:+0100
TZNAME:CET
DTSTART:20261025T010000
END:STANDARD
BEGIN:DAYLIGHT
TZOFFSETFROM:+0100
TZOFFSETTO:+0200
TZNAME:CEST
DTSTART:20270328T010000
END:DAYLIGHT
BEGIN:STANDARD
TZOFFSETFROM:+0200
TZOFFSETTO:+0100
TZNAME:CET
DTSTART:20271031T010000
END:STANDARD
END:VTIMEZONE
BEGIN:VEVENT
DTSTART;TZID=Europe/Zurich:20261010T140000
DTEND;TZID=Europe/Zurich:20261010T170000
DTSTAMP:20260423T203751
CREATED:20241010T004848Z
LAST-MODIFIED:20251117T005607Z
UID:136845-1791640800-1791651600@cevibasel.ch
SUMMARY:Jungschi Allschwil
DESCRIPTION:
URL:https://cevibasel.ch/veranstaltung/jungschi-allschwil-177/
END:VEVENT
BEGIN:VEVENT
DTSTART;TZID=Europe/Zurich:20261010T140000
DTEND;TZID=Europe/Zurich:20261010T170000
DTSTAMP:20260423T203751
CREATED:20241010T004848Z
LAST-MODIFIED:20251117T005606Z
UID:136842-1791640800-1791651600@cevibasel.ch
SUMMARY:Jungschi Bubendorf
DESCRIPTION:
URL:https://cevibasel.ch/veranstaltung/jungschi-bubendorf-177/
END:VEVENT
BEGIN:VEVENT
DTSTART;TZID=Europe/Zurich:20261010T140000
DTEND;TZID=Europe/Zurich:20261010T170000
DTSTAMP:20260423T203751
CREATED:20241010T004848Z
LAST-MODIFIED:20251117T005606Z
UID:136843-1791640800-1791651600@cevibasel.ch
SUMMARY:Jungschi Gotthelf-Neubad
DESCRIPTION:
URL:https://cevibasel.ch/veranstaltung/jungschi-gotthelf-neubad-177/
END:VEVENT
BEGIN:VEVENT
DTSTART;TZID=Europe/Zurich:20261010T140000
DTEND;TZID=Europe/Zurich:20261010T170000
DTSTAMP:20260423T203751
CREATED:20241010T004848Z
LAST-MODIFIED:20251117T005606Z
UID:136844-1791640800-1791651600@cevibasel.ch
SUMMARY:Jungschi Thomas
DESCRIPTION:
URL:https://cevibasel.ch/veranstaltung/jungschi-thomas-177/
END:VEVENT
BEGIN:VEVENT
DTSTART;TZID=Europe/Zurich:20261010T140000
DTEND;TZID=Europe/Zurich:20261010T170000
DTSTAMP:20260423T203751
CREATED:20241010T004849Z
LAST-MODIFIED:20241105T013020Z
UID:136846-1791640800-1791651600@cevibasel.ch
SUMMARY:Jungschi Reinach
DESCRIPTION:
URL:https://cevibasel.ch/veranstaltung/jungschi-reinach-177/
END:VEVENT
BEGIN:VEVENT
DTSTART;TZID=Europe/Zurich:20261010T140000
DTEND;TZID=Europe/Zurich:20261010T170000
DTSTAMP:20260423T203751
CREATED:20241010T004849Z
LAST-MODIFIED:20241105T013021Z
UID:136847-1791640800-1791651600@cevibasel.ch
SUMMARY:Jungschi Muttenz
DESCRIPTION:
URL:https://cevibasel.ch/veranstaltung/jungschi-muttenz-177/
END:VEVENT
BEGIN:VEVENT
DTSTART;TZID=Europe/Zurich:20261010T140000
DTEND;TZID=Europe/Zurich:20261010T170000
DTSTAMP:20260423T203751
CREATED:20241010T004852Z
LAST-MODIFIED:20251117T005607Z
UID:136848-1791640800-1791651600@cevibasel.ch
SUMMARY:Jungschi Binningen
DESCRIPTION:
URL:https://cevibasel.ch/veranstaltung/jungschi-binningen-177/
END:VEVENT
BEGIN:VEVENT
DTSTART;TZID=Europe/Zurich:20261010T140000
DTEND;TZID=Europe/Zurich:20261010T170000
DTSTAMP:20260423T203751
CREATED:20241010T004852Z
LAST-MODIFIED:20251117T005606Z
UID:136849-1791640800-1791651600@cevibasel.ch
SUMMARY:Jungschi Ettigen & Therwil
DESCRIPTION:
URL:https://cevibasel.ch/veranstaltung/jungschi-ettigen-therwil-177/
END:VEVENT
BEGIN:VEVENT
DTSTART;TZID=Europe/Zurich:20261012T190000
DTEND;TZID=Europe/Zurich:20261012T203000
DTSTAMP:20260423T203751
CREATED:20241012T104358Z
LAST-MODIFIED:20260205T231558Z
UID:136877-1791831600-1791837000@cevibasel.ch
SUMMARY:Hattrick Men\, 19.00-20.30
DESCRIPTION:
URL:https://cevibasel.ch/veranstaltung/hattrick-men-19-00-20-30-212/
LOCATION:Fussballfelder Pfaffenholz
END:VEVENT
BEGIN:VEVENT
DTSTART;TZID=Europe/Zurich:20261012T203000
DTEND;TZID=Europe/Zurich:20261012T220000
DTSTAMP:20260423T203751
CREATED:20241012T104358Z
LAST-MODIFIED:20260205T231558Z
UID:136878-1791837000-1791842400@cevibasel.ch
SUMMARY:Hattrick Ladies\, 20.30-22.00
DESCRIPTION:
URL:https://cevibasel.ch/veranstaltung/hattrick-ladies-20-30-22-00-213/
LOCATION:Fussballfelder Pfaffenholz
END:VEVENT
BEGIN:VEVENT
DTSTART;TZID=Europe/Zurich:20261013T173000
DTEND;TZID=Europe/Zurich:20261013T190000
DTSTAMP:20260423T203751
CREATED:20241013T063438Z
LAST-MODIFIED:20260205T231600Z
UID:136886-1791912600-1791918000@cevibasel.ch
SUMMARY:Hattrick Riehen (1. bis 3. Klasse)
DESCRIPTION:
URL:https://cevibasel.ch/veranstaltung/hattrick-riehen-1-bis-3-klasse-178/
LOCATION:Fussballplatz Andreasmatte
END:VEVENT
BEGIN:VEVENT
DTSTART;TZID=Europe/Zurich:20261013T180000
DTEND;TZID=Europe/Zurich:20261013T193000
DTSTAMP:20260423T203751
CREATED:20241013T063441Z
LAST-MODIFIED:20260205T231600Z
UID:136888-1791914400-1791919800@cevibasel.ch
SUMMARY:Hattrick Gellert (7-12 Jahre)
DESCRIPTION:
URL:https://cevibasel.ch/veranstaltung/hattrick-gellert-7-12-jahre-178/
LOCATION:Fussballplatz Luftmatt
END:VEVENT
BEGIN:VEVENT
DTSTART;TZID=Europe/Zurich:20261013T190000
DTEND;TZID=Europe/Zurich:20261013T203000
DTSTAMP:20260423T203751
CREATED:20241013T063441Z
LAST-MODIFIED:20260205T231600Z
UID:136887-1791918000-1791923400@cevibasel.ch
SUMMARY:Hattrick Riehen (6. bis 7. Klasse)
DESCRIPTION:
URL:https://cevibasel.ch/veranstaltung/hattrick-riehen-6-bis-7-klasse-178/
LOCATION:Fussballplatz Andreasmatte
END:VEVENT
BEGIN:VEVENT
DTSTART;TZID=Europe/Zurich:20261014T083000
DTEND;TZID=Europe/Zurich:20261014T110000
DTSTAMP:20260423T203751
CREATED:20241014T004521Z
LAST-MODIFIED:20260205T231600Z
UID:136906-1791966600-1791975600@cevibasel.ch
SUMMARY:Mütterngruppe
DESCRIPTION:
URL:https://cevibasel.ch/veranstaltung/mutterngruppe-532/
LOCATION:Cevi Seki
END:VEVENT
BEGIN:VEVENT
DTSTART;TZID=Europe/Zurich:20261014T183000
DTEND;TZID=Europe/Zurich:20261014T210000
DTSTAMP:20260423T203751
CREATED:20241014T004521Z
LAST-MODIFIED:20260205T231600Z
UID:136907-1792002600-1792011600@cevibasel.ch
SUMMARY:Ten Sing
DESCRIPTION:
URL:https://cevibasel.ch/veranstaltung/ten-sing-177/
LOCATION:CVJM Haus Kleinbasel
END:VEVENT
BEGIN:VEVENT
DTSTART;TZID=Europe/Zurich:20261016T173000
DTEND;TZID=Europe/Zurich:20261016T190000
DTSTAMP:20260423T203751
CREATED:20241016T010418Z
LAST-MODIFIED:20260205T231634Z
UID:136949-1792171800-1792177200@cevibasel.ch
SUMMARY:Hattrick Riehen (4. bis 5. Klasse)
DESCRIPTION:
URL:https://cevibasel.ch/veranstaltung/hattrick-riehen-4-bis-5-klasse-178/
LOCATION:Andreasmatte
END:VEVENT
BEGIN:VEVENT
DTSTART;TZID=Europe/Zurich:20261016T173000
DTEND;TZID=Europe/Zurich:20261016T190000
DTSTAMP:20260423T203751
CREATED:20241016T010419Z
LAST-MODIFIED:20260205T231634Z
UID:136950-1792171800-1792177200@cevibasel.ch
SUMMARY:Hattrick Basel West (7-15 Jahre)
DESCRIPTION:
URL:https://cevibasel.ch/veranstaltung/hattrick-basel-west-7-15-jahre-178/
END:VEVENT
BEGIN:VEVENT
DTSTART;TZID=Europe/Zurich:20261016T190000
DTEND;TZID=Europe/Zurich:20261016T203000
DTSTAMP:20260423T203751
CREATED:20241016T010419Z
LAST-MODIFIED:20260205T231634Z
UID:136951-1792177200-1792182600@cevibasel.ch
SUMMARY:Hattrick Basel West (16-18 Jahre)
DESCRIPTION:
URL:https://cevibasel.ch/veranstaltung/hattrick-basel-west-16-18-jahre-178/
LOCATION:Fussballfelder Pfaffenholz
END:VEVENT
BEGIN:VEVENT
DTSTART;VALUE=DATE:20261017
DTEND;VALUE=DATE:20261018
DTSTAMP:20260423T203751
CREATED:20251120T031856Z
LAST-MODIFIED:20260205T231634Z
UID:169956-1792195200-1792281599@cevibasel.ch
SUMMARY:Jungschar Angebote
DESCRIPTION:
URL:https://cevibasel.ch/veranstaltung/jungscharangebote-42/
END:VEVENT
BEGIN:VEVENT
DTSTART;TZID=Europe/Zurich:20261017T133000
DTEND;TZID=Europe/Zurich:20261017T153000
DTSTAMP:20260423T203751
CREATED:20241022T094917Z
LAST-MODIFIED:20251120T120810Z
UID:138205-1792243800-1792251000@cevibasel.ch
SUMMARY:Hattrick Gundeli (6-11 Jahre)
DESCRIPTION:
URL:https://cevibasel.ch/veranstaltung/hattrick-gundeli-6-11-jahre-178/
LOCATION:Margarethenpark
END:VEVENT
BEGIN:VEVENT
DTSTART;TZID=Europe/Zurich:20261017T140000
DTEND;TZID=Europe/Zurich:20261017T170000
DTSTAMP:20260423T203751
CREATED:20241022T094913Z
LAST-MODIFIED:20251117T005611Z
UID:138197-1792245600-1792256400@cevibasel.ch
SUMMARY:Jungschi Titus
DESCRIPTION:
URL:https://cevibasel.ch/veranstaltung/jungschi-titus-178/
END:VEVENT
BEGIN:VEVENT
DTSTART;TZID=Europe/Zurich:20261017T140000
DTEND;TZID=Europe/Zurich:20261017T170000
DTSTAMP:20260423T203751
CREATED:20241022T094914Z
LAST-MODIFIED:20251117T005611Z
UID:138198-1792245600-1792256400@cevibasel.ch
SUMMARY:Jungschi Bubendorf
DESCRIPTION:
URL:https://cevibasel.ch/veranstaltung/jungschi-bubendorf-178/
END:VEVENT
BEGIN:VEVENT
DTSTART;TZID=Europe/Zurich:20261017T140000
DTEND;TZID=Europe/Zurich:20261017T170000
DTSTAMP:20260423T203751
CREATED:20241022T094914Z
LAST-MODIFIED:20251117T005610Z
UID:138199-1792245600-1792256400@cevibasel.ch
SUMMARY:Jungschi Thomas
DESCRIPTION:
URL:https://cevibasel.ch/veranstaltung/jungschi-thomas-178/
END:VEVENT
BEGIN:VEVENT
DTSTART;TZID=Europe/Zurich:20261017T140000
DTEND;TZID=Europe/Zurich:20261017T170000
DTSTAMP:20260423T203751
CREATED:20241022T094914Z
LAST-MODIFIED:20241105T013024Z
UID:138200-1792245600-1792256400@cevibasel.ch
SUMMARY:Jungschi Reinach
DESCRIPTION:
URL:https://cevibasel.ch/veranstaltung/jungschi-reinach-178/
END:VEVENT
BEGIN:VEVENT
DTSTART;TZID=Europe/Zurich:20261017T140000
DTEND;TZID=Europe/Zurich:20261017T170000
DTSTAMP:20260423T203751
CREATED:20241022T094914Z
LAST-MODIFIED:20251117T005610Z
UID:138201-1792245600-1792256400@cevibasel.ch
SUMMARY:Jungschi Binningen
DESCRIPTION:
URL:https://cevibasel.ch/veranstaltung/jungschi-binningen-178/
END:VEVENT
BEGIN:VEVENT
DTSTART;TZID=Europe/Zurich:20261017T140000
DTEND;TZID=Europe/Zurich:20261017T170000
DTSTAMP:20260423T203751
CREATED:20241022T094914Z
LAST-MODIFIED:20241105T013025Z
UID:138202-1792245600-1792256400@cevibasel.ch
SUMMARY:Jungschi Muttenz
DESCRIPTION:
URL:https://cevibasel.ch/veranstaltung/jungschi-muttenz-178/
END:VEVENT
BEGIN:VEVENT
DTSTART;TZID=Europe/Zurich:20261017T140000
DTEND;TZID=Europe/Zurich:20261017T170000
DTSTAMP:20260423T203751
CREATED:20241022T094917Z
LAST-MODIFIED:20251117T005612Z
UID:138204-1792245600-1792256400@cevibasel.ch
SUMMARY:Jungschi Gotthelf-Neubad
DESCRIPTION:
URL:https://cevibasel.ch/veranstaltung/jungschi-gotthelf-neubad-178/
END:VEVENT
BEGIN:VEVENT
DTSTART;TZID=Europe/Zurich:20261017T140000
DTEND;TZID=Europe/Zurich:20261017T170000
DTSTAMP:20260423T203751
CREATED:20241022T094917Z
LAST-MODIFIED:20251117T005611Z
UID:138206-1792245600-1792256400@cevibasel.ch
SUMMARY:Jungschi Ettigen & Therwil
DESCRIPTION:
URL:https://cevibasel.ch/veranstaltung/jungschi-ettigen-therwil-178/
END:VEVENT
BEGIN:VEVENT
DTSTART;TZID=Europe/Zurich:20261017T140000
DTEND;TZID=Europe/Zurich:20261017T170000
DTSTAMP:20260423T203751
CREATED:20241022T094917Z
LAST-MODIFIED:20251117T005612Z
UID:138203-1792245600-1792256400@cevibasel.ch
SUMMARY:Jungschi Allschwil
DESCRIPTION:
URL:https://cevibasel.ch/veranstaltung/jungschi-allschwil-178/
END:VEVENT
BEGIN:VEVENT
DTSTART;TZID=Europe/Zurich:20261019T190000
DTEND;TZID=Europe/Zurich:20261019T203000
DTSTAMP:20260423T203751
CREATED:20241022T094921Z
LAST-MODIFIED:20260205T231637Z
UID:138208-1792436400-1792441800@cevibasel.ch
SUMMARY:Hattrick Men\, 19.00-20.30
DESCRIPTION:
URL:https://cevibasel.ch/veranstaltung/hattrick-men-19-00-20-30-213/
LOCATION:Fussballfelder Pfaffenholz
END:VEVENT
END:VCALENDAR