BEGIN:VCALENDAR
VERSION:2.0
PRODID:-//Cevi Region Basel - ECPv6.15.20//NONSGML v1.0//EN
CALSCALE:GREGORIAN
METHOD:PUBLISH
X-ORIGINAL-URL:https://cevibasel.ch
X-WR-CALDESC:Events for Cevi Region Basel
REFRESH-INTERVAL;VALUE=DURATION:PT1H
X-Robots-Tag:noindex
X-PUBLISHED-TTL:PT1H
BEGIN:VTIMEZONE
TZID:Europe/Zurich
BEGIN:DAYLIGHT
TZOFFSETFROM:+0100
TZOFFSETTO:+0200
TZNAME:CEST
DTSTART:20250330T010000
END:DAYLIGHT
BEGIN:STANDARD
TZOFFSETFROM:+0200
TZOFFSETTO:+0100
TZNAME:CET
DTSTART:20251026T010000
END:STANDARD
BEGIN:DAYLIGHT
TZOFFSETFROM:+0100
TZOFFSETTO:+0200
TZNAME:CEST
DTSTART:20260329T010000
END:DAYLIGHT
BEGIN:STANDARD
TZOFFSETFROM:+0200
TZOFFSETTO:+0100
TZNAME:CET
DTSTART:20261025T010000
END:STANDARD
BEGIN:DAYLIGHT
TZOFFSETFROM:+0100
TZOFFSETTO:+0200
TZNAME:CEST
DTSTART:20270328T010000
END:DAYLIGHT
BEGIN:STANDARD
TZOFFSETFROM:+0200
TZOFFSETTO:+0100
TZNAME:CET
DTSTART:20271031T010000
END:STANDARD
END:VTIMEZONE
BEGIN:VEVENT
DTSTART;TZID=Europe/Zurich:20260328T140000
DTEND;TZID=Europe/Zurich:20260328T170000
DTSTAMP:20260423T105054
CREATED:20240625T224824Z
LAST-MODIFIED:20251119T041418Z
UID:123378-1774706400-1774717200@cevibasel.ch
SUMMARY:Jungschi Titus
DESCRIPTION:
URL:https://cevibasel.ch/veranstaltung/jungschi-titus-149/
END:VEVENT
BEGIN:VEVENT
DTSTART;TZID=Europe/Zurich:20260328T140000
DTEND;TZID=Europe/Zurich:20260328T170000
DTSTAMP:20260423T105054
CREATED:20240625T224824Z
LAST-MODIFIED:20241105T110213Z
UID:123379-1774706400-1774717200@cevibasel.ch
SUMMARY:Jungschi Reinach
DESCRIPTION:
URL:https://cevibasel.ch/veranstaltung/jungschi-reinach-149/
END:VEVENT
BEGIN:VEVENT
DTSTART;TZID=Europe/Zurich:20260328T140000
DTEND;TZID=Europe/Zurich:20260328T170000
DTSTAMP:20260423T105054
CREATED:20240625T224824Z
LAST-MODIFIED:20251119T041419Z
UID:123380-1774706400-1774717200@cevibasel.ch
SUMMARY:Jungschi Binningen
DESCRIPTION:
URL:https://cevibasel.ch/veranstaltung/jungschi-binningen-149/
END:VEVENT
BEGIN:VEVENT
DTSTART;TZID=Europe/Zurich:20260328T140000
DTEND;TZID=Europe/Zurich:20260328T170000
DTSTAMP:20260423T105054
CREATED:20240625T224825Z
LAST-MODIFIED:20241105T110214Z
UID:123382-1774706400-1774717200@cevibasel.ch
SUMMARY:Jungschi Muttenz
DESCRIPTION:
URL:https://cevibasel.ch/veranstaltung/jungschi-muttenz-149/
END:VEVENT
BEGIN:VEVENT
DTSTART;TZID=Europe/Zurich:20260328T140000
DTEND;TZID=Europe/Zurich:20260328T170000
DTSTAMP:20260423T105054
CREATED:20240625T224826Z
LAST-MODIFIED:20251119T041419Z
UID:123383-1774706400-1774717200@cevibasel.ch
SUMMARY:Jungschi Allschwil
DESCRIPTION:
URL:https://cevibasel.ch/veranstaltung/jungschi-allschwil-149/
END:VEVENT
BEGIN:VEVENT
DTSTART;TZID=Europe/Zurich:20260328T183000
DTEND;TZID=Europe/Zurich:20260328T220000
DTSTAMP:20260423T105054
CREATED:20251204T110556Z
LAST-MODIFIED:20260206T032433Z
UID:170274-1774722600-1774735200@cevibasel.ch
SUMMARY:Faith Hub
DESCRIPTION:
URL:https://cevibasel.ch/veranstaltung/faith-hub-2/
END:VEVENT
BEGIN:VEVENT
DTSTART;TZID=Europe/Zurich:20260330T190000
DTEND;TZID=Europe/Zurich:20260330T203000
DTSTAMP:20260423T105054
CREATED:20240625T224826Z
LAST-MODIFIED:20260206T032433Z
UID:123384-1774897200-1774902600@cevibasel.ch
SUMMARY:Hattrick Men\, 19.00-20.30
DESCRIPTION:
URL:https://cevibasel.ch/veranstaltung/hattrick-men-19-00-20-30-184/
LOCATION:Fussballfelder Pfaffenholz
END:VEVENT
BEGIN:VEVENT
DTSTART;TZID=Europe/Zurich:20260330T203000
DTEND;TZID=Europe/Zurich:20260330T220000
DTSTAMP:20260423T105054
CREATED:20240625T224826Z
LAST-MODIFIED:20260206T032433Z
UID:123385-1774902600-1774908000@cevibasel.ch
SUMMARY:Hattrick Ladies\, 20.30-22.00
DESCRIPTION:
URL:https://cevibasel.ch/veranstaltung/hattrick-ladies-20-30-22-00-185/
LOCATION:Fussballfelder Pfaffenholz
END:VEVENT
BEGIN:VEVENT
DTSTART;TZID=Europe/Zurich:20260331T173000
DTEND;TZID=Europe/Zurich:20260331T190000
DTSTAMP:20260423T105054
CREATED:20240625T224827Z
LAST-MODIFIED:20260206T032503Z
UID:123387-1774978200-1774983600@cevibasel.ch
SUMMARY:Hattrick Riehen (1. bis 3. Klasse)
DESCRIPTION:
URL:https://cevibasel.ch/veranstaltung/hattrick-riehen-1-bis-3-klasse-150/
LOCATION:Fussballplatz Andreasmatte
END:VEVENT
BEGIN:VEVENT
DTSTART;TZID=Europe/Zurich:20260331T180000
DTEND;TZID=Europe/Zurich:20260331T193000
DTSTAMP:20260423T105054
CREATED:20240625T224830Z
LAST-MODIFIED:20260206T032503Z
UID:123388-1774980000-1774985400@cevibasel.ch
SUMMARY:Hattrick Gellert (7-12 Jahre)
DESCRIPTION:
URL:https://cevibasel.ch/veranstaltung/hattrick-gellert-7-12-jahre-150/
LOCATION:Fussballplatz Luftmatt
END:VEVENT
BEGIN:VEVENT
DTSTART;TZID=Europe/Zurich:20260331T190000
DTEND;TZID=Europe/Zurich:20260331T203000
DTSTAMP:20260423T105054
CREATED:20240625T224826Z
LAST-MODIFIED:20260206T032503Z
UID:123386-1774983600-1774989000@cevibasel.ch
SUMMARY:Hattrick Riehen (6. bis 7. Klasse)
DESCRIPTION:
URL:https://cevibasel.ch/veranstaltung/hattrick-riehen-6-bis-7-klasse-150/
LOCATION:Fussballplatz Andreasmatte
END:VEVENT
BEGIN:VEVENT
DTSTART;VALUE=DATE:20260401
DTEND;VALUE=DATE:20260409
DTSTAMP:20260423T105054
CREATED:20250604T101824Z
LAST-MODIFIED:20260206T032508Z
UID:159960-1775001600-1775692799@cevibasel.ch
SUMMARY:Surfcamp Marokko
DESCRIPTION:
URL:https://cevibasel.ch/veranstaltung/surfcamp-marokko-2/
END:VEVENT
BEGIN:VEVENT
DTSTART;TZID=Europe/Zurich:20260401T083000
DTEND;TZID=Europe/Zurich:20260401T110000
DTSTAMP:20260423T105054
CREATED:20240813T013434Z
LAST-MODIFIED:20260206T032508Z
UID:128084-1775032200-1775041200@cevibasel.ch
SUMMARY:Mütterngruppe
DESCRIPTION:
URL:https://cevibasel.ch/veranstaltung/mutterngruppe-392/
LOCATION:Cevi Seki
END:VEVENT
BEGIN:VEVENT
DTSTART;TZID=Europe/Zurich:20260401T183000
DTEND;TZID=Europe/Zurich:20260401T210000
DTSTAMP:20260423T105054
CREATED:20240625T224830Z
LAST-MODIFIED:20260206T032508Z
UID:123389-1775068200-1775077200@cevibasel.ch
SUMMARY:Ten Sing
DESCRIPTION:
URL:https://cevibasel.ch/veranstaltung/ten-sing-149/
LOCATION:CVJM Haus Kleinbasel
END:VEVENT
BEGIN:VEVENT
DTSTART;VALUE=DATE:20260402
DTEND;VALUE=DATE:20260412
DTSTAMP:20260423T105054
CREATED:20251120T025859Z
LAST-MODIFIED:20260206T032503Z
UID:169889-1775088000-1775951999@cevibasel.ch
SUMMARY:Gruppenleitungskurs
DESCRIPTION:
URL:https://cevibasel.ch/veranstaltung/gruppenleitungskurs/
END:VEVENT
BEGIN:VEVENT
DTSTART;TZID=Europe/Zurich:20260402T080000
DTEND;TZID=Europe/Zurich:20260402T103000
DTSTAMP:20260423T105054
CREATED:20240625T224830Z
LAST-MODIFIED:20240812T083424Z
UID:123390-1775116800-1775125800@cevibasel.ch
SUMMARY:Mütterngruppe
DESCRIPTION:
URL:https://cevibasel.ch/veranstaltung/muetterngruppe-85/
LOCATION:Cevi Seki
END:VEVENT
BEGIN:VEVENT
DTSTART;TZID=Europe/Zurich:20260403T173000
DTEND;TZID=Europe/Zurich:20260403T190000
DTSTAMP:20260423T105054
CREATED:20240625T224831Z
LAST-MODIFIED:20260206T032503Z
UID:123392-1775237400-1775242800@cevibasel.ch
SUMMARY:Hattrick Basel West (7-15 Jahre)
DESCRIPTION:
URL:https://cevibasel.ch/veranstaltung/hattrick-basel-west-7-15-jahre-150/
END:VEVENT
BEGIN:VEVENT
DTSTART;TZID=Europe/Zurich:20260403T173000
DTEND;TZID=Europe/Zurich:20260403T190000
DTSTAMP:20260423T105054
CREATED:20240625T224832Z
LAST-MODIFIED:20260206T032508Z
UID:123393-1775237400-1775242800@cevibasel.ch
SUMMARY:Hattrick Riehen (4. bis 5. Klasse)
DESCRIPTION:
URL:https://cevibasel.ch/veranstaltung/hattrick-riehen-4-bis-5-klasse-150/
LOCATION:Andreasmatte
END:VEVENT
BEGIN:VEVENT
DTSTART;TZID=Europe/Zurich:20260403T190000
DTEND;TZID=Europe/Zurich:20260403T203000
DTSTAMP:20260423T105054
CREATED:20240625T224830Z
LAST-MODIFIED:20260206T032508Z
UID:123391-1775242800-1775248200@cevibasel.ch
SUMMARY:Hattrick Basel West (16-18 Jahre)
DESCRIPTION:
URL:https://cevibasel.ch/veranstaltung/hattrick-basel-west-16-18-jahre-150/
LOCATION:Fussballfelder Pfaffenholz
END:VEVENT
BEGIN:VEVENT
DTSTART;VALUE=DATE:20260404
DTEND;VALUE=DATE:20260405
DTSTAMP:20260423T105054
CREATED:20251120T025847Z
LAST-MODIFIED:20260206T032520Z
UID:169887-1775260800-1775347199@cevibasel.ch
SUMMARY:Jungschar Angebote
DESCRIPTION:
URL:https://cevibasel.ch/veranstaltung/jungscharangebote-14/
END:VEVENT
BEGIN:VEVENT
DTSTART;TZID=Europe/Zurich:20260404T133000
DTEND;TZID=Europe/Zurich:20260404T153000
DTSTAMP:20260423T105054
CREATED:20240625T224832Z
LAST-MODIFIED:20251120T120621Z
UID:123395-1775309400-1775316600@cevibasel.ch
SUMMARY:Hattrick Gundeli (6-11 Jahre)
DESCRIPTION:
URL:https://cevibasel.ch/veranstaltung/hattrick-gundeli-6-11-jahre-150/
LOCATION:Margarethenpark
END:VEVENT
BEGIN:VEVENT
DTSTART;TZID=Europe/Zurich:20260404T140000
DTEND;TZID=Europe/Zurich:20260404T170000
DTSTAMP:20260423T105054
CREATED:20240625T224832Z
LAST-MODIFIED:20251119T041427Z
UID:123397-1775311200-1775322000@cevibasel.ch
SUMMARY:Jungschi Bubendorf
DESCRIPTION:
URL:https://cevibasel.ch/veranstaltung/jungschi-bubendorf-150/
END:VEVENT
BEGIN:VEVENT
DTSTART;TZID=Europe/Zurich:20260404T140000
DTEND;TZID=Europe/Zurich:20260404T170000
DTSTAMP:20260423T105054
CREATED:20240625T224832Z
LAST-MODIFIED:20241105T110216Z
UID:123394-1775311200-1775322000@cevibasel.ch
SUMMARY:Jungschi Reinach
DESCRIPTION:
URL:https://cevibasel.ch/veranstaltung/jungschi-reinach-150/
END:VEVENT
BEGIN:VEVENT
DTSTART;TZID=Europe/Zurich:20260404T140000
DTEND;TZID=Europe/Zurich:20260404T170000
DTSTAMP:20260423T105054
CREATED:20240625T224832Z
LAST-MODIFIED:20251119T041425Z
UID:123396-1775311200-1775322000@cevibasel.ch
SUMMARY:Jungschi Binningen
DESCRIPTION:
URL:https://cevibasel.ch/veranstaltung/jungschi-binningen-150/
END:VEVENT
BEGIN:VEVENT
DTSTART;TZID=Europe/Zurich:20260404T140000
DTEND;TZID=Europe/Zurich:20260404T170000
DTSTAMP:20260423T105054
CREATED:20240625T224835Z
LAST-MODIFIED:20251119T041427Z
UID:123402-1775311200-1775322000@cevibasel.ch
SUMMARY:Jungschi Ettigen & Therwil
DESCRIPTION:
URL:https://cevibasel.ch/veranstaltung/jungschi-ettigen-therwil-150/
END:VEVENT
BEGIN:VEVENT
DTSTART;TZID=Europe/Zurich:20260404T140000
DTEND;TZID=Europe/Zurich:20260404T170000
DTSTAMP:20260423T105054
CREATED:20240625T224835Z
LAST-MODIFIED:20241105T110217Z
UID:123398-1775311200-1775322000@cevibasel.ch
SUMMARY:Jungschi Muttenz
DESCRIPTION:
URL:https://cevibasel.ch/veranstaltung/jungschi-muttenz-150/
END:VEVENT
BEGIN:VEVENT
DTSTART;TZID=Europe/Zurich:20260404T140000
DTEND;TZID=Europe/Zurich:20260404T170000
DTSTAMP:20260423T105054
CREATED:20240625T224835Z
LAST-MODIFIED:20251119T041427Z
UID:123399-1775311200-1775322000@cevibasel.ch
SUMMARY:Jungschi Gotthelf-Neubad
DESCRIPTION:
URL:https://cevibasel.ch/veranstaltung/jungschi-gotthelf-neubad-150/
END:VEVENT
BEGIN:VEVENT
DTSTART;TZID=Europe/Zurich:20260404T140000
DTEND;TZID=Europe/Zurich:20260404T170000
DTSTAMP:20260423T105054
CREATED:20240625T224835Z
LAST-MODIFIED:20251119T041427Z
UID:123400-1775311200-1775322000@cevibasel.ch
SUMMARY:Jungschi Titus
DESCRIPTION:
URL:https://cevibasel.ch/veranstaltung/jungschi-titus-150/
END:VEVENT
BEGIN:VEVENT
DTSTART;TZID=Europe/Zurich:20260404T140000
DTEND;TZID=Europe/Zurich:20260404T170000
DTSTAMP:20260423T105054
CREATED:20240625T224835Z
LAST-MODIFIED:20251119T041427Z
UID:123401-1775311200-1775322000@cevibasel.ch
SUMMARY:Jungschi Thomas
DESCRIPTION:
URL:https://cevibasel.ch/veranstaltung/jungschi-thomas-150/
END:VEVENT
BEGIN:VEVENT
DTSTART;TZID=Europe/Zurich:20260404T140000
DTEND;TZID=Europe/Zurich:20260404T170000
DTSTAMP:20260423T105054
CREATED:20240625T224839Z
LAST-MODIFIED:20251119T041429Z
UID:123403-1775311200-1775322000@cevibasel.ch
SUMMARY:Jungschi Allschwil
DESCRIPTION:
URL:https://cevibasel.ch/veranstaltung/jungschi-allschwil-150/
END:VEVENT
END:VCALENDAR