BEGIN:VCALENDAR
VERSION:2.0
PRODID:-//Cevi Region Basel - ECPv6.15.20//NONSGML v1.0//EN
CALSCALE:GREGORIAN
METHOD:PUBLISH
X-ORIGINAL-URL:https://cevibasel.ch
X-WR-CALDESC:Events for Cevi Region Basel
REFRESH-INTERVAL;VALUE=DURATION:PT1H
X-Robots-Tag:noindex
X-PUBLISHED-TTL:PT1H
BEGIN:VTIMEZONE
TZID:Europe/Zurich
BEGIN:DAYLIGHT
TZOFFSETFROM:+0100
TZOFFSETTO:+0200
TZNAME:CEST
DTSTART:20250330T010000
END:DAYLIGHT
BEGIN:STANDARD
TZOFFSETFROM:+0200
TZOFFSETTO:+0100
TZNAME:CET
DTSTART:20251026T010000
END:STANDARD
BEGIN:DAYLIGHT
TZOFFSETFROM:+0100
TZOFFSETTO:+0200
TZNAME:CEST
DTSTART:20260329T010000
END:DAYLIGHT
BEGIN:STANDARD
TZOFFSETFROM:+0200
TZOFFSETTO:+0100
TZNAME:CET
DTSTART:20261025T010000
END:STANDARD
BEGIN:DAYLIGHT
TZOFFSETFROM:+0100
TZOFFSETTO:+0200
TZNAME:CEST
DTSTART:20270328T010000
END:DAYLIGHT
BEGIN:STANDARD
TZOFFSETFROM:+0200
TZOFFSETTO:+0100
TZNAME:CET
DTSTART:20271031T010000
END:STANDARD
END:VTIMEZONE
BEGIN:VEVENT
DTSTART;TZID=Europe/Zurich:20260404T140000
DTEND;TZID=Europe/Zurich:20260404T170000
DTSTAMP:20260423T075920
CREATED:20240625T224835Z
LAST-MODIFIED:20251119T041427Z
UID:123402-1775311200-1775322000@cevibasel.ch
SUMMARY:Jungschi Ettigen & Therwil
DESCRIPTION:
URL:https://cevibasel.ch/veranstaltung/jungschi-ettigen-therwil-150/
END:VEVENT
BEGIN:VEVENT
DTSTART;TZID=Europe/Zurich:20260404T140000
DTEND;TZID=Europe/Zurich:20260404T170000
DTSTAMP:20260423T075920
CREATED:20240625T224835Z
LAST-MODIFIED:20241105T110217Z
UID:123398-1775311200-1775322000@cevibasel.ch
SUMMARY:Jungschi Muttenz
DESCRIPTION:
URL:https://cevibasel.ch/veranstaltung/jungschi-muttenz-150/
END:VEVENT
BEGIN:VEVENT
DTSTART;TZID=Europe/Zurich:20260404T140000
DTEND;TZID=Europe/Zurich:20260404T170000
DTSTAMP:20260423T075920
CREATED:20240625T224835Z
LAST-MODIFIED:20251119T041427Z
UID:123399-1775311200-1775322000@cevibasel.ch
SUMMARY:Jungschi Gotthelf-Neubad
DESCRIPTION:
URL:https://cevibasel.ch/veranstaltung/jungschi-gotthelf-neubad-150/
END:VEVENT
BEGIN:VEVENT
DTSTART;TZID=Europe/Zurich:20260404T140000
DTEND;TZID=Europe/Zurich:20260404T170000
DTSTAMP:20260423T075920
CREATED:20240625T224839Z
LAST-MODIFIED:20251119T041429Z
UID:123403-1775311200-1775322000@cevibasel.ch
SUMMARY:Jungschi Allschwil
DESCRIPTION:
URL:https://cevibasel.ch/veranstaltung/jungschi-allschwil-150/
END:VEVENT
BEGIN:VEVENT
DTSTART;TZID=Europe/Zurich:20260406T190000
DTEND;TZID=Europe/Zurich:20260406T203000
DTSTAMP:20260423T075920
CREATED:20240625T224839Z
LAST-MODIFIED:20260206T032520Z
UID:123405-1775502000-1775507400@cevibasel.ch
SUMMARY:Hattrick Men\, 19.00-20.30
DESCRIPTION:
URL:https://cevibasel.ch/veranstaltung/hattrick-men-19-00-20-30-185/
LOCATION:Fussballfelder Pfaffenholz
END:VEVENT
BEGIN:VEVENT
DTSTART;TZID=Europe/Zurich:20260406T203000
DTEND;TZID=Europe/Zurich:20260406T220000
DTSTAMP:20260423T075920
CREATED:20240625T224839Z
LAST-MODIFIED:20260206T032520Z
UID:123404-1775507400-1775512800@cevibasel.ch
SUMMARY:Hattrick Ladies\, 20.30-22.00
DESCRIPTION:
URL:https://cevibasel.ch/veranstaltung/hattrick-ladies-20-30-22-00-186/
LOCATION:Fussballfelder Pfaffenholz
END:VEVENT
BEGIN:VEVENT
DTSTART;TZID=Europe/Zurich:20260407T173000
DTEND;TZID=Europe/Zurich:20260407T190000
DTSTAMP:20260423T075920
CREATED:20240625T224840Z
LAST-MODIFIED:20260206T032520Z
UID:123407-1775583000-1775588400@cevibasel.ch
SUMMARY:Hattrick Riehen (1. bis 3. Klasse)
DESCRIPTION:
URL:https://cevibasel.ch/veranstaltung/hattrick-riehen-1-bis-3-klasse-151/
LOCATION:Fussballplatz Andreasmatte
END:VEVENT
BEGIN:VEVENT
DTSTART;TZID=Europe/Zurich:20260407T180000
DTEND;TZID=Europe/Zurich:20260407T193000
DTSTAMP:20260423T075920
CREATED:20240625T224840Z
LAST-MODIFIED:20260206T032520Z
UID:123406-1775584800-1775590200@cevibasel.ch
SUMMARY:Hattrick Gellert (7-12 Jahre)
DESCRIPTION:
URL:https://cevibasel.ch/veranstaltung/hattrick-gellert-7-12-jahre-151/
LOCATION:Fussballplatz Luftmatt
END:VEVENT
BEGIN:VEVENT
DTSTART;TZID=Europe/Zurich:20260407T190000
DTEND;TZID=Europe/Zurich:20260407T203000
DTSTAMP:20260423T075920
CREATED:20240625T224842Z
LAST-MODIFIED:20260206T032522Z
UID:123408-1775588400-1775593800@cevibasel.ch
SUMMARY:Hattrick Riehen (6. bis 7. Klasse)
DESCRIPTION:
URL:https://cevibasel.ch/veranstaltung/hattrick-riehen-6-bis-7-klasse-151/
LOCATION:Fussballplatz Andreasmatte
END:VEVENT
BEGIN:VEVENT
DTSTART;TZID=Europe/Zurich:20260408T183000
DTEND;TZID=Europe/Zurich:20260408T210000
DTSTAMP:20260423T075920
CREATED:20240625T224842Z
LAST-MODIFIED:20260206T032522Z
UID:123409-1775673000-1775682000@cevibasel.ch
SUMMARY:Ten Sing
DESCRIPTION:
URL:https://cevibasel.ch/veranstaltung/ten-sing-150/
LOCATION:CVJM Haus Kleinbasel
END:VEVENT
BEGIN:VEVENT
DTSTART;TZID=Europe/Zurich:20260409T083000
DTEND;TZID=Europe/Zurich:20260409T113000
DTSTAMP:20260423T075920
CREATED:20240813T013442Z
LAST-MODIFIED:20241215T143355Z
UID:128087-1775723400-1775734200@cevibasel.ch
SUMMARY:Mütterngruppe
DESCRIPTION:
URL:https://cevibasel.ch/veranstaltung/mutterngruppe-395/
LOCATION:Cevi Seki
END:VEVENT
BEGIN:VEVENT
DTSTART;TZID=Europe/Zurich:20260409T083000
DTEND;TZID=Europe/Zurich:20260409T113000
DTSTAMP:20260423T075920
CREATED:20240813T013442Z
LAST-MODIFIED:20241215T143351Z
UID:128085-1775723400-1775734200@cevibasel.ch
SUMMARY:Mütterngruppe
DESCRIPTION:
URL:https://cevibasel.ch/veranstaltung/mutterngruppe-393/
LOCATION:Cevi Seki
END:VEVENT
BEGIN:VEVENT
DTSTART;TZID=Europe/Zurich:20260409T083000
DTEND;TZID=Europe/Zurich:20260409T113000
DTSTAMP:20260423T075920
CREATED:20240813T013442Z
LAST-MODIFIED:20241215T143355Z
UID:128086-1775723400-1775734200@cevibasel.ch
SUMMARY:Mütterngruppe
DESCRIPTION:
URL:https://cevibasel.ch/veranstaltung/mutterngruppe-394/
LOCATION:Cevi Seki
END:VEVENT
BEGIN:VEVENT
DTSTART;TZID=Europe/Zurich:20260409T083000
DTEND;TZID=Europe/Zurich:20260409T113000
DTSTAMP:20260423T075920
CREATED:20240813T014812Z
LAST-MODIFIED:20241215T143355Z
UID:128135-1775723400-1775734200@cevibasel.ch
SUMMARY:Mütterngruppe
DESCRIPTION:
URL:https://cevibasel.ch/veranstaltung/mutterngruppe-400/
LOCATION:Cevi Seki
END:VEVENT
BEGIN:VEVENT
DTSTART;TZID=Europe/Zurich:20260409T083000
DTEND;TZID=Europe/Zurich:20260409T113000
DTSTAMP:20260423T075920
CREATED:20240813T014812Z
LAST-MODIFIED:20241215T143359Z
UID:128131-1775723400-1775734200@cevibasel.ch
SUMMARY:Mütterngruppe
DESCRIPTION:
URL:https://cevibasel.ch/veranstaltung/mutterngruppe-396/
LOCATION:Cevi Seki
END:VEVENT
BEGIN:VEVENT
DTSTART;TZID=Europe/Zurich:20260409T083000
DTEND;TZID=Europe/Zurich:20260409T113000
DTSTAMP:20260423T075920
CREATED:20240813T014812Z
LAST-MODIFIED:20241215T143355Z
UID:128132-1775723400-1775734200@cevibasel.ch
SUMMARY:Mütterngruppe
DESCRIPTION:
URL:https://cevibasel.ch/veranstaltung/mutterngruppe-397/
LOCATION:Cevi Seki
END:VEVENT
BEGIN:VEVENT
DTSTART;TZID=Europe/Zurich:20260409T083000
DTEND;TZID=Europe/Zurich:20260409T113000
DTSTAMP:20260423T075920
CREATED:20240813T014812Z
LAST-MODIFIED:20241215T143355Z
UID:128133-1775723400-1775734200@cevibasel.ch
SUMMARY:Mütterngruppe
DESCRIPTION:
URL:https://cevibasel.ch/veranstaltung/mutterngruppe-398/
LOCATION:Cevi Seki
END:VEVENT
BEGIN:VEVENT
DTSTART;TZID=Europe/Zurich:20260409T083000
DTEND;TZID=Europe/Zurich:20260409T113000
DTSTAMP:20260423T075920
CREATED:20240813T014812Z
LAST-MODIFIED:20260206T032522Z
UID:128134-1775723400-1775734200@cevibasel.ch
SUMMARY:Mütterngruppe
DESCRIPTION:
URL:https://cevibasel.ch/veranstaltung/mutterngruppe-399/
LOCATION:Cevi Seki
END:VEVENT
BEGIN:VEVENT
DTSTART;TZID=Europe/Zurich:20260409T083000
DTEND;TZID=Europe/Zurich:20260409T113000
DTSTAMP:20260423T075920
CREATED:20240813T014813Z
LAST-MODIFIED:20241215T143359Z
UID:128136-1775723400-1775734200@cevibasel.ch
SUMMARY:Mütterngruppe
DESCRIPTION:
URL:https://cevibasel.ch/veranstaltung/mutterngruppe-401/
LOCATION:Cevi Seki
END:VEVENT
BEGIN:VEVENT
DTSTART;TZID=Europe/Zurich:20260410T173000
DTEND;TZID=Europe/Zurich:20260410T190000
DTSTAMP:20260423T075920
CREATED:20240625T224842Z
LAST-MODIFIED:20260206T032522Z
UID:123411-1775842200-1775847600@cevibasel.ch
SUMMARY:Hattrick Basel West (7-15 Jahre)
DESCRIPTION:
URL:https://cevibasel.ch/veranstaltung/hattrick-basel-west-7-15-jahre-151/
END:VEVENT
BEGIN:VEVENT
DTSTART;TZID=Europe/Zurich:20260410T173000
DTEND;TZID=Europe/Zurich:20260410T190000
DTSTAMP:20260423T075920
CREATED:20240625T224842Z
LAST-MODIFIED:20260206T032522Z
UID:123410-1775842200-1775847600@cevibasel.ch
SUMMARY:Hattrick Riehen (4. bis 5. Klasse)
DESCRIPTION:
URL:https://cevibasel.ch/veranstaltung/hattrick-riehen-4-bis-5-klasse-151/
LOCATION:Andreasmatte
END:VEVENT
BEGIN:VEVENT
DTSTART;TZID=Europe/Zurich:20260410T190000
DTEND;TZID=Europe/Zurich:20260410T203000
DTSTAMP:20260423T075920
CREATED:20240625T224843Z
LAST-MODIFIED:20260206T032547Z
UID:123412-1775847600-1775853000@cevibasel.ch
SUMMARY:Hattrick Basel West (16-18 Jahre)
DESCRIPTION:
URL:https://cevibasel.ch/veranstaltung/hattrick-basel-west-16-18-jahre-151/
LOCATION:Fussballfelder Pfaffenholz
END:VEVENT
BEGIN:VEVENT
DTSTART;VALUE=DATE:20260411
DTEND;VALUE=DATE:20260412
DTSTAMP:20260423T075920
CREATED:20251120T025859Z
LAST-MODIFIED:20260206T032547Z
UID:169888-1775865600-1775951999@cevibasel.ch
SUMMARY:Jungschar Angebote
DESCRIPTION:
URL:https://cevibasel.ch/veranstaltung/jungscharangebote-15/
END:VEVENT
BEGIN:VEVENT
DTSTART;TZID=Europe/Zurich:20260411T133000
DTEND;TZID=Europe/Zurich:20260411T153000
DTSTAMP:20260423T075920
CREATED:20240625T224845Z
LAST-MODIFIED:20251120T120625Z
UID:123416-1775914200-1775921400@cevibasel.ch
SUMMARY:Hattrick Gundeli (6-11 Jahre)
DESCRIPTION:
URL:https://cevibasel.ch/veranstaltung/hattrick-gundeli-6-11-jahre-151/
LOCATION:Margarethenpark
END:VEVENT
BEGIN:VEVENT
DTSTART;TZID=Europe/Zurich:20260411T140000
DTEND;TZID=Europe/Zurich:20260411T170000
DTSTAMP:20260423T075920
CREATED:20240625T224844Z
LAST-MODIFIED:20241105T110222Z
UID:123413-1775916000-1775926800@cevibasel.ch
SUMMARY:Jungschi Muttenz
DESCRIPTION:
URL:https://cevibasel.ch/veranstaltung/jungschi-muttenz-151/
END:VEVENT
BEGIN:VEVENT
DTSTART;TZID=Europe/Zurich:20260411T140000
DTEND;TZID=Europe/Zurich:20260411T170000
DTSTAMP:20260423T075920
CREATED:20240625T224844Z
LAST-MODIFIED:20251119T041435Z
UID:123414-1775916000-1775926800@cevibasel.ch
SUMMARY:Jungschi Titus
DESCRIPTION:
URL:https://cevibasel.ch/veranstaltung/jungschi-titus-151/
END:VEVENT
BEGIN:VEVENT
DTSTART;TZID=Europe/Zurich:20260411T140000
DTEND;TZID=Europe/Zurich:20260411T170000
DTSTAMP:20260423T075920
CREATED:20240625T224845Z
LAST-MODIFIED:20241105T110223Z
UID:123417-1775916000-1775926800@cevibasel.ch
SUMMARY:Jungschi Reinach
DESCRIPTION:
URL:https://cevibasel.ch/veranstaltung/jungschi-reinach-151/
END:VEVENT
BEGIN:VEVENT
DTSTART;TZID=Europe/Zurich:20260411T140000
DTEND;TZID=Europe/Zurich:20260411T170000
DTSTAMP:20260423T075920
CREATED:20240625T224845Z
LAST-MODIFIED:20251119T041434Z
UID:123415-1775916000-1775926800@cevibasel.ch
SUMMARY:Jungschi Ettigen & Therwil
DESCRIPTION:
URL:https://cevibasel.ch/veranstaltung/jungschi-ettigen-therwil-151/
END:VEVENT
BEGIN:VEVENT
DTSTART;TZID=Europe/Zurich:20260411T140000
DTEND;TZID=Europe/Zurich:20260411T170000
DTSTAMP:20260423T075920
CREATED:20240625T224847Z
LAST-MODIFIED:20251119T041435Z
UID:123421-1775916000-1775926800@cevibasel.ch
SUMMARY:Jungschi Bubendorf
DESCRIPTION:
URL:https://cevibasel.ch/veranstaltung/jungschi-bubendorf-151/
END:VEVENT
BEGIN:VEVENT
DTSTART;TZID=Europe/Zurich:20260411T140000
DTEND;TZID=Europe/Zurich:20260411T170000
DTSTAMP:20260423T075920
CREATED:20240625T224847Z
LAST-MODIFIED:20251119T041435Z
UID:123418-1775916000-1775926800@cevibasel.ch
SUMMARY:Jungschi Gotthelf-Neubad
DESCRIPTION:
URL:https://cevibasel.ch/veranstaltung/jungschi-gotthelf-neubad-151/
END:VEVENT
END:VCALENDAR