BEGIN:VCALENDAR
VERSION:2.0
PRODID:-//Cevi Region Basel - ECPv6.15.20//NONSGML v1.0//EN
CALSCALE:GREGORIAN
METHOD:PUBLISH
X-WR-CALNAME:Cevi Region Basel
X-ORIGINAL-URL:https://cevibasel.ch
X-WR-CALDESC:Events for Cevi Region Basel
REFRESH-INTERVAL;VALUE=DURATION:PT1H
X-Robots-Tag:noindex
X-PUBLISHED-TTL:PT1H
BEGIN:VTIMEZONE
TZID:Europe/Zurich
BEGIN:DAYLIGHT
TZOFFSETFROM:+0100
TZOFFSETTO:+0200
TZNAME:CEST
DTSTART:20220327T010000
END:DAYLIGHT
BEGIN:STANDARD
TZOFFSETFROM:+0200
TZOFFSETTO:+0100
TZNAME:CET
DTSTART:20221030T010000
END:STANDARD
BEGIN:DAYLIGHT
TZOFFSETFROM:+0100
TZOFFSETTO:+0200
TZNAME:CEST
DTSTART:20230326T010000
END:DAYLIGHT
BEGIN:STANDARD
TZOFFSETFROM:+0200
TZOFFSETTO:+0100
TZNAME:CET
DTSTART:20231029T010000
END:STANDARD
BEGIN:DAYLIGHT
TZOFFSETFROM:+0100
TZOFFSETTO:+0200
TZNAME:CEST
DTSTART:20240331T010000
END:DAYLIGHT
BEGIN:STANDARD
TZOFFSETFROM:+0200
TZOFFSETTO:+0100
TZNAME:CET
DTSTART:20241027T010000
END:STANDARD
END:VTIMEZONE
BEGIN:VEVENT
DTSTART;VALUE=DATE:20230609
DTEND;VALUE=DATE:20230610
DTSTAMP:20260425T164035
CREATED:20230508T085434Z
LAST-MODIFIED:20230517T101055Z
UID:110473-1686268800-1686355199@cevibasel.ch
SUMMARY:Beachvolleyball 19.00-21.00 Uhr\, im Joggeli
DESCRIPTION:
URL:https://cevibasel.ch/veranstaltung/beachvolleyball-19-00-21-00-uhr-im-joggeli-4/
END:VEVENT
BEGIN:VEVENT
DTSTART;VALUE=DATE:20230609
DTEND;VALUE=DATE:20230610
DTSTAMP:20260425T164035
CREATED:20230516T091951Z
LAST-MODIFIED:20230517T101052Z
UID:111070-1686268800-1686355199@cevibasel.ch
SUMMARY:Hattrick Riehen (4. bis 5. Klasse)\, 17.30-19.00
DESCRIPTION:
URL:https://cevibasel.ch/veranstaltung/hattrick-riehen-4-bis-5-klasse-17-30-19-00-4/
END:VEVENT
BEGIN:VEVENT
DTSTART;VALUE=DATE:20230609
DTEND;VALUE=DATE:20230610
DTSTAMP:20260425T164035
CREATED:20230516T095649Z
LAST-MODIFIED:20230517T101055Z
UID:111124-1686268800-1686355199@cevibasel.ch
SUMMARY:Hattrick Basel West (16-18 Jahre)\, 19.00-20.30
DESCRIPTION:
URL:https://cevibasel.ch/veranstaltung/hattrick-basel-west-16-18-jahre-19-00-20-30-4/
END:VEVENT
BEGIN:VEVENT
DTSTART;VALUE=DATE:20230609
DTEND;VALUE=DATE:20230610
DTSTAMP:20260425T164035
CREATED:20230516T095649Z
LAST-MODIFIED:20230517T101052Z
UID:111125-1686268800-1686355199@cevibasel.ch
SUMMARY:Hattrick Basel West (7-15 Jahre)\, 17.30-19.00
DESCRIPTION:
URL:https://cevibasel.ch/veranstaltung/hattrick-basel-west-7-15-jahre-17-30-19-00-4/
END:VEVENT
BEGIN:VEVENT
DTSTART;TZID=Europe/Zurich:20230609T083000
DTEND;TZID=Europe/Zurich:20230609T113000
DTSTAMP:20260425T164035
CREATED:20230517T102949Z
LAST-MODIFIED:20230609T092123Z
UID:111873-1686299400-1686310200@cevibasel.ch
SUMMARY:Spielgruppe
DESCRIPTION:
URL:https://cevibasel.ch/veranstaltung/spielgruppe-7/
LOCATION:Cevi Seki
END:VEVENT
BEGIN:VEVENT
DTSTART;TZID=Europe/Zurich:20230609T093000
DTEND;TZID=Europe/Zurich:20230609T113000
DTSTAMP:20260425T164035
CREATED:20230517T102949Z
LAST-MODIFIED:20230609T092122Z
UID:111874-1686303000-1686310200@cevibasel.ch
SUMMARY:Café Emma
DESCRIPTION:
URL:https://cevibasel.ch/veranstaltung/cafe-emma-4/
LOCATION:hyve Hotel
END:VEVENT
BEGIN:VEVENT
DTSTART;TZID=Europe/Zurich:20230609T173000
DTEND;TZID=Europe/Zurich:20230609T190000
DTSTAMP:20260425T164035
CREATED:20230517T102949Z
LAST-MODIFIED:20230609T165345Z
UID:111877-1686331800-1686337200@cevibasel.ch
SUMMARY:Hattrick Riehen (4. bis 5. Klasse)
DESCRIPTION:
URL:https://cevibasel.ch/veranstaltung/hattrick-riehen-4-bis-5-klasse-3/
LOCATION:Andreasmatte
END:VEVENT
BEGIN:VEVENT
DTSTART;TZID=Europe/Zurich:20230609T173000
DTEND;TZID=Europe/Zurich:20230609T190000
DTSTAMP:20260425T164035
CREATED:20230517T103002Z
LAST-MODIFIED:20230609T165345Z
UID:111878-1686331800-1686337200@cevibasel.ch
SUMMARY:Hattrick Basel West (7-15 Jahre)
DESCRIPTION:
URL:https://cevibasel.ch/veranstaltung/hattrick-basel-west-7-15-jahre-3/
END:VEVENT
BEGIN:VEVENT
DTSTART;TZID=Europe/Zurich:20230609T190000
DTEND;TZID=Europe/Zurich:20230609T203000
DTSTAMP:20260425T164035
CREATED:20230517T102949Z
LAST-MODIFIED:20230609T182259Z
UID:111876-1686337200-1686342600@cevibasel.ch
SUMMARY:Hattrick Basel West (16-18 Jahre)
DESCRIPTION:
URL:https://cevibasel.ch/veranstaltung/hattrick-basel-west-16-18-jahre-3/
LOCATION:Fussballfelder Pfaffenholz
END:VEVENT
BEGIN:VEVENT
DTSTART;TZID=Europe/Zurich:20230609T190000
DTEND;TZID=Europe/Zurich:20230609T210000
DTSTAMP:20260425T164035
CREATED:20230517T102949Z
LAST-MODIFIED:20230609T185123Z
UID:111875-1686337200-1686344400@cevibasel.ch
SUMMARY:Beachvolleyballtraining
DESCRIPTION:
URL:https://cevibasel.ch/veranstaltung/beachvolleyballtraining-23/
LOCATION:Beachfelder St. Jakob
END:VEVENT
BEGIN:VEVENT
DTSTART;VALUE=DATE:20230610
DTEND;VALUE=DATE:20230611
DTSTAMP:20260425T164035
CREATED:20230516T091951Z
LAST-MODIFIED:20230517T101055Z
UID:111068-1686355200-1686441599@cevibasel.ch
SUMMARY:Hattrick Gundeli (6-11 Jahre)\, 13.30-15.30
DESCRIPTION:
URL:https://cevibasel.ch/veranstaltung/hattrick-gundeli-6-11-jahre-13-30-15-30-4/
END:VEVENT
BEGIN:VEVENT
DTSTART;VALUE=DATE:20230610
DTEND;VALUE=DATE:20230611
DTSTAMP:20260425T164035
CREATED:20230516T091951Z
LAST-MODIFIED:20230517T101057Z
UID:111069-1686355200-1686441599@cevibasel.ch
SUMMARY:Div. Jungscharprogramme\, ca. 14.00-17.00
DESCRIPTION:
URL:https://cevibasel.ch/veranstaltung/jungscharprogramm-ca-14-00-17-00-3/
END:VEVENT
BEGIN:VEVENT
DTSTART;TZID=Europe/Zurich:20230610T133000
DTEND;TZID=Europe/Zurich:20230610T153000
DTSTAMP:20260425T164035
CREATED:20230517T103002Z
LAST-MODIFIED:20230610T130540Z
UID:111879-1686403800-1686411000@cevibasel.ch
SUMMARY:Hattrick Gundeli (6-11 Jahre)
DESCRIPTION:
URL:https://cevibasel.ch/veranstaltung/hattrick-gundeli-6-11-jahre-3/
LOCATION:Margarethenpark
END:VEVENT
BEGIN:VEVENT
DTSTART;TZID=Europe/Zurich:20230610T140000
DTEND;TZID=Europe/Zurich:20230610T170000
DTSTAMP:20260425T164035
CREATED:20230517T103002Z
LAST-MODIFIED:20230610T145101Z
UID:111880-1686405600-1686416400@cevibasel.ch
SUMMARY:Jungschi Allschwil
DESCRIPTION:
URL:https://cevibasel.ch/veranstaltung/jungschi-allschwil-3/
LOCATION:Calvinhaus
END:VEVENT
BEGIN:VEVENT
DTSTART;TZID=Europe/Zurich:20230610T140000
DTEND;TZID=Europe/Zurich:20230610T170000
DTSTAMP:20260425T164035
CREATED:20230517T104221Z
LAST-MODIFIED:20230610T145101Z
UID:112110-1686405600-1686416400@cevibasel.ch
SUMMARY:Jungschi Bubendorf
DESCRIPTION:
URL:https://cevibasel.ch/veranstaltung/jungschi-bubendorf-3/
END:VEVENT
BEGIN:VEVENT
DTSTART;TZID=Europe/Zurich:20230610T140000
DTEND;TZID=Europe/Zurich:20230610T170000
DTSTAMP:20260425T164035
CREATED:20230517T104221Z
LAST-MODIFIED:20230610T145038Z
UID:112108-1686405600-1686416400@cevibasel.ch
SUMMARY:Jungschi Binningen
DESCRIPTION:
URL:https://cevibasel.ch/veranstaltung/jungschi-binningen-3/
END:VEVENT
BEGIN:VEVENT
DTSTART;TZID=Europe/Zurich:20230610T140000
DTEND;TZID=Europe/Zurich:20230610T170000
DTSTAMP:20260425T164035
CREATED:20230517T104231Z
LAST-MODIFIED:20230610T145038Z
UID:112111-1686405600-1686416400@cevibasel.ch
SUMMARY:Jungschi Ettigen & Therwil
DESCRIPTION:
URL:https://cevibasel.ch/veranstaltung/jungschi-ettigen-therwil-3/
END:VEVENT
BEGIN:VEVENT
DTSTART;TZID=Europe/Zurich:20230610T140000
DTEND;TZID=Europe/Zurich:20230610T170000
DTSTAMP:20260425T164035
CREATED:20230517T104231Z
LAST-MODIFIED:20230610T145038Z
UID:112112-1686405600-1686416400@cevibasel.ch
SUMMARY:Jungschi Titus
DESCRIPTION:
URL:https://cevibasel.ch/veranstaltung/jungschi-titus-3/
END:VEVENT
BEGIN:VEVENT
DTSTART;TZID=Europe/Zurich:20230610T140000
DTEND;TZID=Europe/Zurich:20230610T170000
DTSTAMP:20260425T164035
CREATED:20230517T104231Z
LAST-MODIFIED:20230610T145038Z
UID:112113-1686405600-1686416400@cevibasel.ch
SUMMARY:Jungschi Muttenz
DESCRIPTION:
URL:https://cevibasel.ch/veranstaltung/jungschi-muttenz-3/
END:VEVENT
BEGIN:VEVENT
DTSTART;TZID=Europe/Zurich:20230610T140000
DTEND;TZID=Europe/Zurich:20230610T170000
DTSTAMP:20260425T164035
CREATED:20230517T104231Z
LAST-MODIFIED:20230610T145101Z
UID:112114-1686405600-1686416400@cevibasel.ch
SUMMARY:Jungschi Thomas
DESCRIPTION:
URL:https://cevibasel.ch/veranstaltung/jungschi-thomas-3/
END:VEVENT
BEGIN:VEVENT
DTSTART;TZID=Europe/Zurich:20230610T140000
DTEND;TZID=Europe/Zurich:20230610T170000
DTSTAMP:20260425T164035
CREATED:20230517T104233Z
LAST-MODIFIED:20230610T145101Z
UID:112117-1686405600-1686416400@cevibasel.ch
SUMMARY:Jungschi Reinach
DESCRIPTION:
URL:https://cevibasel.ch/veranstaltung/jungschi-reinach-3/
END:VEVENT
BEGIN:VEVENT
DTSTART;TZID=Europe/Zurich:20230610T140000
DTEND;TZID=Europe/Zurich:20230610T170000
DTSTAMP:20260425T164035
CREATED:20230517T104233Z
LAST-MODIFIED:20230610T145038Z
UID:112116-1686405600-1686416400@cevibasel.ch
SUMMARY:Jungschi Gotthelf-Neubad
DESCRIPTION:
URL:https://cevibasel.ch/veranstaltung/jungschi-gotthelf-neubad-3/
END:VEVENT
BEGIN:VEVENT
DTSTART;VALUE=DATE:20230612
DTEND;VALUE=DATE:20230613
DTSTAMP:20260425T164035
CREATED:20230508T083911Z
LAST-MODIFIED:20230517T095739Z
UID:110437-1686528000-1686614399@cevibasel.ch
SUMMARY:Beachvolleyball 20.00-22.00 Uhr\, im Joggeli
DESCRIPTION:
URL:https://cevibasel.ch/veranstaltung/beachvolleyball-20-00-22-00-uhr-im-joggeli-6/
END:VEVENT
BEGIN:VEVENT
DTSTART;VALUE=DATE:20230612
DTEND;VALUE=DATE:20230613
DTSTAMP:20260425T164035
CREATED:20230516T095653Z
LAST-MODIFIED:20230517T095732Z
UID:111127-1686528000-1686614399@cevibasel.ch
SUMMARY:Hattrick Men\, 19.00-20.30
DESCRIPTION:
URL:https://cevibasel.ch/veranstaltung/hattrick-men-19-00-20-30-4/
END:VEVENT
BEGIN:VEVENT
DTSTART;VALUE=DATE:20230612
DTEND;VALUE=DATE:20230613
DTSTAMP:20260425T164035
CREATED:20230516T095707Z
LAST-MODIFIED:20230517T095732Z
UID:111132-1686528000-1686614399@cevibasel.ch
SUMMARY:Hattrick Ladies\, 20.30-22.00
DESCRIPTION:
URL:https://cevibasel.ch/veranstaltung/hattrick-ladies-20-30-22-00-4/
END:VEVENT
BEGIN:VEVENT
DTSTART;TZID=Europe/Zurich:20230612T190000
DTEND;TZID=Europe/Zurich:20230612T203000
DTSTAMP:20260425T164035
CREATED:20230517T101057Z
LAST-MODIFIED:20230612T182502Z
UID:111752-1686596400-1686601800@cevibasel.ch
SUMMARY:Hattrick Men\, 19.00-20.30
DESCRIPTION:
URL:https://cevibasel.ch/veranstaltung/hattrick-men-19-00-20-30-38/
LOCATION:Fussballfelder Pfaffenholz
END:VEVENT
BEGIN:VEVENT
DTSTART;TZID=Europe/Zurich:20230612T200000
DTEND;TZID=Europe/Zurich:20230612T220000
DTSTAMP:20260425T164035
CREATED:20230517T101057Z
LAST-MODIFIED:20230612T195129Z
UID:111751-1686600000-1686607200@cevibasel.ch
SUMMARY:Beachvolleyballtraining
DESCRIPTION:
URL:https://cevibasel.ch/veranstaltung/beachvolleyballtraining-4/
LOCATION:Beachfelder St. Jakob
END:VEVENT
BEGIN:VEVENT
DTSTART;TZID=Europe/Zurich:20230612T203000
DTEND;TZID=Europe/Zurich:20230612T220000
DTSTAMP:20260425T164035
CREATED:20230517T101057Z
LAST-MODIFIED:20230612T195129Z
UID:111750-1686601800-1686607200@cevibasel.ch
SUMMARY:Hattrick Ladies\, 20.30-22.00
DESCRIPTION:
URL:https://cevibasel.ch/veranstaltung/hattrick-ladies-20-30-22-00-39/
LOCATION:Fussballfelder Pfaffenholz
END:VEVENT
BEGIN:VEVENT
DTSTART;VALUE=DATE:20230613
DTEND;VALUE=DATE:20230614
DTSTAMP:20260425T164035
CREATED:20230505T103601Z
LAST-MODIFIED:20230517T095732Z
UID:109173-1686614400-1686700799@cevibasel.ch
SUMMARY:Spaghettizistig\, 12.00-14.00 Uhr
DESCRIPTION:
URL:https://cevibasel.ch/veranstaltung/spaghettizistig-12-00-14-00-uhr-6/
END:VEVENT
BEGIN:VEVENT
DTSTART;VALUE=DATE:20230613
DTEND;VALUE=DATE:20230614
DTSTAMP:20260425T164035
CREATED:20230516T091959Z
LAST-MODIFIED:20230517T095739Z
UID:111071-1686614400-1686700799@cevibasel.ch
SUMMARY:Hattrick Gellert (7-12 Jahre)\, 18.00-19.30
DESCRIPTION:
URL:https://cevibasel.ch/veranstaltung/hattrick-gellert-7-12-jahre-18-00-19-30-5/
END:VEVENT
END:VCALENDAR