BEGIN:VCALENDAR
VERSION:2.0
PRODID:-//Cevi Region Basel - ECPv6.15.20//NONSGML v1.0//EN
CALSCALE:GREGORIAN
METHOD:PUBLISH
X-WR-CALNAME:Cevi Region Basel
X-ORIGINAL-URL:https://cevibasel.ch
X-WR-CALDESC:Events for Cevi Region Basel
REFRESH-INTERVAL;VALUE=DURATION:PT1H
X-Robots-Tag:noindex
X-PUBLISHED-TTL:PT1H
BEGIN:VTIMEZONE
TZID:Europe/Zurich
BEGIN:DAYLIGHT
TZOFFSETFROM:+0100
TZOFFSETTO:+0200
TZNAME:CEST
DTSTART:20220327T010000
END:DAYLIGHT
BEGIN:STANDARD
TZOFFSETFROM:+0200
TZOFFSETTO:+0100
TZNAME:CET
DTSTART:20221030T010000
END:STANDARD
BEGIN:DAYLIGHT
TZOFFSETFROM:+0100
TZOFFSETTO:+0200
TZNAME:CEST
DTSTART:20230326T010000
END:DAYLIGHT
BEGIN:STANDARD
TZOFFSETFROM:+0200
TZOFFSETTO:+0100
TZNAME:CET
DTSTART:20231029T010000
END:STANDARD
BEGIN:DAYLIGHT
TZOFFSETFROM:+0100
TZOFFSETTO:+0200
TZNAME:CEST
DTSTART:20240331T010000
END:DAYLIGHT
BEGIN:STANDARD
TZOFFSETFROM:+0200
TZOFFSETTO:+0100
TZNAME:CET
DTSTART:20241027T010000
END:STANDARD
END:VTIMEZONE
BEGIN:VEVENT
DTSTART;VALUE=DATE:20230614
DTEND;VALUE=DATE:20230615
DTSTAMP:20260425T145215
CREATED:20230516T091959Z
LAST-MODIFIED:20230517T101230Z
UID:111072-1686700800-1686787199@cevibasel.ch
SUMMARY:Limitless\, 18.00-19.45
DESCRIPTION:
URL:https://cevibasel.ch/veranstaltung/limitless-18-00-19-45-4/
END:VEVENT
BEGIN:VEVENT
DTSTART;VALUE=DATE:20230614
DTEND;VALUE=DATE:20230615
DTSTAMP:20260425T145215
CREATED:20230516T092004Z
LAST-MODIFIED:20230517T101230Z
UID:111073-1686700800-1686787199@cevibasel.ch
SUMMARY:Ten Sing\, 18.30-21.00
DESCRIPTION:
URL:https://cevibasel.ch/veranstaltung/ten-sing-18-30-21-00-4/
END:VEVENT
BEGIN:VEVENT
DTSTART;TZID=Europe/Zurich:20230614T083000
DTEND;TZID=Europe/Zurich:20230614T113000
DTSTAMP:20260425T145215
CREATED:20230517T103117Z
LAST-MODIFIED:20230614T092022Z
UID:111888-1686731400-1686742200@cevibasel.ch
SUMMARY:Spielgruppe
DESCRIPTION:
URL:https://cevibasel.ch/veranstaltung/spielgruppe-8/
LOCATION:Cevi Seki
END:VEVENT
BEGIN:VEVENT
DTSTART;TZID=Europe/Zurich:20230614T160000
DTEND;TZID=Europe/Zurich:20230614T180000
DTSTAMP:20260425T145215
CREATED:20230517T103117Z
LAST-MODIFIED:20230614T155112Z
UID:111890-1686758400-1686765600@cevibasel.ch
SUMMARY:Beachvolleyballtraining
DESCRIPTION:
URL:https://cevibasel.ch/veranstaltung/beachvolleyballtraining-24/
LOCATION:Beachfelder Rankhof
END:VEVENT
BEGIN:VEVENT
DTSTART;TZID=Europe/Zurich:20230614T180000
DTEND;TZID=Europe/Zurich:20230614T194500
DTSTAMP:20260425T145215
CREATED:20230517T103117Z
LAST-MODIFIED:20230614T173941Z
UID:111889-1686765600-1686771900@cevibasel.ch
SUMMARY:Limitless Parkour & Freerunning
DESCRIPTION:
URL:https://cevibasel.ch/veranstaltung/limitless-parkour-freerunning-3/
LOCATION:Turnhalle Sekundarschule St. Alban
END:VEVENT
BEGIN:VEVENT
DTSTART;TZID=Europe/Zurich:20230614T183000
DTEND;TZID=Europe/Zurich:20230614T210000
DTSTAMP:20260425T145215
CREATED:20230517T103117Z
LAST-MODIFIED:20230614T185151Z
UID:111891-1686767400-1686776400@cevibasel.ch
SUMMARY:Ten Sing
DESCRIPTION:
URL:https://cevibasel.ch/veranstaltung/ten-sing-3/
LOCATION:CVJM Haus Kleinbasel
END:VEVENT
BEGIN:VEVENT
DTSTART;VALUE=DATE:20230615
DTEND;VALUE=DATE:20230616
DTSTAMP:20260425T145215
CREATED:20230505T120737Z
LAST-MODIFIED:20230517T101416Z
UID:109287-1686787200-1686873599@cevibasel.ch
SUMMARY:Café Emma\, 9.30-11.30 Uhr
DESCRIPTION:
URL:https://cevibasel.ch/veranstaltung/cafe-emma-9-30-11-30-uhr-10/
END:VEVENT
BEGIN:VEVENT
DTSTART;VALUE=DATE:20230615
DTEND;VALUE=DATE:20230616
DTSTAMP:20260425T145215
CREATED:20230508T085535Z
LAST-MODIFIED:20230517T101416Z
UID:110476-1686787200-1686873599@cevibasel.ch
SUMMARY:Beachvolleyball 20.00-22.00 Uhr\, im Rankhof
DESCRIPTION:
URL:https://cevibasel.ch/veranstaltung/beachvolleyball-20-00-22-00-uhr-im-rankhof-5/
END:VEVENT
BEGIN:VEVENT
DTSTART;TZID=Europe/Zurich:20230615T080000
DTEND;TZID=Europe/Zurich:20230615T103000
DTSTAMP:20260425T145215
CREATED:20230517T103117Z
LAST-MODIFIED:20230615T082537Z
UID:111892-1686816000-1686825000@cevibasel.ch
SUMMARY:Mütterngruppe
DESCRIPTION:
URL:https://cevibasel.ch/veranstaltung/muetterngruppe-5/
LOCATION:Cevi Seki
END:VEVENT
BEGIN:VEVENT
DTSTART;TZID=Europe/Zurich:20230615T093000
DTEND;TZID=Europe/Zurich:20230615T113000
DTSTAMP:20260425T145215
CREATED:20230517T103123Z
LAST-MODIFIED:20230615T092013Z
UID:111893-1686821400-1686828600@cevibasel.ch
SUMMARY:Café Emma\, 9.30-11.30 Uhr
DESCRIPTION:
URL:https://cevibasel.ch/veranstaltung/cafe-emma-9-30-11-30-uhr-212/
LOCATION:hyve Hotel
END:VEVENT
BEGIN:VEVENT
DTSTART;TZID=Europe/Zurich:20230615T190000
DTEND;TZID=Europe/Zurich:20230615T220000
DTSTAMP:20260425T145215
CREATED:20230125T102138Z
LAST-MODIFIED:20230615T195030Z
UID:106317-1686855600-1686866400@cevibasel.ch
SUMMARY:Konfestival Kirchgemeindesitzung A
DESCRIPTION:
URL:https://cevibasel.ch/veranstaltung/konfestival-kirchgemeindesitzung-abc/
END:VEVENT
BEGIN:VEVENT
DTSTART;TZID=Europe/Zurich:20230615T200000
DTEND;TZID=Europe/Zurich:20230615T220000
DTSTAMP:20260425T145215
CREATED:20230517T103123Z
LAST-MODIFIED:20230615T195030Z
UID:111894-1686859200-1686866400@cevibasel.ch
SUMMARY:Beachvolleyballtraining
DESCRIPTION:
URL:https://cevibasel.ch/veranstaltung/beachvolleyballtraining-25/
LOCATION:Beachfelder Rankhof
END:VEVENT
BEGIN:VEVENT
DTSTART;VALUE=DATE:20230616
DTEND;VALUE=DATE:20230617
DTSTAMP:20260425T145215
CREATED:20230505T103601Z
LAST-MODIFIED:20230517T101416Z
UID:109175-1686873600-1686959999@cevibasel.ch
SUMMARY:Spielgruppe\, 8.30-11.30 Uhr
DESCRIPTION:
URL:https://cevibasel.ch/veranstaltung/spielgruppe-8-30-11-30-uhr-13/
END:VEVENT
BEGIN:VEVENT
DTSTART;VALUE=DATE:20230616
DTEND;VALUE=DATE:20230617
DTSTAMP:20260425T145215
CREATED:20230505T120737Z
LAST-MODIFIED:20230517T101421Z
UID:109288-1686873600-1686959999@cevibasel.ch
SUMMARY:Café Emma\, 9.30-11.30 Uhr
DESCRIPTION:
URL:https://cevibasel.ch/veranstaltung/cafe-emma-9-30-11-30-uhr-11/
END:VEVENT
BEGIN:VEVENT
DTSTART;VALUE=DATE:20230616
DTEND;VALUE=DATE:20230617
DTSTAMP:20260425T145215
CREATED:20230508T085535Z
LAST-MODIFIED:20230517T101416Z
UID:110477-1686873600-1686959999@cevibasel.ch
SUMMARY:Beachvolleyball 19.00-21.00 Uhr\, im Joggeli
DESCRIPTION:
URL:https://cevibasel.ch/veranstaltung/beachvolleyball-19-00-21-00-uhr-im-joggeli-5/
END:VEVENT
BEGIN:VEVENT
DTSTART;VALUE=DATE:20230616
DTEND;VALUE=DATE:20230617
DTSTAMP:20260425T145215
CREATED:20230516T095734Z
LAST-MODIFIED:20230517T101421Z
UID:111134-1686873600-1686959999@cevibasel.ch
SUMMARY:Hattrick Basel West (7-15 Jahre)\, 17.30-19.00
DESCRIPTION:
URL:https://cevibasel.ch/veranstaltung/hattrick-basel-west-7-15-jahre-17-30-19-00-5/
END:VEVENT
BEGIN:VEVENT
DTSTART;VALUE=DATE:20230616
DTEND;VALUE=DATE:20230617
DTSTAMP:20260425T145215
CREATED:20230516T095750Z
LAST-MODIFIED:20230517T101416Z
UID:111135-1686873600-1686959999@cevibasel.ch
SUMMARY:Hattrick Riehen (4. bis 5. Klasse)\, 17.30-19.00
DESCRIPTION:
URL:https://cevibasel.ch/veranstaltung/hattrick-riehen-4-bis-5-klasse-17-30-19-00-5/
END:VEVENT
BEGIN:VEVENT
DTSTART;VALUE=DATE:20230616
DTEND;VALUE=DATE:20230617
DTSTAMP:20260425T145215
CREATED:20230516T095752Z
LAST-MODIFIED:20230517T101421Z
UID:111138-1686873600-1686959999@cevibasel.ch
SUMMARY:Hattrick Basel West (16-18 Jahre)\, 19.00-20.30
DESCRIPTION:
URL:https://cevibasel.ch/veranstaltung/hattrick-basel-west-16-18-jahre-19-00-20-30-5/
END:VEVENT
BEGIN:VEVENT
DTSTART;TZID=Europe/Zurich:20230616T083000
DTEND;TZID=Europe/Zurich:20230616T113000
DTSTAMP:20260425T145215
CREATED:20230517T103123Z
LAST-MODIFIED:20230616T092019Z
UID:111896-1686904200-1686915000@cevibasel.ch
SUMMARY:Spielgruppe
DESCRIPTION:
URL:https://cevibasel.ch/veranstaltung/spielgruppe-9/
LOCATION:Cevi Seki
END:VEVENT
BEGIN:VEVENT
DTSTART;TZID=Europe/Zurich:20230616T093000
DTEND;TZID=Europe/Zurich:20230616T113000
DTSTAMP:20260425T145215
CREATED:20230517T103123Z
LAST-MODIFIED:20230616T092019Z
UID:111895-1686907800-1686915000@cevibasel.ch
SUMMARY:Café Emma
DESCRIPTION:
URL:https://cevibasel.ch/veranstaltung/cafe-emma-5/
LOCATION:hyve Hotel
END:VEVENT
BEGIN:VEVENT
DTSTART;TZID=Europe/Zurich:20230616T173000
DTEND;TZID=Europe/Zurich:20230616T190000
DTSTAMP:20260425T145215
CREATED:20230517T103127Z
LAST-MODIFIED:20230616T165013Z
UID:111897-1686936600-1686942000@cevibasel.ch
SUMMARY:Hattrick Basel West (7-15 Jahre)
DESCRIPTION:
URL:https://cevibasel.ch/veranstaltung/hattrick-basel-west-7-15-jahre-4/
END:VEVENT
BEGIN:VEVENT
DTSTART;TZID=Europe/Zurich:20230616T173000
DTEND;TZID=Europe/Zurich:20230616T190000
DTSTAMP:20260425T145215
CREATED:20230517T103127Z
LAST-MODIFIED:20230616T165013Z
UID:111900-1686936600-1686942000@cevibasel.ch
SUMMARY:Hattrick Riehen (4. bis 5. Klasse)
DESCRIPTION:
URL:https://cevibasel.ch/veranstaltung/hattrick-riehen-4-bis-5-klasse-4/
LOCATION:Andreasmatte
END:VEVENT
BEGIN:VEVENT
DTSTART;TZID=Europe/Zurich:20230616T190000
DTEND;TZID=Europe/Zurich:20230616T203000
DTSTAMP:20260425T145215
CREATED:20230517T103127Z
LAST-MODIFIED:20230616T182448Z
UID:111899-1686942000-1686947400@cevibasel.ch
SUMMARY:Hattrick Basel West (16-18 Jahre)
DESCRIPTION:
URL:https://cevibasel.ch/veranstaltung/hattrick-basel-west-16-18-jahre-4/
LOCATION:Fussballfelder Pfaffenholz
END:VEVENT
BEGIN:VEVENT
DTSTART;TZID=Europe/Zurich:20230616T190000
DTEND;TZID=Europe/Zurich:20230616T210000
DTSTAMP:20260425T145215
CREATED:20230517T103127Z
LAST-MODIFIED:20230616T185131Z
UID:111898-1686942000-1686949200@cevibasel.ch
SUMMARY:Beachvolleyballtraining
DESCRIPTION:
URL:https://cevibasel.ch/veranstaltung/beachvolleyballtraining-26/
LOCATION:Beachfelder St. Jakob
END:VEVENT
BEGIN:VEVENT
DTSTART;VALUE=DATE:20230617
DTEND;VALUE=DATE:20230618
DTSTAMP:20260425T145215
CREATED:20230310T150900Z
LAST-MODIFIED:20230617T235125Z
UID:107606-1686960000-1687046399@cevibasel.ch
SUMMARY:Zukunftswerkstatt - Cevi Basel
DESCRIPTION:
URL:https://cevibasel.ch/veranstaltung/zukunftswerkstatt-cevi-basel/
END:VEVENT
BEGIN:VEVENT
DTSTART;VALUE=DATE:20230617
DTEND;VALUE=DATE:20230618
DTSTAMP:20260425T145215
CREATED:20230516T095750Z
LAST-MODIFIED:20230517T101421Z
UID:111136-1686960000-1687046399@cevibasel.ch
SUMMARY:Div. Jungscharprogramme\, ca. 14.00-17.00
DESCRIPTION:
URL:https://cevibasel.ch/veranstaltung/div-jungscharprogramme-ca-14-00-17-00/
END:VEVENT
BEGIN:VEVENT
DTSTART;VALUE=DATE:20230617
DTEND;VALUE=DATE:20230618
DTSTAMP:20260425T145215
CREATED:20230516T095752Z
LAST-MODIFIED:20230517T101248Z
UID:111137-1686960000-1687046399@cevibasel.ch
SUMMARY:Hattrick Gundeli (6-11 Jahre)\, 13.30-15.30
DESCRIPTION:
URL:https://cevibasel.ch/veranstaltung/hattrick-gundeli-6-11-jahre-13-30-15-30-5/
END:VEVENT
BEGIN:VEVENT
DTSTART;TZID=Europe/Zurich:20230617T090000
DTEND;TZID=Europe/Zurich:20230617T130000
DTSTAMP:20260425T145215
CREATED:20230315T090843Z
LAST-MODIFIED:20230617T105341Z
UID:107715-1686992400-1687006800@cevibasel.ch
SUMMARY:Zukunftswerkstatt - Cevi Basel
DESCRIPTION:
URL:https://cevibasel.ch/veranstaltung/zukunftswerkstatt-cevi-basel-2/
END:VEVENT
BEGIN:VEVENT
DTSTART;TZID=Europe/Zurich:20230617T133000
DTEND;TZID=Europe/Zurich:20230617T153000
DTSTAMP:20260425T145215
CREATED:20230517T103205Z
LAST-MODIFIED:20230617T132325Z
UID:111901-1687008600-1687015800@cevibasel.ch
SUMMARY:Hattrick Gundeli (6-11 Jahre)
DESCRIPTION:
URL:https://cevibasel.ch/veranstaltung/hattrick-gundeli-6-11-jahre-4/
LOCATION:Margarethenpark
END:VEVENT
BEGIN:VEVENT
DTSTART;TZID=Europe/Zurich:20230617T140000
DTEND;TZID=Europe/Zurich:20230617T170000
DTSTAMP:20260425T145215
CREATED:20230517T103205Z
LAST-MODIFIED:20230617T145442Z
UID:111902-1687010400-1687021200@cevibasel.ch
SUMMARY:Jungschi Allschwil
DESCRIPTION:
URL:https://cevibasel.ch/veranstaltung/jungschi-allschwil-4/
LOCATION:Calvinhaus
END:VEVENT
END:VCALENDAR