BEGIN:VCALENDAR
VERSION:2.0
PRODID:-//Cevi Region Basel - ECPv6.15.20//NONSGML v1.0//EN
CALSCALE:GREGORIAN
METHOD:PUBLISH
X-WR-CALNAME:Cevi Region Basel
X-ORIGINAL-URL:https://cevibasel.ch
X-WR-CALDESC:Events for Cevi Region Basel
REFRESH-INTERVAL;VALUE=DURATION:PT1H
X-Robots-Tag:noindex
X-PUBLISHED-TTL:PT1H
BEGIN:VTIMEZONE
TZID:Europe/Zurich
BEGIN:DAYLIGHT
TZOFFSETFROM:+0100
TZOFFSETTO:+0200
TZNAME:CEST
DTSTART:20240331T010000
END:DAYLIGHT
BEGIN:STANDARD
TZOFFSETFROM:+0200
TZOFFSETTO:+0100
TZNAME:CET
DTSTART:20241027T010000
END:STANDARD
BEGIN:DAYLIGHT
TZOFFSETFROM:+0100
TZOFFSETTO:+0200
TZNAME:CEST
DTSTART:20250330T010000
END:DAYLIGHT
BEGIN:STANDARD
TZOFFSETFROM:+0200
TZOFFSETTO:+0100
TZNAME:CET
DTSTART:20251026T010000
END:STANDARD
BEGIN:DAYLIGHT
TZOFFSETFROM:+0100
TZOFFSETTO:+0200
TZNAME:CEST
DTSTART:20260329T010000
END:DAYLIGHT
BEGIN:STANDARD
TZOFFSETFROM:+0200
TZOFFSETTO:+0100
TZNAME:CET
DTSTART:20261025T010000
END:STANDARD
END:VTIMEZONE
BEGIN:VEVENT
DTSTART;TZID=Europe/Zurich:20251213T140000
DTEND;TZID=Europe/Zurich:20251213T170000
DTSTAMP:20260425T170836
CREATED:20240625T134938Z
LAST-MODIFIED:20251213T154950Z
UID:121986-1765634400-1765645200@cevibasel.ch
SUMMARY:Jungschi Bubendorf
DESCRIPTION:
URL:https://cevibasel.ch/veranstaltung/jungschi-bubendorf-134/
END:VEVENT
BEGIN:VEVENT
DTSTART;TZID=Europe/Zurich:20251213T133000
DTEND;TZID=Europe/Zurich:20251213T153000
DTSTAMP:20260425T170836
CREATED:20240625T134940Z
LAST-MODIFIED:20251120T120520Z
UID:121990-1765632600-1765639800@cevibasel.ch
SUMMARY:Hattrick Gundeli (6-11 Jahre)
DESCRIPTION:
URL:https://cevibasel.ch/veranstaltung/hattrick-gundeli-6-11-jahre-134/
LOCATION:Margarethenpark
END:VEVENT
BEGIN:VEVENT
DTSTART;TZID=Europe/Zurich:20251212T190000
DTEND;TZID=Europe/Zurich:20251212T203000
DTSTAMP:20260425T170836
CREATED:20240625T134938Z
LAST-MODIFIED:20251212T192009Z
UID:121983-1765566000-1765571400@cevibasel.ch
SUMMARY:Hattrick Basel West (16-18 Jahre)
DESCRIPTION:
URL:https://cevibasel.ch/veranstaltung/hattrick-basel-west-16-18-jahre-134/
LOCATION:Fussballfelder Pfaffenholz
END:VEVENT
BEGIN:VEVENT
DTSTART;TZID=Europe/Zurich:20251212T173000
DTEND;TZID=Europe/Zurich:20251212T190000
DTSTAMP:20260425T170836
CREATED:20240625T134938Z
LAST-MODIFIED:20251212T174959Z
UID:121984-1765560600-1765566000@cevibasel.ch
SUMMARY:Hattrick Riehen (4. bis 5. Klasse)
DESCRIPTION:
URL:https://cevibasel.ch/veranstaltung/hattrick-riehen-4-bis-5-klasse-134/
LOCATION:Andreasmatte
END:VEVENT
BEGIN:VEVENT
DTSTART;TZID=Europe/Zurich:20251212T173000
DTEND;TZID=Europe/Zurich:20251212T190000
DTSTAMP:20260425T170836
CREATED:20240625T134936Z
LAST-MODIFIED:20251212T175000Z
UID:121981-1765560600-1765566000@cevibasel.ch
SUMMARY:Hattrick Basel West (7-15 Jahre)
DESCRIPTION:
URL:https://cevibasel.ch/veranstaltung/hattrick-basel-west-7-15-jahre-134/
END:VEVENT
BEGIN:VEVENT
DTSTART;TZID=Europe/Zurich:20251211T080000
DTEND;TZID=Europe/Zurich:20251211T103000
DTSTAMP:20260425T170836
CREATED:20240625T134936Z
LAST-MODIFIED:20240812T100414Z
UID:121980-1765440000-1765449000@cevibasel.ch
SUMMARY:Mütterngruppe
DESCRIPTION:
URL:https://cevibasel.ch/veranstaltung/muetterngruppe-77/
LOCATION:Cevi Seki
END:VEVENT
BEGIN:VEVENT
DTSTART;TZID=Europe/Zurich:20251210T183000
DTEND;TZID=Europe/Zurich:20251210T210000
DTSTAMP:20260425T170836
CREATED:20240625T134936Z
LAST-MODIFIED:20251210T195019Z
UID:121979-1765391400-1765400400@cevibasel.ch
SUMMARY:Ten Sing
DESCRIPTION:
URL:https://cevibasel.ch/veranstaltung/ten-sing-133/
LOCATION:CVJM Haus Kleinbasel
END:VEVENT
BEGIN:VEVENT
DTSTART;TZID=Europe/Zurich:20251210T083000
DTEND;TZID=Europe/Zurich:20251210T110000
DTSTAMP:20260425T170836
CREATED:20240812T103346Z
LAST-MODIFIED:20251210T094947Z
UID:127913-1765355400-1765364400@cevibasel.ch
SUMMARY:Mütterngruppe
DESCRIPTION:
URL:https://cevibasel.ch/veranstaltung/mutterngruppe-312/
LOCATION:Cevi Seki
END:VEVENT
BEGIN:VEVENT
DTSTART;TZID=Europe/Zurich:20251209T190000
DTEND;TZID=Europe/Zurich:20251209T203000
DTSTAMP:20260425T170836
CREATED:20240625T134936Z
LAST-MODIFIED:20251209T191947Z
UID:121977-1765306800-1765312200@cevibasel.ch
SUMMARY:Hattrick Riehen (6. bis 7. Klasse)
DESCRIPTION:
URL:https://cevibasel.ch/veranstaltung/hattrick-riehen-6-bis-7-klasse-134/
LOCATION:Fussballplatz Andreasmatte
END:VEVENT
BEGIN:VEVENT
DTSTART;TZID=Europe/Zurich:20251209T180000
DTEND;TZID=Europe/Zurich:20251209T193000
DTSTAMP:20260425T170836
CREATED:20240625T134936Z
LAST-MODIFIED:20251209T182102Z
UID:121978-1765303200-1765308600@cevibasel.ch
SUMMARY:Hattrick Gellert (7-12 Jahre)
DESCRIPTION:
URL:https://cevibasel.ch/veranstaltung/hattrick-gellert-7-12-jahre-134/
LOCATION:Fussballplatz Luftmatt
END:VEVENT
BEGIN:VEVENT
DTSTART;TZID=Europe/Zurich:20251209T173000
DTEND;TZID=Europe/Zurich:20251209T190000
DTSTAMP:20260425T170836
CREATED:20240625T134932Z
LAST-MODIFIED:20251209T174949Z
UID:121976-1765301400-1765306800@cevibasel.ch
SUMMARY:Hattrick Riehen (1. bis 3. Klasse)
DESCRIPTION:
URL:https://cevibasel.ch/veranstaltung/hattrick-riehen-1-bis-3-klasse-134/
LOCATION:Fussballplatz Andreasmatte
END:VEVENT
BEGIN:VEVENT
DTSTART;TZID=Europe/Zurich:20251208T203000
DTEND;TZID=Europe/Zurich:20251208T220000
DTSTAMP:20260425T170836
CREATED:20240625T134932Z
LAST-MODIFIED:20251208T205039Z
UID:121974-1765225800-1765231200@cevibasel.ch
SUMMARY:Hattrick Ladies\, 20.30-22.00
DESCRIPTION:
URL:https://cevibasel.ch/veranstaltung/hattrick-ladies-20-30-22-00-169/
LOCATION:Fussballfelder Pfaffenholz
END:VEVENT
BEGIN:VEVENT
DTSTART;TZID=Europe/Zurich:20251208T190000
DTEND;TZID=Europe/Zurich:20251208T203000
DTSTAMP:20260425T170836
CREATED:20240625T134932Z
LAST-MODIFIED:20251208T191947Z
UID:121975-1765220400-1765225800@cevibasel.ch
SUMMARY:Hattrick Men\, 19.00-20.30
DESCRIPTION:
URL:https://cevibasel.ch/veranstaltung/hattrick-men-19-00-20-30-168/
LOCATION:Fussballfelder Pfaffenholz
END:VEVENT
BEGIN:VEVENT
DTSTART;TZID=Europe/Zurich:20251206T140000
DTEND;TZID=Europe/Zurich:20251206T170000
DTSTAMP:20260425T170836
CREATED:20240625T134931Z
LAST-MODIFIED:20241105T110059Z
UID:121972-1765029600-1765040400@cevibasel.ch
SUMMARY:Jungschi Muttenz
DESCRIPTION:
URL:https://cevibasel.ch/veranstaltung/jungschi-muttenz-133/
END:VEVENT
BEGIN:VEVENT
DTSTART;TZID=Europe/Zurich:20251206T140000
DTEND;TZID=Europe/Zurich:20251206T170000
DTSTAMP:20260425T170836
CREATED:20240625T134931Z
LAST-MODIFIED:20241105T110100Z
UID:121973-1765029600-1765040400@cevibasel.ch
SUMMARY:Jungschi Reinach
DESCRIPTION:
URL:https://cevibasel.ch/veranstaltung/jungschi-reinach-133/
END:VEVENT
BEGIN:VEVENT
DTSTART;TZID=Europe/Zurich:20251206T140000
DTEND;TZID=Europe/Zurich:20251206T170000
DTSTAMP:20260425T170836
CREATED:20240625T134929Z
LAST-MODIFIED:20251206T155055Z
UID:121968-1765029600-1765040400@cevibasel.ch
SUMMARY:Jungschi Thomas
DESCRIPTION:
URL:https://cevibasel.ch/veranstaltung/jungschi-thomas-133/
END:VEVENT
BEGIN:VEVENT
DTSTART;TZID=Europe/Zurich:20251206T140000
DTEND;TZID=Europe/Zurich:20251206T170000
DTSTAMP:20260425T170836
CREATED:20240625T134929Z
LAST-MODIFIED:20251206T155055Z
UID:121969-1765029600-1765040400@cevibasel.ch
SUMMARY:Jungschi Titus
DESCRIPTION:
URL:https://cevibasel.ch/veranstaltung/jungschi-titus-133/
END:VEVENT
BEGIN:VEVENT
DTSTART;TZID=Europe/Zurich:20251206T140000
DTEND;TZID=Europe/Zurich:20251206T170000
DTSTAMP:20260425T170836
CREATED:20240625T134929Z
LAST-MODIFIED:20251206T155055Z
UID:121970-1765029600-1765040400@cevibasel.ch
SUMMARY:Jungschi Binningen
DESCRIPTION:
URL:https://cevibasel.ch/veranstaltung/jungschi-binningen-133/
END:VEVENT
BEGIN:VEVENT
DTSTART;TZID=Europe/Zurich:20251206T140000
DTEND;TZID=Europe/Zurich:20251206T170000
DTSTAMP:20260425T170836
CREATED:20240625T134929Z
LAST-MODIFIED:20251206T155141Z
UID:121971-1765029600-1765040400@cevibasel.ch
SUMMARY:Jungschi Ettigen & Therwil
DESCRIPTION:
URL:https://cevibasel.ch/veranstaltung/jungschi-ettigen-therwil-133/
END:VEVENT
BEGIN:VEVENT
DTSTART;TZID=Europe/Zurich:20251206T140000
DTEND;TZID=Europe/Zurich:20251206T170000
DTSTAMP:20260425T170836
CREATED:20240625T134928Z
LAST-MODIFIED:20251206T155055Z
UID:121966-1765029600-1765040400@cevibasel.ch
SUMMARY:Jungschi Allschwil
DESCRIPTION:
URL:https://cevibasel.ch/veranstaltung/jungschi-allschwil-133/
END:VEVENT
BEGIN:VEVENT
DTSTART;TZID=Europe/Zurich:20251206T140000
DTEND;TZID=Europe/Zurich:20251206T170000
DTSTAMP:20260425T170836
CREATED:20240625T134927Z
LAST-MODIFIED:20251206T155141Z
UID:121964-1765029600-1765040400@cevibasel.ch
SUMMARY:Jungschi Bubendorf
DESCRIPTION:
URL:https://cevibasel.ch/veranstaltung/jungschi-bubendorf-133/
END:VEVENT
BEGIN:VEVENT
DTSTART;TZID=Europe/Zurich:20251206T140000
DTEND;TZID=Europe/Zurich:20251206T170000
DTSTAMP:20260425T170836
CREATED:20240625T134927Z
LAST-MODIFIED:20251206T155055Z
UID:121965-1765029600-1765040400@cevibasel.ch
SUMMARY:Jungschi Gotthelf-Neubad
DESCRIPTION:
URL:https://cevibasel.ch/veranstaltung/jungschi-gotthelf-neubad-133/
END:VEVENT
BEGIN:VEVENT
DTSTART;TZID=Europe/Zurich:20251206T133000
DTEND;TZID=Europe/Zurich:20251206T153000
DTSTAMP:20260425T170836
CREATED:20240625T134929Z
LAST-MODIFIED:20251120T120515Z
UID:121967-1765027800-1765035000@cevibasel.ch
SUMMARY:Hattrick Gundeli (6-11 Jahre)
DESCRIPTION:
URL:https://cevibasel.ch/veranstaltung/hattrick-gundeli-6-11-jahre-133/
LOCATION:Margarethenpark
END:VEVENT
BEGIN:VEVENT
DTSTART;TZID=Europe/Zurich:20251205T203000
DTEND;TZID=Europe/Zurich:20251206T003000
DTSTAMP:20260425T170836
CREATED:20251007T102908Z
LAST-MODIFIED:20251205T230452Z
UID:169283-1764966600-1764981000@cevibasel.ch
SUMMARY:Cevi Ehetag
DESCRIPTION:
URL:https://cevibasel.ch/veranstaltung/cevi-ehetag-2/
END:VEVENT
BEGIN:VEVENT
DTSTART;TZID=Europe/Zurich:20251205T190000
DTEND;TZID=Europe/Zurich:20251205T203000
DTSTAMP:20260425T170836
CREATED:20240625T134927Z
LAST-MODIFIED:20251205T190453Z
UID:121963-1764961200-1764966600@cevibasel.ch
SUMMARY:Hattrick Basel West (16-18 Jahre)
DESCRIPTION:
URL:https://cevibasel.ch/veranstaltung/hattrick-basel-west-16-18-jahre-133/
LOCATION:Fussballfelder Pfaffenholz
END:VEVENT
BEGIN:VEVENT
DTSTART;TZID=Europe/Zurich:20251205T173000
DTEND;TZID=Europe/Zurich:20251205T190000
DTSTAMP:20260425T170836
CREATED:20240625T134927Z
LAST-MODIFIED:20251205T170500Z
UID:121962-1764955800-1764961200@cevibasel.ch
SUMMARY:Hattrick Basel West (7-15 Jahre)
DESCRIPTION:
URL:https://cevibasel.ch/veranstaltung/hattrick-basel-west-7-15-jahre-133/
END:VEVENT
BEGIN:VEVENT
DTSTART;TZID=Europe/Zurich:20251205T173000
DTEND;TZID=Europe/Zurich:20251205T190000
DTSTAMP:20260425T170836
CREATED:20240625T134924Z
LAST-MODIFIED:20251205T170500Z
UID:121961-1764955800-1764961200@cevibasel.ch
SUMMARY:Hattrick Riehen (4. bis 5. Klasse)
DESCRIPTION:
URL:https://cevibasel.ch/veranstaltung/hattrick-riehen-4-bis-5-klasse-133/
LOCATION:Andreasmatte
END:VEVENT
BEGIN:VEVENT
DTSTART;TZID=Europe/Zurich:20251204T083000
DTEND;TZID=Europe/Zurich:20251204T113000
DTSTAMP:20260425T170836
CREATED:20240812T103334Z
LAST-MODIFIED:20250113T103437Z
UID:127908-1764837000-1764847800@cevibasel.ch
SUMMARY:Mütterngruppe
DESCRIPTION:
URL:https://cevibasel.ch/veranstaltung/mutterngruppe-307/
LOCATION:Cevi Seki
END:VEVENT
BEGIN:VEVENT
DTSTART;TZID=Europe/Zurich:20251204T083000
DTEND;TZID=Europe/Zurich:20251204T113000
DTSTAMP:20260425T170836
CREATED:20240812T103334Z
LAST-MODIFIED:20251204T100456Z
UID:127909-1764837000-1764847800@cevibasel.ch
SUMMARY:Mütterngruppe
DESCRIPTION:
URL:https://cevibasel.ch/veranstaltung/mutterngruppe-308/
LOCATION:Cevi Seki
END:VEVENT
BEGIN:VEVENT
DTSTART;TZID=Europe/Zurich:20251204T083000
DTEND;TZID=Europe/Zurich:20251204T113000
DTSTAMP:20260425T170836
CREATED:20240812T103334Z
LAST-MODIFIED:20241224T191454Z
UID:127910-1764837000-1764847800@cevibasel.ch
SUMMARY:Mütterngruppe
DESCRIPTION:
URL:https://cevibasel.ch/veranstaltung/mutterngruppe-309/
LOCATION:Cevi Seki
END:VEVENT
END:VCALENDAR