BEGIN:VCALENDAR
VERSION:2.0
PRODID:-//Cevi Region Basel - ECPv6.15.20//NONSGML v1.0//EN
CALSCALE:GREGORIAN
METHOD:PUBLISH
X-WR-CALNAME:Cevi Region Basel
X-ORIGINAL-URL:https://cevibasel.ch
X-WR-CALDESC:Events for Cevi Region Basel
REFRESH-INTERVAL;VALUE=DURATION:PT1H
X-Robots-Tag:noindex
X-PUBLISHED-TTL:PT1H
BEGIN:VTIMEZONE
TZID:Europe/Zurich
BEGIN:DAYLIGHT
TZOFFSETFROM:+0100
TZOFFSETTO:+0200
TZNAME:CEST
DTSTART:20250330T010000
END:DAYLIGHT
BEGIN:STANDARD
TZOFFSETFROM:+0200
TZOFFSETTO:+0100
TZNAME:CET
DTSTART:20251026T010000
END:STANDARD
BEGIN:DAYLIGHT
TZOFFSETFROM:+0100
TZOFFSETTO:+0200
TZNAME:CEST
DTSTART:20260329T010000
END:DAYLIGHT
BEGIN:STANDARD
TZOFFSETFROM:+0200
TZOFFSETTO:+0100
TZNAME:CET
DTSTART:20261025T010000
END:STANDARD
BEGIN:DAYLIGHT
TZOFFSETFROM:+0100
TZOFFSETTO:+0200
TZNAME:CEST
DTSTART:20270328T010000
END:DAYLIGHT
BEGIN:STANDARD
TZOFFSETFROM:+0200
TZOFFSETTO:+0100
TZNAME:CET
DTSTART:20271031T010000
END:STANDARD
END:VTIMEZONE
BEGIN:VEVENT
DTSTART;TZID=Europe/Zurich:20260223T190000
DTEND;TZID=Europe/Zurich:20260223T203000
DTSTAMP:20260423T122123
CREATED:20240625T173410Z
LAST-MODIFIED:20260206T032125Z
UID:123200-1771873200-1771878600@cevibasel.ch
SUMMARY:Hattrick Men\, 19.00-20.30
DESCRIPTION:
URL:https://cevibasel.ch/veranstaltung/hattrick-men-19-00-20-30-179/
LOCATION:Fussballfelder Pfaffenholz
END:VEVENT
BEGIN:VEVENT
DTSTART;TZID=Europe/Zurich:20260221T140000
DTEND;TZID=Europe/Zurich:20260221T170000
DTSTAMP:20260423T122123
CREATED:20240625T173409Z
LAST-MODIFIED:20241105T110140Z
UID:123198-1771682400-1771693200@cevibasel.ch
SUMMARY:Jungschi Reinach
DESCRIPTION:
URL:https://cevibasel.ch/veranstaltung/jungschi-reinach-144/
END:VEVENT
BEGIN:VEVENT
DTSTART;TZID=Europe/Zurich:20260221T140000
DTEND;TZID=Europe/Zurich:20260221T170000
DTSTAMP:20260423T122123
CREATED:20240625T173408Z
LAST-MODIFIED:20251119T041351Z
UID:123195-1771682400-1771693200@cevibasel.ch
SUMMARY:Jungschi Allschwil
DESCRIPTION:
URL:https://cevibasel.ch/veranstaltung/jungschi-allschwil-144/
END:VEVENT
BEGIN:VEVENT
DTSTART;TZID=Europe/Zurich:20260221T140000
DTEND;TZID=Europe/Zurich:20260221T170000
DTSTAMP:20260423T122123
CREATED:20240625T173408Z
LAST-MODIFIED:20251119T041349Z
UID:123196-1771682400-1771693200@cevibasel.ch
SUMMARY:Jungschi Bubendorf
DESCRIPTION:
URL:https://cevibasel.ch/veranstaltung/jungschi-bubendorf-144/
END:VEVENT
BEGIN:VEVENT
DTSTART;TZID=Europe/Zurich:20260221T140000
DTEND;TZID=Europe/Zurich:20260221T170000
DTSTAMP:20260423T122123
CREATED:20240625T173408Z
LAST-MODIFIED:20251119T041349Z
UID:123197-1771682400-1771693200@cevibasel.ch
SUMMARY:Jungschi Titus
DESCRIPTION:
URL:https://cevibasel.ch/veranstaltung/jungschi-titus-144/
END:VEVENT
BEGIN:VEVENT
DTSTART;TZID=Europe/Zurich:20260221T140000
DTEND;TZID=Europe/Zurich:20260221T170000
DTSTAMP:20260423T122123
CREATED:20240625T173407Z
LAST-MODIFIED:20251119T041349Z
UID:123193-1771682400-1771693200@cevibasel.ch
SUMMARY:Jungschi Thomas
DESCRIPTION:
URL:https://cevibasel.ch/veranstaltung/jungschi-thomas-144/
END:VEVENT
BEGIN:VEVENT
DTSTART;TZID=Europe/Zurich:20260221T140000
DTEND;TZID=Europe/Zurich:20260221T170000
DTSTAMP:20260423T122123
CREATED:20240625T173405Z
LAST-MODIFIED:20251119T041347Z
UID:123189-1771682400-1771693200@cevibasel.ch
SUMMARY:Jungschi Gotthelf-Neubad
DESCRIPTION:
URL:https://cevibasel.ch/veranstaltung/jungschi-gotthelf-neubad-144/
END:VEVENT
BEGIN:VEVENT
DTSTART;TZID=Europe/Zurich:20260221T140000
DTEND;TZID=Europe/Zurich:20260221T170000
DTSTAMP:20260423T122123
CREATED:20240625T173405Z
LAST-MODIFIED:20241105T110142Z
UID:123190-1771682400-1771693200@cevibasel.ch
SUMMARY:Jungschi Muttenz
DESCRIPTION:
URL:https://cevibasel.ch/veranstaltung/jungschi-muttenz-144/
END:VEVENT
BEGIN:VEVENT
DTSTART;TZID=Europe/Zurich:20260221T140000
DTEND;TZID=Europe/Zurich:20260221T170000
DTSTAMP:20260423T122123
CREATED:20240625T173405Z
LAST-MODIFIED:20251119T041349Z
UID:123191-1771682400-1771693200@cevibasel.ch
SUMMARY:Jungschi Ettigen & Therwil
DESCRIPTION:
URL:https://cevibasel.ch/veranstaltung/jungschi-ettigen-therwil-144/
END:VEVENT
BEGIN:VEVENT
DTSTART;TZID=Europe/Zurich:20260221T140000
DTEND;TZID=Europe/Zurich:20260221T170000
DTSTAMP:20260423T122123
CREATED:20240625T173405Z
LAST-MODIFIED:20251119T041349Z
UID:123192-1771682400-1771693200@cevibasel.ch
SUMMARY:Jungschi Binningen
DESCRIPTION:
URL:https://cevibasel.ch/veranstaltung/jungschi-binningen-144/
END:VEVENT
BEGIN:VEVENT
DTSTART;TZID=Europe/Zurich:20260221T133000
DTEND;TZID=Europe/Zurich:20260221T153000
DTSTAMP:20260423T122123
CREATED:20240625T173408Z
LAST-MODIFIED:20251120T120601Z
UID:123194-1771680600-1771687800@cevibasel.ch
SUMMARY:Hattrick Gundeli (6-11 Jahre)
DESCRIPTION:
URL:https://cevibasel.ch/veranstaltung/hattrick-gundeli-6-11-jahre-144/
LOCATION:Margarethenpark
END:VEVENT
BEGIN:VEVENT
DTSTART;VALUE=DATE:20260221
DTEND;VALUE=DATE:20260301
DTSTAMP:20260423T122123
CREATED:20251121T133257Z
LAST-MODIFIED:20260206T032125Z
UID:170078-1771632000-1772323199@cevibasel.ch
SUMMARY:Snowcamp 2026
DESCRIPTION:
URL:https://cevibasel.ch/veranstaltung/snowcamp-2026/
END:VEVENT
BEGIN:VEVENT
DTSTART;VALUE=DATE:20260221
DTEND;VALUE=DATE:20260222
DTSTAMP:20260423T122123
CREATED:20251119T113438Z
LAST-MODIFIED:20260206T032044Z
UID:169864-1771632000-1771718399@cevibasel.ch
SUMMARY:Jungschar Angebote
DESCRIPTION:
URL:https://cevibasel.ch/veranstaltung/jungscharangebote-8/
END:VEVENT
BEGIN:VEVENT
DTSTART;TZID=Europe/Zurich:20260220T190000
DTEND;TZID=Europe/Zurich:20260220T203000
DTSTAMP:20260423T122123
CREATED:20240625T173405Z
LAST-MODIFIED:20260206T032032Z
UID:123188-1771614000-1771619400@cevibasel.ch
SUMMARY:Hattrick Basel West (16-18 Jahre)
DESCRIPTION:
URL:https://cevibasel.ch/veranstaltung/hattrick-basel-west-16-18-jahre-144/
LOCATION:Fussballfelder Pfaffenholz
END:VEVENT
BEGIN:VEVENT
DTSTART;TZID=Europe/Zurich:20260220T173000
DTEND;TZID=Europe/Zurich:20260220T190000
DTSTAMP:20260423T122123
CREATED:20240625T173404Z
LAST-MODIFIED:20260206T032032Z
UID:123187-1771608600-1771614000@cevibasel.ch
SUMMARY:Hattrick Riehen (4. bis 5. Klasse)
DESCRIPTION:
URL:https://cevibasel.ch/veranstaltung/hattrick-riehen-4-bis-5-klasse-144/
LOCATION:Andreasmatte
END:VEVENT
BEGIN:VEVENT
DTSTART;TZID=Europe/Zurich:20260220T173000
DTEND;TZID=Europe/Zurich:20260220T190000
DTSTAMP:20260423T122123
CREATED:20240625T154944Z
LAST-MODIFIED:20260206T032044Z
UID:123171-1771608600-1771614000@cevibasel.ch
SUMMARY:Hattrick Basel West (7-15 Jahre)
DESCRIPTION:
URL:https://cevibasel.ch/veranstaltung/hattrick-basel-west-7-15-jahre-144/
END:VEVENT
BEGIN:VEVENT
DTSTART;TZID=Europe/Zurich:20260219T080000
DTEND;TZID=Europe/Zurich:20260219T103000
DTSTAMP:20260423T122123
CREATED:20240625T154944Z
LAST-MODIFIED:20240812T084934Z
UID:123170-1771488000-1771497000@cevibasel.ch
SUMMARY:Mütterngruppe
DESCRIPTION:
URL:https://cevibasel.ch/veranstaltung/muetterngruppe-82/
LOCATION:Cevi Seki
END:VEVENT
BEGIN:VEVENT
DTSTART;TZID=Europe/Zurich:20260218T183000
DTEND;TZID=Europe/Zurich:20260218T210000
DTSTAMP:20260423T122123
CREATED:20240625T154944Z
LAST-MODIFIED:20260206T032032Z
UID:123169-1771439400-1771448400@cevibasel.ch
SUMMARY:Ten Sing
DESCRIPTION:
URL:https://cevibasel.ch/veranstaltung/ten-sing-143/
LOCATION:CVJM Haus Kleinbasel
END:VEVENT
BEGIN:VEVENT
DTSTART;TZID=Europe/Zurich:20260218T083000
DTEND;TZID=Europe/Zurich:20260218T110000
DTSTAMP:20260423T122123
CREATED:20240813T013341Z
LAST-MODIFIED:20260206T032031Z
UID:128054-1771403400-1771412400@cevibasel.ch
SUMMARY:Mütterngruppe
DESCRIPTION:
URL:https://cevibasel.ch/veranstaltung/mutterngruppe-362/
LOCATION:Cevi Seki
END:VEVENT
BEGIN:VEVENT
DTSTART;TZID=Europe/Zurich:20260217T190000
DTEND;TZID=Europe/Zurich:20260217T203000
DTSTAMP:20260423T122123
CREATED:20240625T154943Z
LAST-MODIFIED:20260206T032013Z
UID:123167-1771354800-1771360200@cevibasel.ch
SUMMARY:Hattrick Riehen (6. bis 7. Klasse)
DESCRIPTION:
URL:https://cevibasel.ch/veranstaltung/hattrick-riehen-6-bis-7-klasse-144/
LOCATION:Fussballplatz Andreasmatte
END:VEVENT
BEGIN:VEVENT
DTSTART;TZID=Europe/Zurich:20260217T180000
DTEND;TZID=Europe/Zurich:20260217T193000
DTSTAMP:20260423T122123
CREATED:20240625T154943Z
LAST-MODIFIED:20260206T032015Z
UID:123168-1771351200-1771356600@cevibasel.ch
SUMMARY:Hattrick Gellert (7-12 Jahre)
DESCRIPTION:
URL:https://cevibasel.ch/veranstaltung/hattrick-gellert-7-12-jahre-144/
LOCATION:Fussballplatz Luftmatt
END:VEVENT
BEGIN:VEVENT
DTSTART;TZID=Europe/Zurich:20260217T173000
DTEND;TZID=Europe/Zurich:20260217T190000
DTSTAMP:20260423T122123
CREATED:20240625T154940Z
LAST-MODIFIED:20260206T032031Z
UID:123166-1771349400-1771354800@cevibasel.ch
SUMMARY:Hattrick Riehen (1. bis 3. Klasse)
DESCRIPTION:
URL:https://cevibasel.ch/veranstaltung/hattrick-riehen-1-bis-3-klasse-144/
LOCATION:Fussballplatz Andreasmatte
END:VEVENT
BEGIN:VEVENT
DTSTART;TZID=Europe/Zurich:20260216T203000
DTEND;TZID=Europe/Zurich:20260216T220000
DTSTAMP:20260423T122123
CREATED:20240625T154940Z
LAST-MODIFIED:20260206T032015Z
UID:123164-1771273800-1771279200@cevibasel.ch
SUMMARY:Hattrick Ladies\, 20.30-22.00
DESCRIPTION:
URL:https://cevibasel.ch/veranstaltung/hattrick-ladies-20-30-22-00-179/
LOCATION:Fussballfelder Pfaffenholz
END:VEVENT
BEGIN:VEVENT
DTSTART;TZID=Europe/Zurich:20260216T190000
DTEND;TZID=Europe/Zurich:20260216T203000
DTSTAMP:20260423T122123
CREATED:20240625T154940Z
LAST-MODIFIED:20260206T032015Z
UID:123165-1771268400-1771273800@cevibasel.ch
SUMMARY:Hattrick Men\, 19.00-20.30
DESCRIPTION:
URL:https://cevibasel.ch/veranstaltung/hattrick-men-19-00-20-30-178/
LOCATION:Fussballfelder Pfaffenholz
END:VEVENT
BEGIN:VEVENT
DTSTART;TZID=Europe/Zurich:20260214T140000
DTEND;TZID=Europe/Zurich:20260214T170000
DTSTAMP:20260423T122123
CREATED:20240625T154939Z
LAST-MODIFIED:20251119T045000Z
UID:123162-1771077600-1771088400@cevibasel.ch
SUMMARY:Jungschi Binningen
DESCRIPTION:
URL:https://cevibasel.ch/veranstaltung/jungschi-binningen-143/
END:VEVENT
BEGIN:VEVENT
DTSTART;TZID=Europe/Zurich:20260214T140000
DTEND;TZID=Europe/Zurich:20260214T170000
DTSTAMP:20260423T122123
CREATED:20240625T154939Z
LAST-MODIFIED:20251119T044846Z
UID:123163-1771077600-1771088400@cevibasel.ch
SUMMARY:Jungschi Ettigen & Therwil
DESCRIPTION:
URL:https://cevibasel.ch/veranstaltung/jungschi-ettigen-therwil-143/
END:VEVENT
BEGIN:VEVENT
DTSTART;TZID=Europe/Zurich:20260214T140000
DTEND;TZID=Europe/Zurich:20260214T170000
DTSTAMP:20260423T122123
CREATED:20240625T154936Z
LAST-MODIFIED:20251119T044846Z
UID:123160-1771077600-1771088400@cevibasel.ch
SUMMARY:Jungschi Titus
DESCRIPTION:
URL:https://cevibasel.ch/veranstaltung/jungschi-titus-143/
END:VEVENT
BEGIN:VEVENT
DTSTART;TZID=Europe/Zurich:20260214T140000
DTEND;TZID=Europe/Zurich:20260214T170000
DTSTAMP:20260423T122123
CREATED:20240625T154936Z
LAST-MODIFIED:20251119T044845Z
UID:123161-1771077600-1771088400@cevibasel.ch
SUMMARY:Jungschi Gotthelf-Neubad
DESCRIPTION:
URL:https://cevibasel.ch/veranstaltung/jungschi-gotthelf-neubad-143/
END:VEVENT
BEGIN:VEVENT
DTSTART;TZID=Europe/Zurich:20260214T140000
DTEND;TZID=Europe/Zurich:20260214T170000
DTSTAMP:20260423T122123
CREATED:20240625T154935Z
LAST-MODIFIED:20251119T044846Z
UID:123158-1771077600-1771088400@cevibasel.ch
SUMMARY:Jungschi Allschwil
DESCRIPTION:
URL:https://cevibasel.ch/veranstaltung/jungschi-allschwil-143/
END:VEVENT
BEGIN:VEVENT
DTSTART;TZID=Europe/Zurich:20260214T140000
DTEND;TZID=Europe/Zurich:20260214T170000
DTSTAMP:20260423T122123
CREATED:20240625T154935Z
LAST-MODIFIED:20251119T044846Z
UID:123159-1771077600-1771088400@cevibasel.ch
SUMMARY:Jungschi Bubendorf
DESCRIPTION:
URL:https://cevibasel.ch/veranstaltung/jungschi-bubendorf-143/
END:VEVENT
END:VCALENDAR