BEGIN:VCALENDAR
VERSION:2.0
PRODID:-//Cevi Region Basel - ECPv6.15.20//NONSGML v1.0//EN
CALSCALE:GREGORIAN
METHOD:PUBLISH
X-WR-CALNAME:Cevi Region Basel
X-ORIGINAL-URL:https://cevibasel.ch
X-WR-CALDESC:Events for Cevi Region Basel
REFRESH-INTERVAL;VALUE=DURATION:PT1H
X-Robots-Tag:noindex
X-PUBLISHED-TTL:PT1H
BEGIN:VTIMEZONE
TZID:Europe/Zurich
BEGIN:DAYLIGHT
TZOFFSETFROM:+0100
TZOFFSETTO:+0200
TZNAME:CEST
DTSTART:20250330T010000
END:DAYLIGHT
BEGIN:STANDARD
TZOFFSETFROM:+0200
TZOFFSETTO:+0100
TZNAME:CET
DTSTART:20251026T010000
END:STANDARD
BEGIN:DAYLIGHT
TZOFFSETFROM:+0100
TZOFFSETTO:+0200
TZNAME:CEST
DTSTART:20260329T010000
END:DAYLIGHT
BEGIN:STANDARD
TZOFFSETFROM:+0200
TZOFFSETTO:+0100
TZNAME:CET
DTSTART:20261025T010000
END:STANDARD
BEGIN:DAYLIGHT
TZOFFSETFROM:+0100
TZOFFSETTO:+0200
TZNAME:CEST
DTSTART:20270328T010000
END:DAYLIGHT
BEGIN:STANDARD
TZOFFSETFROM:+0200
TZOFFSETTO:+0100
TZNAME:CET
DTSTART:20271031T010000
END:STANDARD
END:VTIMEZONE
BEGIN:VEVENT
DTSTART;TZID=Europe/Zurich:20260921T190000
DTEND;TZID=Europe/Zurich:20260921T203000
DTSTAMP:20260424T015417
CREATED:20240921T053044Z
LAST-MODIFIED:20260205T231439Z
UID:134056-1790017200-1790022600@cevibasel.ch
SUMMARY:Hattrick Men\, 19.00-20.30
DESCRIPTION:
URL:https://cevibasel.ch/veranstaltung/hattrick-men-19-00-20-30-209/
LOCATION:Fussballfelder Pfaffenholz
END:VEVENT
BEGIN:VEVENT
DTSTART;TZID=Europe/Zurich:20260919T140000
DTEND;TZID=Europe/Zurich:20260919T170000
DTSTAMP:20260424T015417
CREATED:20240919T001910Z
LAST-MODIFIED:20241105T013003Z
UID:134027-1789826400-1789837200@cevibasel.ch
SUMMARY:Jungschi Muttenz
DESCRIPTION:
URL:https://cevibasel.ch/veranstaltung/jungschi-muttenz-174/
END:VEVENT
BEGIN:VEVENT
DTSTART;TZID=Europe/Zurich:20260919T140000
DTEND;TZID=Europe/Zurich:20260919T170000
DTSTAMP:20260424T015417
CREATED:20240919T001909Z
LAST-MODIFIED:20251117T005533Z
UID:134024-1789826400-1789837200@cevibasel.ch
SUMMARY:Jungschi Thomas
DESCRIPTION:
URL:https://cevibasel.ch/veranstaltung/jungschi-thomas-174/
END:VEVENT
BEGIN:VEVENT
DTSTART;TZID=Europe/Zurich:20260919T140000
DTEND;TZID=Europe/Zurich:20260919T170000
DTSTAMP:20260424T015417
CREATED:20240919T001909Z
LAST-MODIFIED:20251117T005444Z
UID:134025-1789826400-1789837200@cevibasel.ch
SUMMARY:Jungschi Allschwil
DESCRIPTION:
URL:https://cevibasel.ch/veranstaltung/jungschi-allschwil-174/
END:VEVENT
BEGIN:VEVENT
DTSTART;TZID=Europe/Zurich:20260919T140000
DTEND;TZID=Europe/Zurich:20260919T170000
DTSTAMP:20260424T015417
CREATED:20240919T001909Z
LAST-MODIFIED:20251117T005533Z
UID:134026-1789826400-1789837200@cevibasel.ch
SUMMARY:Jungschi Binningen
DESCRIPTION:
URL:https://cevibasel.ch/veranstaltung/jungschi-binningen-174/
END:VEVENT
BEGIN:VEVENT
DTSTART;TZID=Europe/Zurich:20260919T140000
DTEND;TZID=Europe/Zurich:20260919T170000
DTSTAMP:20260424T015417
CREATED:20240919T001908Z
LAST-MODIFIED:20251117T005444Z
UID:134023-1789826400-1789837200@cevibasel.ch
SUMMARY:Jungschi Ettigen & Therwil
DESCRIPTION:
URL:https://cevibasel.ch/veranstaltung/jungschi-ettigen-therwil-174/
END:VEVENT
BEGIN:VEVENT
DTSTART;TZID=Europe/Zurich:20260919T140000
DTEND;TZID=Europe/Zurich:20260919T170000
DTSTAMP:20260424T015417
CREATED:20240919T001908Z
LAST-MODIFIED:20251117T005444Z
UID:134022-1789826400-1789837200@cevibasel.ch
SUMMARY:Jungschi Bubendorf
DESCRIPTION:
URL:https://cevibasel.ch/veranstaltung/jungschi-bubendorf-174/
END:VEVENT
BEGIN:VEVENT
DTSTART;TZID=Europe/Zurich:20260919T140000
DTEND;TZID=Europe/Zurich:20260919T170000
DTSTAMP:20260424T015417
CREATED:20240919T001905Z
LAST-MODIFIED:20251117T005444Z
UID:134021-1789826400-1789837200@cevibasel.ch
SUMMARY:Jungschi Gotthelf-Neubad
DESCRIPTION:
URL:https://cevibasel.ch/veranstaltung/jungschi-gotthelf-neubad-174/
END:VEVENT
BEGIN:VEVENT
DTSTART;TZID=Europe/Zurich:20260919T140000
DTEND;TZID=Europe/Zurich:20260919T170000
DTSTAMP:20260424T015417
CREATED:20240919T001904Z
LAST-MODIFIED:20241105T013003Z
UID:134018-1789826400-1789837200@cevibasel.ch
SUMMARY:Jungschi Reinach
DESCRIPTION:
URL:https://cevibasel.ch/veranstaltung/jungschi-reinach-174/
END:VEVENT
BEGIN:VEVENT
DTSTART;TZID=Europe/Zurich:20260919T140000
DTEND;TZID=Europe/Zurich:20260919T170000
DTSTAMP:20260424T015417
CREATED:20240919T001904Z
LAST-MODIFIED:20251117T005444Z
UID:134020-1789826400-1789837200@cevibasel.ch
SUMMARY:Jungschi Titus
DESCRIPTION:
URL:https://cevibasel.ch/veranstaltung/jungschi-titus-174/
END:VEVENT
BEGIN:VEVENT
DTSTART;TZID=Europe/Zurich:20260919T133000
DTEND;TZID=Europe/Zurich:20260919T153000
DTSTAMP:20260424T015417
CREATED:20240919T001904Z
LAST-MODIFIED:20251120T120758Z
UID:134019-1789824600-1789831800@cevibasel.ch
SUMMARY:Hattrick Gundeli (6-11 Jahre)
DESCRIPTION:
URL:https://cevibasel.ch/veranstaltung/hattrick-gundeli-6-11-jahre-174/
LOCATION:Margarethenpark
END:VEVENT
BEGIN:VEVENT
DTSTART;VALUE=DATE:20260919
DTEND;VALUE=DATE:20260920
DTSTAMP:20260424T015417
CREATED:20251120T031742Z
LAST-MODIFIED:20260205T231439Z
UID:169951-1789776000-1789862399@cevibasel.ch
SUMMARY:Jungschar Angebote
DESCRIPTION:
URL:https://cevibasel.ch/veranstaltung/jungscharangebote-38/
END:VEVENT
BEGIN:VEVENT
DTSTART;TZID=Europe/Zurich:20260918T190000
DTEND;TZID=Europe/Zurich:20260918T203000
DTSTAMP:20260424T015417
CREATED:20240918T081321Z
LAST-MODIFIED:20260205T231436Z
UID:134002-1789758000-1789763400@cevibasel.ch
SUMMARY:Hattrick Basel West (16-18 Jahre)
DESCRIPTION:
URL:https://cevibasel.ch/veranstaltung/hattrick-basel-west-16-18-jahre-174/
LOCATION:Fussballfelder Pfaffenholz
END:VEVENT
BEGIN:VEVENT
DTSTART;TZID=Europe/Zurich:20260918T173000
DTEND;TZID=Europe/Zurich:20260918T190000
DTSTAMP:20260424T015417
CREATED:20240918T081321Z
LAST-MODIFIED:20260205T231436Z
UID:134001-1789752600-1789758000@cevibasel.ch
SUMMARY:Hattrick Basel West (7-15 Jahre)
DESCRIPTION:
URL:https://cevibasel.ch/veranstaltung/hattrick-basel-west-7-15-jahre-174/
END:VEVENT
BEGIN:VEVENT
DTSTART;TZID=Europe/Zurich:20260918T173000
DTEND;TZID=Europe/Zurich:20260918T190000
DTSTAMP:20260424T015417
CREATED:20240918T081321Z
LAST-MODIFIED:20260205T231439Z
UID:134003-1789752600-1789758000@cevibasel.ch
SUMMARY:Hattrick Riehen (4. bis 5. Klasse)
DESCRIPTION:
URL:https://cevibasel.ch/veranstaltung/hattrick-riehen-4-bis-5-klasse-174/
LOCATION:Andreasmatte
END:VEVENT
BEGIN:VEVENT
DTSTART;TZID=Europe/Zurich:20260916T183000
DTEND;TZID=Europe/Zurich:20260916T210000
DTSTAMP:20260424T015417
CREATED:20240916T043405Z
LAST-MODIFIED:20260205T231436Z
UID:132778-1789583400-1789592400@cevibasel.ch
SUMMARY:Ten Sing
DESCRIPTION:
URL:https://cevibasel.ch/veranstaltung/ten-sing-173/
LOCATION:CVJM Haus Kleinbasel
END:VEVENT
BEGIN:VEVENT
DTSTART;TZID=Europe/Zurich:20260916T083000
DTEND;TZID=Europe/Zurich:20260916T110000
DTSTAMP:20260424T015417
CREATED:20240916T043405Z
LAST-MODIFIED:20260205T231436Z
UID:132777-1789547400-1789556400@cevibasel.ch
SUMMARY:Mütterngruppe
DESCRIPTION:
URL:https://cevibasel.ch/veranstaltung/mutterngruppe-512/
LOCATION:Cevi Seki
END:VEVENT
BEGIN:VEVENT
DTSTART;TZID=Europe/Zurich:20260915T190000
DTEND;TZID=Europe/Zurich:20260915T203000
DTSTAMP:20260424T015417
CREATED:20240915T020358Z
LAST-MODIFIED:20260205T231436Z
UID:132758-1789498800-1789504200@cevibasel.ch
SUMMARY:Hattrick Riehen (6. bis 7. Klasse)
DESCRIPTION:
URL:https://cevibasel.ch/veranstaltung/hattrick-riehen-6-bis-7-klasse-174/
LOCATION:Fussballplatz Andreasmatte
END:VEVENT
BEGIN:VEVENT
DTSTART;TZID=Europe/Zurich:20260915T180000
DTEND;TZID=Europe/Zurich:20260915T193000
DTSTAMP:20260424T015417
CREATED:20240915T020358Z
LAST-MODIFIED:20260205T231432Z
UID:132759-1789495200-1789500600@cevibasel.ch
SUMMARY:Hattrick Gellert (7-12 Jahre)
DESCRIPTION:
URL:https://cevibasel.ch/veranstaltung/hattrick-gellert-7-12-jahre-174/
LOCATION:Fussballplatz Luftmatt
END:VEVENT
BEGIN:VEVENT
DTSTART;TZID=Europe/Zurich:20260915T173000
DTEND;TZID=Europe/Zurich:20260915T190000
DTSTAMP:20260424T015417
CREATED:20240915T020358Z
LAST-MODIFIED:20260205T231432Z
UID:132760-1789493400-1789498800@cevibasel.ch
SUMMARY:Hattrick Riehen (1. bis 3. Klasse)
DESCRIPTION:
URL:https://cevibasel.ch/veranstaltung/hattrick-riehen-1-bis-3-klasse-174/
LOCATION:Fussballplatz Andreasmatte
END:VEVENT
BEGIN:VEVENT
DTSTART;TZID=Europe/Zurich:20260914T203000
DTEND;TZID=Europe/Zurich:20260914T220000
DTSTAMP:20260424T015417
CREATED:20240914T003437Z
LAST-MODIFIED:20260205T231432Z
UID:132734-1789417800-1789423200@cevibasel.ch
SUMMARY:Hattrick Ladies\, 20.30-22.00
DESCRIPTION:
URL:https://cevibasel.ch/veranstaltung/hattrick-ladies-20-30-22-00-209/
LOCATION:Fussballfelder Pfaffenholz
END:VEVENT
BEGIN:VEVENT
DTSTART;TZID=Europe/Zurich:20260914T190000
DTEND;TZID=Europe/Zurich:20260914T203000
DTSTAMP:20260424T015417
CREATED:20240914T003437Z
LAST-MODIFIED:20260205T231432Z
UID:132735-1789412400-1789417800@cevibasel.ch
SUMMARY:Hattrick Men\, 19.00-20.30
DESCRIPTION:
URL:https://cevibasel.ch/veranstaltung/hattrick-men-19-00-20-30-208/
LOCATION:Fussballfelder Pfaffenholz
END:VEVENT
BEGIN:VEVENT
DTSTART;TZID=Europe/Zurich:20260912T140000
DTEND;TZID=Europe/Zurich:20260912T170000
DTSTAMP:20260424T015417
CREATED:20240912T011919Z
LAST-MODIFIED:20251117T005441Z
UID:132676-1789221600-1789232400@cevibasel.ch
SUMMARY:Jungschi Titus
DESCRIPTION:
URL:https://cevibasel.ch/veranstaltung/jungschi-titus-173/
END:VEVENT
BEGIN:VEVENT
DTSTART;TZID=Europe/Zurich:20260912T140000
DTEND;TZID=Europe/Zurich:20260912T170000
DTSTAMP:20260424T015417
CREATED:20240912T011919Z
LAST-MODIFIED:20241105T012959Z
UID:132677-1789221600-1789232400@cevibasel.ch
SUMMARY:Jungschi Muttenz
DESCRIPTION:
URL:https://cevibasel.ch/veranstaltung/jungschi-muttenz-173/
END:VEVENT
BEGIN:VEVENT
DTSTART;TZID=Europe/Zurich:20260912T140000
DTEND;TZID=Europe/Zurich:20260912T170000
DTSTAMP:20260424T015417
CREATED:20240912T011919Z
LAST-MODIFIED:20251117T005440Z
UID:132675-1789221600-1789232400@cevibasel.ch
SUMMARY:Jungschi Bubendorf
DESCRIPTION:
URL:https://cevibasel.ch/veranstaltung/jungschi-bubendorf-173/
END:VEVENT
BEGIN:VEVENT
DTSTART;TZID=Europe/Zurich:20260912T140000
DTEND;TZID=Europe/Zurich:20260912T170000
DTSTAMP:20260424T015417
CREATED:20240912T011915Z
LAST-MODIFIED:20251117T005441Z
UID:132670-1789221600-1789232400@cevibasel.ch
SUMMARY:Jungschi Binningen
DESCRIPTION:
URL:https://cevibasel.ch/veranstaltung/jungschi-binningen-173/
END:VEVENT
BEGIN:VEVENT
DTSTART;TZID=Europe/Zurich:20260912T140000
DTEND;TZID=Europe/Zurich:20260912T170000
DTSTAMP:20260424T015417
CREATED:20240912T011915Z
LAST-MODIFIED:20241105T012956Z
UID:132671-1789221600-1789232400@cevibasel.ch
SUMMARY:Jungschi Reinach
DESCRIPTION:
URL:https://cevibasel.ch/veranstaltung/jungschi-reinach-173/
END:VEVENT
BEGIN:VEVENT
DTSTART;TZID=Europe/Zurich:20260912T140000
DTEND;TZID=Europe/Zurich:20260912T170000
DTSTAMP:20260424T015417
CREATED:20240912T011915Z
LAST-MODIFIED:20251117T005441Z
UID:132672-1789221600-1789232400@cevibasel.ch
SUMMARY:Jungschi Ettigen & Therwil
DESCRIPTION:
URL:https://cevibasel.ch/veranstaltung/jungschi-ettigen-therwil-173/
END:VEVENT
BEGIN:VEVENT
DTSTART;TZID=Europe/Zurich:20260912T140000
DTEND;TZID=Europe/Zurich:20260912T170000
DTSTAMP:20260424T015417
CREATED:20240912T011915Z
LAST-MODIFIED:20251117T005441Z
UID:132673-1789221600-1789232400@cevibasel.ch
SUMMARY:Jungschi Thomas
DESCRIPTION:
URL:https://cevibasel.ch/veranstaltung/jungschi-thomas-173/
END:VEVENT
BEGIN:VEVENT
DTSTART;TZID=Europe/Zurich:20260912T140000
DTEND;TZID=Europe/Zurich:20260912T170000
DTSTAMP:20260424T015417
CREATED:20240912T011914Z
LAST-MODIFIED:20251117T005440Z
UID:132668-1789221600-1789232400@cevibasel.ch
SUMMARY:Jungschi Gotthelf-Neubad
DESCRIPTION:
URL:https://cevibasel.ch/veranstaltung/jungschi-gotthelf-neubad-173/
END:VEVENT
END:VCALENDAR