BEGIN:VCALENDAR
VERSION:2.0
PRODID:-//Cevi Region Basel - ECPv6.15.20//NONSGML v1.0//EN
CALSCALE:GREGORIAN
METHOD:PUBLISH
X-WR-CALNAME:Cevi Region Basel
X-ORIGINAL-URL:https://cevibasel.ch
X-WR-CALDESC:Events for Cevi Region Basel
REFRESH-INTERVAL;VALUE=DURATION:PT1H
X-Robots-Tag:noindex
X-PUBLISHED-TTL:PT1H
BEGIN:VTIMEZONE
TZID:Europe/Zurich
BEGIN:DAYLIGHT
TZOFFSETFROM:+0100
TZOFFSETTO:+0200
TZNAME:CEST
DTSTART:20260329T010000
END:DAYLIGHT
BEGIN:STANDARD
TZOFFSETFROM:+0200
TZOFFSETTO:+0100
TZNAME:CET
DTSTART:20261025T010000
END:STANDARD
BEGIN:DAYLIGHT
TZOFFSETFROM:+0100
TZOFFSETTO:+0200
TZNAME:CEST
DTSTART:20270328T010000
END:DAYLIGHT
BEGIN:STANDARD
TZOFFSETFROM:+0200
TZOFFSETTO:+0100
TZNAME:CET
DTSTART:20271031T010000
END:STANDARD
BEGIN:DAYLIGHT
TZOFFSETFROM:+0100
TZOFFSETTO:+0200
TZNAME:CEST
DTSTART:20280326T010000
END:DAYLIGHT
BEGIN:STANDARD
TZOFFSETFROM:+0200
TZOFFSETTO:+0100
TZNAME:CET
DTSTART:20281029T010000
END:STANDARD
END:VTIMEZONE
BEGIN:VEVENT
DTSTART;TZID=Europe/Zurich:20270213T133000
DTEND;TZID=Europe/Zurich:20270213T153000
DTSTAMP:20260426T054458
CREATED:20250213T013130Z
LAST-MODIFIED:20251120T120939Z
UID:150008-1802525400-1802532600@cevibasel.ch
SUMMARY:Hattrick Gundeli (6-11 Jahre)
DESCRIPTION:
URL:https://cevibasel.ch/veranstaltung/hattrick-gundeli-6-11-jahre-195/
LOCATION:Margarethenpark
END:VEVENT
BEGIN:VEVENT
DTSTART;TZID=Europe/Zurich:20270213T140000
DTEND;TZID=Europe/Zurich:20270213T170000
DTSTAMP:20260426T054458
CREATED:20250213T013129Z
LAST-MODIFIED:20251117T005825Z
UID:150004-1802527200-1802538000@cevibasel.ch
SUMMARY:Jungschi Thomas
DESCRIPTION:
URL:https://cevibasel.ch/veranstaltung/jungschi-thomas-195/
END:VEVENT
BEGIN:VEVENT
DTSTART;TZID=Europe/Zurich:20270213T140000
DTEND;TZID=Europe/Zurich:20270213T170000
DTSTAMP:20260426T054458
CREATED:20250213T013129Z
LAST-MODIFIED:20251117T005825Z
UID:150005-1802527200-1802538000@cevibasel.ch
SUMMARY:Jungschi Bubendorf
DESCRIPTION:
URL:https://cevibasel.ch/veranstaltung/jungschi-bubendorf-195/
END:VEVENT
BEGIN:VEVENT
DTSTART;TZID=Europe/Zurich:20270213T140000
DTEND;TZID=Europe/Zurich:20270213T170000
DTSTAMP:20260426T054458
CREATED:20250213T013129Z
LAST-MODIFIED:20251117T005823Z
UID:150006-1802527200-1802538000@cevibasel.ch
SUMMARY:Jungschi Ettigen & Therwil
DESCRIPTION:
URL:https://cevibasel.ch/veranstaltung/jungschi-ettigen-therwil-195/
END:VEVENT
BEGIN:VEVENT
DTSTART;TZID=Europe/Zurich:20270213T140000
DTEND;TZID=Europe/Zurich:20270213T170000
DTSTAMP:20260426T054458
CREATED:20250213T013130Z
LAST-MODIFIED:20251117T005825Z
UID:150007-1802527200-1802538000@cevibasel.ch
SUMMARY:Jungschi Titus
DESCRIPTION:
URL:https://cevibasel.ch/veranstaltung/jungschi-titus-195/
END:VEVENT
BEGIN:VEVENT
DTSTART;TZID=Europe/Zurich:20270213T140000
DTEND;TZID=Europe/Zurich:20270213T170000
DTSTAMP:20260426T054458
CREATED:20250213T013132Z
LAST-MODIFIED:20251117T005823Z
UID:150009-1802527200-1802538000@cevibasel.ch
SUMMARY:Jungschi Gotthelf-Neubad
DESCRIPTION:
URL:https://cevibasel.ch/veranstaltung/jungschi-gotthelf-neubad-195/
END:VEVENT
BEGIN:VEVENT
DTSTART;TZID=Europe/Zurich:20270213T140000
DTEND;TZID=Europe/Zurich:20270213T170000
DTSTAMP:20260426T054458
CREATED:20250213T013133Z
LAST-MODIFIED:20251117T005823Z
UID:150010-1802527200-1802538000@cevibasel.ch
SUMMARY:Jungschi Allschwil
DESCRIPTION:
URL:https://cevibasel.ch/veranstaltung/jungschi-allschwil-195/
END:VEVENT
BEGIN:VEVENT
DTSTART;TZID=Europe/Zurich:20270213T140000
DTEND;TZID=Europe/Zurich:20270213T170000
DTSTAMP:20260426T054458
CREATED:20250213T013133Z
LAST-MODIFIED:20251117T005824Z
UID:150011-1802527200-1802538000@cevibasel.ch
SUMMARY:Jungschi Binningen
DESCRIPTION:
URL:https://cevibasel.ch/veranstaltung/jungschi-binningen-195/
END:VEVENT
BEGIN:VEVENT
DTSTART;TZID=Europe/Zurich:20270215T190000
DTEND;TZID=Europe/Zurich:20270215T203000
DTSTAMP:20260426T054458
CREATED:20250215T011124Z
LAST-MODIFIED:20260205T063859Z
UID:150089-1802718000-1802723400@cevibasel.ch
SUMMARY:Hattrick Men\, 19.00-20.30
DESCRIPTION:
URL:https://cevibasel.ch/veranstaltung/hattrick-men-19-00-20-30-230/
LOCATION:Fussballfelder Pfaffenholz
END:VEVENT
BEGIN:VEVENT
DTSTART;TZID=Europe/Zurich:20270215T203000
DTEND;TZID=Europe/Zurich:20270215T220000
DTSTAMP:20260426T054458
CREATED:20250215T011125Z
LAST-MODIFIED:20260205T063900Z
UID:150090-1802723400-1802728800@cevibasel.ch
SUMMARY:Hattrick Ladies\, 20.30-22.00
DESCRIPTION:
URL:https://cevibasel.ch/veranstaltung/hattrick-ladies-20-30-22-00-231/
LOCATION:Fussballfelder Pfaffenholz
END:VEVENT
BEGIN:VEVENT
DTSTART;TZID=Europe/Zurich:20270216T173000
DTEND;TZID=Europe/Zurich:20270216T190000
DTSTAMP:20260426T054458
CREATED:20250216T005541Z
LAST-MODIFIED:20260205T063900Z
UID:150118-1802799000-1802804400@cevibasel.ch
SUMMARY:Hattrick Riehen (1. bis 3. Klasse)
DESCRIPTION:
URL:https://cevibasel.ch/veranstaltung/hattrick-riehen-1-bis-3-klasse-196/
LOCATION:Fussballplatz Andreasmatte
END:VEVENT
BEGIN:VEVENT
DTSTART;TZID=Europe/Zurich:20270216T180000
DTEND;TZID=Europe/Zurich:20270216T193000
DTSTAMP:20260426T054458
CREATED:20250216T005540Z
LAST-MODIFIED:20260205T063900Z
UID:150117-1802800800-1802806200@cevibasel.ch
SUMMARY:Hattrick Gellert (7-12 Jahre)
DESCRIPTION:
URL:https://cevibasel.ch/veranstaltung/hattrick-gellert-7-12-jahre-196/
LOCATION:Fussballplatz Luftmatt
END:VEVENT
BEGIN:VEVENT
DTSTART;TZID=Europe/Zurich:20270216T190000
DTEND;TZID=Europe/Zurich:20270216T203000
DTSTAMP:20260426T054458
CREATED:20250216T005540Z
LAST-MODIFIED:20260205T063900Z
UID:150116-1802804400-1802809800@cevibasel.ch
SUMMARY:Hattrick Riehen (6. bis 7. Klasse)
DESCRIPTION:
URL:https://cevibasel.ch/veranstaltung/hattrick-riehen-6-bis-7-klasse-196/
LOCATION:Fussballplatz Andreasmatte
END:VEVENT
BEGIN:VEVENT
DTSTART;TZID=Europe/Zurich:20270217T083000
DTEND;TZID=Europe/Zurich:20270217T110000
DTSTAMP:20260426T054458
CREATED:20250303T071657Z
LAST-MODIFIED:20260205T063900Z
UID:150989-1802853000-1802862000@cevibasel.ch
SUMMARY:Mütterngruppe
DESCRIPTION:
URL:https://cevibasel.ch/veranstaltung/mutterngruppe-574/
LOCATION:Cevi Seki
END:VEVENT
BEGIN:VEVENT
DTSTART;TZID=Europe/Zurich:20270217T183000
DTEND;TZID=Europe/Zurich:20270217T210000
DTSTAMP:20260426T054458
CREATED:20250303T071658Z
LAST-MODIFIED:20260205T063900Z
UID:150990-1802889000-1802898000@cevibasel.ch
SUMMARY:Ten Sing
DESCRIPTION:
URL:https://cevibasel.ch/veranstaltung/ten-sing-195/
LOCATION:CVJM Haus Kleinbasel
END:VEVENT
BEGIN:VEVENT
DTSTART;TZID=Europe/Zurich:20270219T173000
DTEND;TZID=Europe/Zurich:20270219T190000
DTSTAMP:20260426T054458
CREATED:20250303T071658Z
LAST-MODIFIED:20260205T063900Z
UID:150991-1803058200-1803063600@cevibasel.ch
SUMMARY:Hattrick Basel West (7-15 Jahre)
DESCRIPTION:
URL:https://cevibasel.ch/veranstaltung/hattrick-basel-west-7-15-jahre-196/
END:VEVENT
BEGIN:VEVENT
DTSTART;TZID=Europe/Zurich:20270219T173000
DTEND;TZID=Europe/Zurich:20270219T190000
DTSTAMP:20260426T054458
CREATED:20250303T071659Z
LAST-MODIFIED:20260205T063900Z
UID:150993-1803058200-1803063600@cevibasel.ch
SUMMARY:Hattrick Riehen (4. bis 5. Klasse)
DESCRIPTION:
URL:https://cevibasel.ch/veranstaltung/hattrick-riehen-4-bis-5-klasse-196/
LOCATION:Andreasmatte
END:VEVENT
BEGIN:VEVENT
DTSTART;TZID=Europe/Zurich:20270219T190000
DTEND;TZID=Europe/Zurich:20270219T203000
DTSTAMP:20260426T054458
CREATED:20250303T071658Z
LAST-MODIFIED:20260205T063900Z
UID:150992-1803063600-1803069000@cevibasel.ch
SUMMARY:Hattrick Basel West (16-18 Jahre)
DESCRIPTION:
URL:https://cevibasel.ch/veranstaltung/hattrick-basel-west-16-18-jahre-196/
LOCATION:Fussballfelder Pfaffenholz
END:VEVENT
BEGIN:VEVENT
DTSTART;VALUE=DATE:20270220
DTEND;VALUE=DATE:20270221
DTSTAMP:20260426T054458
CREATED:20251120T111735Z
LAST-MODIFIED:20260205T063900Z
UID:170001-1803081600-1803167999@cevibasel.ch
SUMMARY:Jungschar Angebote
DESCRIPTION:
URL:https://cevibasel.ch/veranstaltung/jungscharangebote-60/
END:VEVENT
BEGIN:VEVENT
DTSTART;TZID=Europe/Zurich:20270220T133000
DTEND;TZID=Europe/Zurich:20270220T153000
DTSTAMP:20260426T054458
CREATED:20250303T071659Z
LAST-MODIFIED:20251120T120943Z
UID:150997-1803130200-1803137400@cevibasel.ch
SUMMARY:Hattrick Gundeli (6-11 Jahre)
DESCRIPTION:
URL:https://cevibasel.ch/veranstaltung/hattrick-gundeli-6-11-jahre-196/
LOCATION:Margarethenpark
END:VEVENT
BEGIN:VEVENT
DTSTART;TZID=Europe/Zurich:20270220T140000
DTEND;TZID=Europe/Zurich:20270220T170000
DTSTAMP:20260426T054458
CREATED:20250303T071659Z
LAST-MODIFIED:20251117T005828Z
UID:150996-1803132000-1803142800@cevibasel.ch
SUMMARY:Jungschi Allschwil
DESCRIPTION:
URL:https://cevibasel.ch/veranstaltung/jungschi-allschwil-196/
END:VEVENT
BEGIN:VEVENT
DTSTART;TZID=Europe/Zurich:20270220T140000
DTEND;TZID=Europe/Zurich:20270220T170000
DTSTAMP:20260426T054458
CREATED:20250303T071659Z
LAST-MODIFIED:20251117T005828Z
UID:150994-1803132000-1803142800@cevibasel.ch
SUMMARY:Jungschi Titus
DESCRIPTION:
URL:https://cevibasel.ch/veranstaltung/jungschi-titus-196/
END:VEVENT
BEGIN:VEVENT
DTSTART;TZID=Europe/Zurich:20270220T140000
DTEND;TZID=Europe/Zurich:20270220T170000
DTSTAMP:20260426T054458
CREATED:20250303T071659Z
LAST-MODIFIED:20251117T005829Z
UID:150995-1803132000-1803142800@cevibasel.ch
SUMMARY:Jungschi Bubendorf
DESCRIPTION:
URL:https://cevibasel.ch/veranstaltung/jungschi-bubendorf-196/
END:VEVENT
BEGIN:VEVENT
DTSTART;TZID=Europe/Zurich:20270220T140000
DTEND;TZID=Europe/Zurich:20270220T170000
DTSTAMP:20260426T054458
CREATED:20250303T071700Z
LAST-MODIFIED:20251117T005829Z
UID:151001-1803132000-1803142800@cevibasel.ch
SUMMARY:Jungschi Binningen
DESCRIPTION:
URL:https://cevibasel.ch/veranstaltung/jungschi-binningen-196/
END:VEVENT
BEGIN:VEVENT
DTSTART;TZID=Europe/Zurich:20270220T140000
DTEND;TZID=Europe/Zurich:20270220T170000
DTSTAMP:20260426T054458
CREATED:20250303T071700Z
LAST-MODIFIED:20251117T005828Z
UID:150998-1803132000-1803142800@cevibasel.ch
SUMMARY:Jungschi Gotthelf-Neubad
DESCRIPTION:
URL:https://cevibasel.ch/veranstaltung/jungschi-gotthelf-neubad-196/
END:VEVENT
BEGIN:VEVENT
DTSTART;TZID=Europe/Zurich:20270220T140000
DTEND;TZID=Europe/Zurich:20270220T170000
DTSTAMP:20260426T054458
CREATED:20250303T071700Z
LAST-MODIFIED:20251117T005828Z
UID:150999-1803132000-1803142800@cevibasel.ch
SUMMARY:Jungschi Thomas
DESCRIPTION:
URL:https://cevibasel.ch/veranstaltung/jungschi-thomas-196/
END:VEVENT
BEGIN:VEVENT
DTSTART;TZID=Europe/Zurich:20270220T140000
DTEND;TZID=Europe/Zurich:20270220T170000
DTSTAMP:20260426T054458
CREATED:20250303T071700Z
LAST-MODIFIED:20251117T005828Z
UID:151000-1803132000-1803142800@cevibasel.ch
SUMMARY:Jungschi Ettigen & Therwil
DESCRIPTION:
URL:https://cevibasel.ch/veranstaltung/jungschi-ettigen-therwil-196/
END:VEVENT
BEGIN:VEVENT
DTSTART;TZID=Europe/Zurich:20270222T190000
DTEND;TZID=Europe/Zurich:20270222T203000
DTSTAMP:20260426T054458
CREATED:20250303T071700Z
LAST-MODIFIED:20260205T063901Z
UID:151002-1803322800-1803328200@cevibasel.ch
SUMMARY:Hattrick Men\, 19.00-20.30
DESCRIPTION:
URL:https://cevibasel.ch/veranstaltung/hattrick-men-19-00-20-30-231/
LOCATION:Fussballfelder Pfaffenholz
END:VEVENT
BEGIN:VEVENT
DTSTART;TZID=Europe/Zurich:20270222T203000
DTEND;TZID=Europe/Zurich:20270222T220000
DTSTAMP:20260426T054458
CREATED:20250303T071701Z
LAST-MODIFIED:20260205T063901Z
UID:151003-1803328200-1803333600@cevibasel.ch
SUMMARY:Hattrick Ladies\, 20.30-22.00
DESCRIPTION:
URL:https://cevibasel.ch/veranstaltung/hattrick-ladies-20-30-22-00-232/
LOCATION:Fussballfelder Pfaffenholz
END:VEVENT
BEGIN:VEVENT
DTSTART;TZID=Europe/Zurich:20270223T173000
DTEND;TZID=Europe/Zurich:20270223T190000
DTSTAMP:20260426T054458
CREATED:20250303T071701Z
LAST-MODIFIED:20260205T063901Z
UID:151006-1803403800-1803409200@cevibasel.ch
SUMMARY:Hattrick Riehen (1. bis 3. Klasse)
DESCRIPTION:
URL:https://cevibasel.ch/veranstaltung/hattrick-riehen-1-bis-3-klasse-197/
LOCATION:Fussballplatz Andreasmatte
END:VEVENT
END:VCALENDAR