BEGIN:VCALENDAR
VERSION:2.0
PRODID:-//Cevi Region Basel - ECPv6.15.20//NONSGML v1.0//EN
CALSCALE:GREGORIAN
METHOD:PUBLISH
X-ORIGINAL-URL:https://cevibasel.ch
X-WR-CALDESC:Events for Cevi Region Basel
REFRESH-INTERVAL;VALUE=DURATION:PT1H
X-Robots-Tag:noindex
X-PUBLISHED-TTL:PT1H
BEGIN:VTIMEZONE
TZID:Europe/Zurich
BEGIN:DAYLIGHT
TZOFFSETFROM:+0100
TZOFFSETTO:+0200
TZNAME:CEST
DTSTART:20240331T010000
END:DAYLIGHT
BEGIN:STANDARD
TZOFFSETFROM:+0200
TZOFFSETTO:+0100
TZNAME:CET
DTSTART:20241027T010000
END:STANDARD
BEGIN:DAYLIGHT
TZOFFSETFROM:+0100
TZOFFSETTO:+0200
TZNAME:CEST
DTSTART:20250330T010000
END:DAYLIGHT
BEGIN:STANDARD
TZOFFSETFROM:+0200
TZOFFSETTO:+0100
TZNAME:CET
DTSTART:20251026T010000
END:STANDARD
BEGIN:DAYLIGHT
TZOFFSETFROM:+0100
TZOFFSETTO:+0200
TZNAME:CEST
DTSTART:20260329T010000
END:DAYLIGHT
BEGIN:STANDARD
TZOFFSETFROM:+0200
TZOFFSETTO:+0100
TZNAME:CET
DTSTART:20261025T010000
END:STANDARD
END:VTIMEZONE
BEGIN:VEVENT
DTSTART;TZID=Europe/Zurich:20251010T190000
DTEND;TZID=Europe/Zurich:20251010T203000
DTSTAMP:20260426T052625
CREATED:20240625T134743Z
LAST-MODIFIED:20251010T182213Z
UID:121806-1760122800-1760128200@cevibasel.ch
SUMMARY:Hattrick Basel West (16-18 Jahre)
DESCRIPTION:
URL:https://cevibasel.ch/veranstaltung/hattrick-basel-west-16-18-jahre-125/
LOCATION:Fussballfelder Pfaffenholz
END:VEVENT
BEGIN:VEVENT
DTSTART;TZID=Europe/Zurich:20251011T133000
DTEND;TZID=Europe/Zurich:20251011T153000
DTSTAMP:20260426T052625
CREATED:20240625T134747Z
LAST-MODIFIED:20251011T132046Z
UID:121813-1760189400-1760196600@cevibasel.ch
SUMMARY:Hattrick Gundeli (6-11 Jahre)
DESCRIPTION:
URL:https://cevibasel.ch/veranstaltung/hattrick-gundeli-6-11-jahre-125/
LOCATION:Margarethenpark
END:VEVENT
BEGIN:VEVENT
DTSTART;TZID=Europe/Zurich:20251011T140000
DTEND;TZID=Europe/Zurich:20251011T170000
DTSTAMP:20260426T052625
CREATED:20240625T134744Z
LAST-MODIFIED:20251011T145021Z
UID:121807-1760191200-1760202000@cevibasel.ch
SUMMARY:Jungschi Thomas
DESCRIPTION:
URL:https://cevibasel.ch/veranstaltung/jungschi-thomas-125/
END:VEVENT
BEGIN:VEVENT
DTSTART;TZID=Europe/Zurich:20251011T140000
DTEND;TZID=Europe/Zurich:20251011T170000
DTSTAMP:20260426T052625
CREATED:20240625T134744Z
LAST-MODIFIED:20241105T110032Z
UID:121808-1760191200-1760202000@cevibasel.ch
SUMMARY:Jungschi Reinach
DESCRIPTION:
URL:https://cevibasel.ch/veranstaltung/jungschi-reinach-125/
END:VEVENT
BEGIN:VEVENT
DTSTART;TZID=Europe/Zurich:20251011T140000
DTEND;TZID=Europe/Zurich:20251011T170000
DTSTAMP:20260426T052625
CREATED:20240625T134744Z
LAST-MODIFIED:20251011T145021Z
UID:121809-1760191200-1760202000@cevibasel.ch
SUMMARY:Jungschi Binningen
DESCRIPTION:
URL:https://cevibasel.ch/veranstaltung/jungschi-binningen-125/
END:VEVENT
BEGIN:VEVENT
DTSTART;TZID=Europe/Zurich:20251011T140000
DTEND;TZID=Europe/Zurich:20251011T170000
DTSTAMP:20260426T052625
CREATED:20240625T134744Z
LAST-MODIFIED:20241105T110031Z
UID:121810-1760191200-1760202000@cevibasel.ch
SUMMARY:Jungschi Muttenz
DESCRIPTION:
URL:https://cevibasel.ch/veranstaltung/jungschi-muttenz-125/
END:VEVENT
BEGIN:VEVENT
DTSTART;TZID=Europe/Zurich:20251011T140000
DTEND;TZID=Europe/Zurich:20251011T170000
DTSTAMP:20260426T052625
CREATED:20240625T134747Z
LAST-MODIFIED:20251011T143517Z
UID:121812-1760191200-1760202000@cevibasel.ch
SUMMARY:Jungschi Titus
DESCRIPTION:
URL:https://cevibasel.ch/veranstaltung/jungschi-titus-125/
END:VEVENT
BEGIN:VEVENT
DTSTART;TZID=Europe/Zurich:20251011T140000
DTEND;TZID=Europe/Zurich:20251011T170000
DTSTAMP:20260426T052625
CREATED:20240625T134747Z
LAST-MODIFIED:20251011T145021Z
UID:121811-1760191200-1760202000@cevibasel.ch
SUMMARY:Jungschi Gotthelf-Neubad
DESCRIPTION:
URL:https://cevibasel.ch/veranstaltung/jungschi-gotthelf-neubad-125/
END:VEVENT
BEGIN:VEVENT
DTSTART;TZID=Europe/Zurich:20251011T140000
DTEND;TZID=Europe/Zurich:20251011T170000
DTSTAMP:20260426T052625
CREATED:20240625T134748Z
LAST-MODIFIED:20251011T145021Z
UID:121814-1760191200-1760202000@cevibasel.ch
SUMMARY:Jungschi Allschwil
DESCRIPTION:
URL:https://cevibasel.ch/veranstaltung/jungschi-allschwil-125/
END:VEVENT
BEGIN:VEVENT
DTSTART;TZID=Europe/Zurich:20251011T140000
DTEND;TZID=Europe/Zurich:20251011T170000
DTSTAMP:20260426T052625
CREATED:20240625T134748Z
LAST-MODIFIED:20251011T143517Z
UID:121815-1760191200-1760202000@cevibasel.ch
SUMMARY:Jungschi Bubendorf
DESCRIPTION:
URL:https://cevibasel.ch/veranstaltung/jungschi-bubendorf-125/
END:VEVENT
BEGIN:VEVENT
DTSTART;TZID=Europe/Zurich:20251011T140000
DTEND;TZID=Europe/Zurich:20251011T170000
DTSTAMP:20260426T052625
CREATED:20240625T134751Z
LAST-MODIFIED:20251011T145021Z
UID:121816-1760191200-1760202000@cevibasel.ch
SUMMARY:Jungschi Ettigen & Therwil
DESCRIPTION:
URL:https://cevibasel.ch/veranstaltung/jungschi-ettigen-therwil-125/
END:VEVENT
BEGIN:VEVENT
DTSTART;TZID=Europe/Zurich:20251013T190000
DTEND;TZID=Europe/Zurich:20251013T203000
DTSTAMP:20260426T052625
CREATED:20240625T134752Z
LAST-MODIFIED:20251013T182052Z
UID:121817-1760382000-1760387400@cevibasel.ch
SUMMARY:Hattrick Men\, 19.00-20.30
DESCRIPTION:
URL:https://cevibasel.ch/veranstaltung/hattrick-men-19-00-20-30-160/
LOCATION:Fussballfelder Pfaffenholz
END:VEVENT
BEGIN:VEVENT
DTSTART;TZID=Europe/Zurich:20251013T203000
DTEND;TZID=Europe/Zurich:20251013T220000
DTSTAMP:20260426T052625
CREATED:20240625T134752Z
LAST-MODIFIED:20251013T194955Z
UID:121818-1760387400-1760392800@cevibasel.ch
SUMMARY:Hattrick Ladies\, 20.30-22.00
DESCRIPTION:
URL:https://cevibasel.ch/veranstaltung/hattrick-ladies-20-30-22-00-161/
LOCATION:Fussballfelder Pfaffenholz
END:VEVENT
BEGIN:VEVENT
DTSTART;TZID=Europe/Zurich:20251014T173000
DTEND;TZID=Europe/Zurich:20251014T190000
DTSTAMP:20260426T052625
CREATED:20240625T134752Z
LAST-MODIFIED:20251014T165045Z
UID:121820-1760463000-1760468400@cevibasel.ch
SUMMARY:Hattrick Riehen (1. bis 3. Klasse)
DESCRIPTION:
URL:https://cevibasel.ch/veranstaltung/hattrick-riehen-1-bis-3-klasse-126/
LOCATION:Fussballplatz Andreasmatte
END:VEVENT
BEGIN:VEVENT
DTSTART;TZID=Europe/Zurich:20251014T180000
DTEND;TZID=Europe/Zurich:20251014T193000
DTSTAMP:20260426T052625
CREATED:20240625T134752Z
LAST-MODIFIED:20251014T172021Z
UID:121819-1760464800-1760470200@cevibasel.ch
SUMMARY:Hattrick Gellert (7-12 Jahre)
DESCRIPTION:
URL:https://cevibasel.ch/veranstaltung/hattrick-gellert-7-12-jahre-126/
LOCATION:Fussballplatz Luftmatt
END:VEVENT
BEGIN:VEVENT
DTSTART;TZID=Europe/Zurich:20251014T190000
DTEND;TZID=Europe/Zurich:20251014T203000
DTSTAMP:20260426T052625
CREATED:20240625T134755Z
LAST-MODIFIED:20251014T182008Z
UID:121821-1760468400-1760473800@cevibasel.ch
SUMMARY:Hattrick Riehen (6. bis 7. Klasse)
DESCRIPTION:
URL:https://cevibasel.ch/veranstaltung/hattrick-riehen-6-bis-7-klasse-126/
LOCATION:Fussballplatz Andreasmatte
END:VEVENT
BEGIN:VEVENT
DTSTART;TZID=Europe/Zurich:20251015T083000
DTEND;TZID=Europe/Zurich:20251015T110000
DTSTAMP:20260426T052625
CREATED:20240812T103206Z
LAST-MODIFIED:20251015T085118Z
UID:127873-1760517000-1760526000@cevibasel.ch
SUMMARY:Mütterngruppe
DESCRIPTION:
URL:https://cevibasel.ch/veranstaltung/mutterngruppe-272/
LOCATION:Cevi Seki
END:VEVENT
BEGIN:VEVENT
DTSTART;TZID=Europe/Zurich:20251015T183000
DTEND;TZID=Europe/Zurich:20251015T210000
DTSTAMP:20260426T052625
CREATED:20240625T134755Z
LAST-MODIFIED:20251015T185118Z
UID:121822-1760553000-1760562000@cevibasel.ch
SUMMARY:Ten Sing
DESCRIPTION:
URL:https://cevibasel.ch/veranstaltung/ten-sing-125/
LOCATION:CVJM Haus Kleinbasel
END:VEVENT
BEGIN:VEVENT
DTSTART;TZID=Europe/Zurich:20251016T080000
DTEND;TZID=Europe/Zurich:20251016T103000
DTSTAMP:20260426T052625
CREATED:20240625T134755Z
LAST-MODIFIED:20240812T100019Z
UID:121823-1760601600-1760610600@cevibasel.ch
SUMMARY:Mütterngruppe
DESCRIPTION:
URL:https://cevibasel.ch/veranstaltung/muetterngruppe-73/
LOCATION:Cevi Seki
END:VEVENT
BEGIN:VEVENT
DTSTART;TZID=Europe/Zurich:20251017T173000
DTEND;TZID=Europe/Zurich:20251017T190000
DTSTAMP:20260426T052625
CREATED:20240625T134756Z
LAST-MODIFIED:20251017T164948Z
UID:121824-1760722200-1760727600@cevibasel.ch
SUMMARY:Hattrick Basel West (7-15 Jahre)
DESCRIPTION:
URL:https://cevibasel.ch/veranstaltung/hattrick-basel-west-7-15-jahre-126/
END:VEVENT
BEGIN:VEVENT
DTSTART;TZID=Europe/Zurich:20251017T173000
DTEND;TZID=Europe/Zurich:20251017T190000
DTSTAMP:20260426T052625
CREATED:20240625T134759Z
LAST-MODIFIED:20251017T164948Z
UID:121826-1760722200-1760727600@cevibasel.ch
SUMMARY:Hattrick Riehen (4. bis 5. Klasse)
DESCRIPTION:
URL:https://cevibasel.ch/veranstaltung/hattrick-riehen-4-bis-5-klasse-126/
LOCATION:Andreasmatte
END:VEVENT
BEGIN:VEVENT
DTSTART;TZID=Europe/Zurich:20251017T190000
DTEND;TZID=Europe/Zurich:20251017T203000
DTSTAMP:20260426T052625
CREATED:20240625T134756Z
LAST-MODIFIED:20251017T182001Z
UID:121825-1760727600-1760733000@cevibasel.ch
SUMMARY:Hattrick Basel West (16-18 Jahre)
DESCRIPTION:
URL:https://cevibasel.ch/veranstaltung/hattrick-basel-west-16-18-jahre-126/
LOCATION:Fussballfelder Pfaffenholz
END:VEVENT
BEGIN:VEVENT
DTSTART;TZID=Europe/Zurich:20251018T133000
DTEND;TZID=Europe/Zurich:20251018T153000
DTSTAMP:20260426T052625
CREATED:20240625T134804Z
LAST-MODIFIED:20251018T132031Z
UID:121832-1760794200-1760801400@cevibasel.ch
SUMMARY:Hattrick Gundeli (6-11 Jahre)
DESCRIPTION:
URL:https://cevibasel.ch/veranstaltung/hattrick-gundeli-6-11-jahre-126/
LOCATION:Margarethenpark
END:VEVENT
BEGIN:VEVENT
DTSTART;TZID=Europe/Zurich:20251018T140000
DTEND;TZID=Europe/Zurich:20251018T170000
DTSTAMP:20260426T052625
CREATED:20240625T134800Z
LAST-MODIFIED:20251018T145219Z
UID:121828-1760796000-1760806800@cevibasel.ch
SUMMARY:Jungschi Ettigen & Therwil
DESCRIPTION:
URL:https://cevibasel.ch/veranstaltung/jungschi-ettigen-therwil-126/
END:VEVENT
BEGIN:VEVENT
DTSTART;TZID=Europe/Zurich:20251018T140000
DTEND;TZID=Europe/Zurich:20251018T170000
DTSTAMP:20260426T052625
CREATED:20240625T134800Z
LAST-MODIFIED:20251018T145219Z
UID:121829-1760796000-1760806800@cevibasel.ch
SUMMARY:Jungschi Titus
DESCRIPTION:
URL:https://cevibasel.ch/veranstaltung/jungschi-titus-126/
END:VEVENT
BEGIN:VEVENT
DTSTART;TZID=Europe/Zurich:20251018T140000
DTEND;TZID=Europe/Zurich:20251018T170000
DTSTAMP:20260426T052625
CREATED:20240625T134800Z
LAST-MODIFIED:20241105T110034Z
UID:121830-1760796000-1760806800@cevibasel.ch
SUMMARY:Jungschi Reinach
DESCRIPTION:
URL:https://cevibasel.ch/veranstaltung/jungschi-reinach-126/
END:VEVENT
BEGIN:VEVENT
DTSTART;TZID=Europe/Zurich:20251018T140000
DTEND;TZID=Europe/Zurich:20251018T170000
DTSTAMP:20260426T052625
CREATED:20240625T134800Z
LAST-MODIFIED:20251018T145219Z
UID:121827-1760796000-1760806800@cevibasel.ch
SUMMARY:Jungschi Gotthelf-Neubad
DESCRIPTION:
URL:https://cevibasel.ch/veranstaltung/jungschi-gotthelf-neubad-126/
END:VEVENT
BEGIN:VEVENT
DTSTART;TZID=Europe/Zurich:20251018T140000
DTEND;TZID=Europe/Zurich:20251018T170000
DTSTAMP:20260426T052625
CREATED:20240625T134804Z
LAST-MODIFIED:20241105T110034Z
UID:121833-1760796000-1760806800@cevibasel.ch
SUMMARY:Jungschi Muttenz
DESCRIPTION:
URL:https://cevibasel.ch/veranstaltung/jungschi-muttenz-126/
END:VEVENT
BEGIN:VEVENT
DTSTART;TZID=Europe/Zurich:20251018T140000
DTEND;TZID=Europe/Zurich:20251018T170000
DTSTAMP:20260426T052625
CREATED:20240625T134804Z
LAST-MODIFIED:20251018T145230Z
UID:121834-1760796000-1760806800@cevibasel.ch
SUMMARY:Jungschi Allschwil
DESCRIPTION:
URL:https://cevibasel.ch/veranstaltung/jungschi-allschwil-126/
END:VEVENT
BEGIN:VEVENT
DTSTART;TZID=Europe/Zurich:20251018T140000
DTEND;TZID=Europe/Zurich:20251018T170000
DTSTAMP:20260426T052625
CREATED:20240625T134804Z
LAST-MODIFIED:20251018T145230Z
UID:121835-1760796000-1760806800@cevibasel.ch
SUMMARY:Jungschi Thomas
DESCRIPTION:
URL:https://cevibasel.ch/veranstaltung/jungschi-thomas-126/
END:VEVENT
END:VCALENDAR