BEGIN:VCALENDAR
VERSION:2.0
PRODID:-//Cevi Region Basel - ECPv6.15.20//NONSGML v1.0//EN
CALSCALE:GREGORIAN
METHOD:PUBLISH
X-WR-CALNAME:Cevi Region Basel
X-ORIGINAL-URL:https://cevibasel.ch
X-WR-CALDESC:Events for Cevi Region Basel
REFRESH-INTERVAL;VALUE=DURATION:PT1H
X-Robots-Tag:noindex
X-PUBLISHED-TTL:PT1H
BEGIN:VTIMEZONE
TZID:Europe/Zurich
BEGIN:DAYLIGHT
TZOFFSETFROM:+0100
TZOFFSETTO:+0200
TZNAME:CEST
DTSTART:20220327T010000
END:DAYLIGHT
BEGIN:STANDARD
TZOFFSETFROM:+0200
TZOFFSETTO:+0100
TZNAME:CET
DTSTART:20221030T010000
END:STANDARD
BEGIN:DAYLIGHT
TZOFFSETFROM:+0100
TZOFFSETTO:+0200
TZNAME:CEST
DTSTART:20230326T010000
END:DAYLIGHT
BEGIN:STANDARD
TZOFFSETFROM:+0200
TZOFFSETTO:+0100
TZNAME:CET
DTSTART:20231029T010000
END:STANDARD
BEGIN:DAYLIGHT
TZOFFSETFROM:+0100
TZOFFSETTO:+0200
TZNAME:CEST
DTSTART:20240331T010000
END:DAYLIGHT
BEGIN:STANDARD
TZOFFSETFROM:+0200
TZOFFSETTO:+0100
TZNAME:CET
DTSTART:20241027T010000
END:STANDARD
END:VTIMEZONE
BEGIN:VEVENT
DTSTART;TZID=Europe/Zurich:20230627T180000
DTEND;TZID=Europe/Zurich:20230627T193000
DTSTAMP:20260426T060003
CREATED:20230517T101659Z
LAST-MODIFIED:20230627T172634Z
UID:111766-1687888800-1687894200@cevibasel.ch
SUMMARY:Hattrick Gellert (7-12 Jahre)
DESCRIPTION:
URL:https://cevibasel.ch/veranstaltung/hattrick-gellert-7-12-jahre-6/
LOCATION:Fussballplatz Luftmatt
END:VEVENT
BEGIN:VEVENT
DTSTART;TZID=Europe/Zurich:20230627T190000
DTEND;TZID=Europe/Zurich:20230627T203000
DTSTAMP:20260426T060003
CREATED:20230517T103244Z
LAST-MODIFIED:20230627T182049Z
UID:111930-1687892400-1687897800@cevibasel.ch
SUMMARY:Hattrick Riehen (6. bis 7. Klasse)
DESCRIPTION:
URL:https://cevibasel.ch/veranstaltung/hattrick-riehen-6-bis-7-klasse-6/
LOCATION:Fussballplatz Andreasmatte
END:VEVENT
BEGIN:VEVENT
DTSTART;VALUE=DATE:20230628
DTEND;VALUE=DATE:20230629
DTSTAMP:20260426T060003
CREATED:20230505T103655Z
LAST-MODIFIED:20230517T101906Z
UID:109181-1687910400-1687996799@cevibasel.ch
SUMMARY:Spielgruppe\, 8.30-11.30 Uhr
DESCRIPTION:
URL:https://cevibasel.ch/veranstaltung/spielgruppe-8-30-11-30-uhr-16/
END:VEVENT
BEGIN:VEVENT
DTSTART;VALUE=DATE:20230628
DTEND;VALUE=DATE:20230629
DTSTAMP:20260426T060003
CREATED:20230508T085707Z
LAST-MODIFIED:20230517T101756Z
UID:110483-1687910400-1687996799@cevibasel.ch
SUMMARY:Beachvolleyball 16.00-18.00 Uhr\, im Rankhof
DESCRIPTION:
URL:https://cevibasel.ch/veranstaltung/beachvolleyball-16-00-18-00-uhr-im-rankhof-8/
END:VEVENT
BEGIN:VEVENT
DTSTART;VALUE=DATE:20230628
DTEND;VALUE=DATE:20230629
DTSTAMP:20260426T060003
CREATED:20230516T095939Z
LAST-MODIFIED:20230517T101756Z
UID:111156-1687910400-1687996799@cevibasel.ch
SUMMARY:Ten Sing\, 18.30-21.00
DESCRIPTION:
URL:https://cevibasel.ch/veranstaltung/ten-sing-18-30-21-00-6/
END:VEVENT
BEGIN:VEVENT
DTSTART;VALUE=DATE:20230628
DTEND;VALUE=DATE:20230629
DTSTAMP:20260426T060003
CREATED:20230516T100024Z
LAST-MODIFIED:20230517T101759Z
UID:111157-1687910400-1687996799@cevibasel.ch
SUMMARY:Limitless\, 18.00-19.45
DESCRIPTION:
URL:https://cevibasel.ch/veranstaltung/limitless-18-00-19-45-6/
END:VEVENT
BEGIN:VEVENT
DTSTART;TZID=Europe/Zurich:20230628T083000
DTEND;TZID=Europe/Zurich:20230628T113000
DTSTAMP:20260426T060003
CREATED:20230517T103244Z
LAST-MODIFIED:20230628T092207Z
UID:111932-1687941000-1687951800@cevibasel.ch
SUMMARY:Spielgruppe
DESCRIPTION:
URL:https://cevibasel.ch/veranstaltung/spielgruppe-12/
LOCATION:Cevi Seki
END:VEVENT
BEGIN:VEVENT
DTSTART;TZID=Europe/Zurich:20230628T160000
DTEND;TZID=Europe/Zurich:20230628T180000
DTSTAMP:20260426T060003
CREATED:20230517T103247Z
LAST-MODIFIED:20230628T155615Z
UID:111933-1687968000-1687975200@cevibasel.ch
SUMMARY:Beachvolleyballtraining
DESCRIPTION:
URL:https://cevibasel.ch/veranstaltung/beachvolleyballtraining-30/
LOCATION:Beachfelder Rankhof
END:VEVENT
BEGIN:VEVENT
DTSTART;TZID=Europe/Zurich:20230628T180000
DTEND;TZID=Europe/Zurich:20230628T194500
DTSTAMP:20260426T060003
CREATED:20230517T103247Z
LAST-MODIFIED:20230628T173909Z
UID:111935-1687975200-1687981500@cevibasel.ch
SUMMARY:Limitless Parkour & Freerunning
DESCRIPTION:
URL:https://cevibasel.ch/veranstaltung/limitless-parkour-freerunning-5/
LOCATION:Turnhalle Sekundarschule St. Alban
END:VEVENT
BEGIN:VEVENT
DTSTART;TZID=Europe/Zurich:20230628T183000
DTEND;TZID=Europe/Zurich:20230628T210000
DTSTAMP:20260426T060003
CREATED:20230517T103247Z
LAST-MODIFIED:20230628T185031Z
UID:111934-1687977000-1687986000@cevibasel.ch
SUMMARY:Ten Sing
DESCRIPTION:
URL:https://cevibasel.ch/veranstaltung/ten-sing-5/
LOCATION:CVJM Haus Kleinbasel
END:VEVENT
BEGIN:VEVENT
DTSTART;VALUE=DATE:20230629
DTEND;VALUE=DATE:20230630
DTSTAMP:20260426T060003
CREATED:20230505T121030Z
LAST-MODIFIED:20230517T101759Z
UID:109291-1687996800-1688083199@cevibasel.ch
SUMMARY:Café Emma\, 9.30-11.30 Uhr
DESCRIPTION:
URL:https://cevibasel.ch/veranstaltung/cafe-emma-9-30-11-30-uhr-14/
END:VEVENT
BEGIN:VEVENT
DTSTART;VALUE=DATE:20230629
DTEND;VALUE=DATE:20230630
DTSTAMP:20260426T060003
CREATED:20230508T085707Z
LAST-MODIFIED:20230517T101756Z
UID:110484-1687996800-1688083199@cevibasel.ch
SUMMARY:Beachvolleyball 20.00-22.00 Uhr\, im Rankhof
DESCRIPTION:
URL:https://cevibasel.ch/veranstaltung/beachvolleyball-20-00-22-00-uhr-im-rankhof-7/
END:VEVENT
BEGIN:VEVENT
DTSTART;TZID=Europe/Zurich:20230629T080000
DTEND;TZID=Europe/Zurich:20230629T103000
DTSTAMP:20260426T060003
CREATED:20230517T103247Z
LAST-MODIFIED:20230629T082139Z
UID:111936-1688025600-1688034600@cevibasel.ch
SUMMARY:Mütterngruppe
DESCRIPTION:
URL:https://cevibasel.ch/veranstaltung/muetterngruppe-7/
LOCATION:Cevi Seki
END:VEVENT
BEGIN:VEVENT
DTSTART;TZID=Europe/Zurich:20230629T093000
DTEND;TZID=Europe/Zurich:20230629T113000
DTSTAMP:20260426T060003
CREATED:20230517T103247Z
LAST-MODIFIED:20230629T092729Z
UID:111937-1688031000-1688038200@cevibasel.ch
SUMMARY:Café Emma\, 9.30-11.30 Uhr
DESCRIPTION:
URL:https://cevibasel.ch/veranstaltung/cafe-emma-9-30-11-30-uhr-214/
LOCATION:hyve Hotel
END:VEVENT
BEGIN:VEVENT
DTSTART;TZID=Europe/Zurich:20230629T200000
DTEND;TZID=Europe/Zurich:20230629T220000
DTSTAMP:20260426T060003
CREATED:20230517T103253Z
LAST-MODIFIED:20230629T195139Z
UID:111938-1688068800-1688076000@cevibasel.ch
SUMMARY:Beachvolleyballtraining
DESCRIPTION:
URL:https://cevibasel.ch/veranstaltung/beachvolleyballtraining-31/
LOCATION:Beachfelder Rankhof
END:VEVENT
BEGIN:VEVENT
DTSTART;VALUE=DATE:20230630
DTEND;VALUE=DATE:20230701
DTSTAMP:20260426T060003
CREATED:20230505T103941Z
LAST-MODIFIED:20230517T101756Z
UID:109183-1688083200-1688169599@cevibasel.ch
SUMMARY:Spielgruppe\, 8.30-11.30 Uhr
DESCRIPTION:
URL:https://cevibasel.ch/veranstaltung/spielgruppe-8-30-11-30-uhr-17/
END:VEVENT
BEGIN:VEVENT
DTSTART;VALUE=DATE:20230630
DTEND;VALUE=DATE:20230701
DTSTAMP:20260426T060003
CREATED:20230505T121109Z
LAST-MODIFIED:20230517T101906Z
UID:109292-1688083200-1688169599@cevibasel.ch
SUMMARY:Café Emma\, 9.30-11.30 Uhr
DESCRIPTION:
URL:https://cevibasel.ch/veranstaltung/cafe-emma-9-30-11-30-uhr-15/
END:VEVENT
BEGIN:VEVENT
DTSTART;VALUE=DATE:20230630
DTEND;VALUE=DATE:20230701
DTSTAMP:20260426T060003
CREATED:20230508T085753Z
LAST-MODIFIED:20230517T101906Z
UID:110485-1688083200-1688169599@cevibasel.ch
SUMMARY:Beachvolleyball 19.00-21.00 Uhr\, im Joggeli
DESCRIPTION:
URL:https://cevibasel.ch/veranstaltung/beachvolleyball-19-00-21-00-uhr-im-joggeli-7/
END:VEVENT
BEGIN:VEVENT
DTSTART;VALUE=DATE:20230630
DTEND;VALUE=DATE:20230701
DTSTAMP:20260426T060003
CREATED:20230516T100111Z
LAST-MODIFIED:20230517T101906Z
UID:111158-1688083200-1688169599@cevibasel.ch
SUMMARY:Hattrick Basel West (7-15 Jahre)\, 17.30-19.00
DESCRIPTION:
URL:https://cevibasel.ch/veranstaltung/hattrick-basel-west-7-15-jahre-17-30-19-00-7/
END:VEVENT
BEGIN:VEVENT
DTSTART;VALUE=DATE:20230630
DTEND;VALUE=DATE:20230701
DTSTAMP:20260426T060003
CREATED:20230516T100116Z
LAST-MODIFIED:20230517T101759Z
UID:111162-1688083200-1688169599@cevibasel.ch
SUMMARY:Hattrick Riehen (4. bis 5. Klasse)\, 17.30-19.00
DESCRIPTION:
URL:https://cevibasel.ch/veranstaltung/hattrick-riehen-4-bis-5-klasse-17-30-19-00-7/
END:VEVENT
BEGIN:VEVENT
DTSTART;VALUE=DATE:20230630
DTEND;VALUE=DATE:20230701
DTSTAMP:20260426T060003
CREATED:20230516T100116Z
LAST-MODIFIED:20230517T101906Z
UID:111159-1688083200-1688169599@cevibasel.ch
SUMMARY:Hattrick Basel West (16-18 Jahre)\, 19.00-20.30
DESCRIPTION:
URL:https://cevibasel.ch/veranstaltung/hattrick-basel-west-16-18-jahre-19-00-20-30-7/
END:VEVENT
BEGIN:VEVENT
DTSTART;TZID=Europe/Zurich:20230630T083000
DTEND;TZID=Europe/Zurich:20230630T113000
DTSTAMP:20260426T060003
CREATED:20230517T103253Z
LAST-MODIFIED:20230630T092332Z
UID:111940-1688113800-1688124600@cevibasel.ch
SUMMARY:Spielgruppe
DESCRIPTION:
URL:https://cevibasel.ch/veranstaltung/spielgruppe-13/
LOCATION:Cevi Seki
END:VEVENT
BEGIN:VEVENT
DTSTART;TZID=Europe/Zurich:20230630T093000
DTEND;TZID=Europe/Zurich:20230630T113000
DTSTAMP:20260426T060003
CREATED:20230517T103253Z
LAST-MODIFIED:20230630T092332Z
UID:111939-1688117400-1688124600@cevibasel.ch
SUMMARY:Café Emma
DESCRIPTION:
URL:https://cevibasel.ch/veranstaltung/cafe-emma-7/
LOCATION:hyve Hotel
END:VEVENT
BEGIN:VEVENT
DTSTART;TZID=Europe/Zurich:20230630T173000
DTEND;TZID=Europe/Zurich:20230630T190000
DTSTAMP:20260426T060003
CREATED:20230517T103253Z
LAST-MODIFIED:20230630T165106Z
UID:111941-1688146200-1688151600@cevibasel.ch
SUMMARY:Hattrick Riehen (4. bis 5. Klasse)
DESCRIPTION:
URL:https://cevibasel.ch/veranstaltung/hattrick-riehen-4-bis-5-klasse-6/
LOCATION:Andreasmatte
END:VEVENT
BEGIN:VEVENT
DTSTART;TZID=Europe/Zurich:20230630T173000
DTEND;TZID=Europe/Zurich:20230630T190000
DTSTAMP:20260426T060003
CREATED:20230517T103255Z
LAST-MODIFIED:20230630T165106Z
UID:111944-1688146200-1688151600@cevibasel.ch
SUMMARY:Hattrick Basel West (7-15 Jahre)
DESCRIPTION:
URL:https://cevibasel.ch/veranstaltung/hattrick-basel-west-7-15-jahre-6/
END:VEVENT
BEGIN:VEVENT
DTSTART;TZID=Europe/Zurich:20230630T190000
DTEND;TZID=Europe/Zurich:20230630T203000
DTSTAMP:20260426T060003
CREATED:20230517T103253Z
LAST-MODIFIED:20230630T182555Z
UID:111942-1688151600-1688157000@cevibasel.ch
SUMMARY:Hattrick Basel West (16-18 Jahre)
DESCRIPTION:
URL:https://cevibasel.ch/veranstaltung/hattrick-basel-west-16-18-jahre-6/
LOCATION:Fussballfelder Pfaffenholz
END:VEVENT
BEGIN:VEVENT
DTSTART;TZID=Europe/Zurich:20230630T190000
DTEND;TZID=Europe/Zurich:20230630T210000
DTSTAMP:20260426T060003
CREATED:20230517T103255Z
LAST-MODIFIED:20230630T185839Z
UID:111943-1688151600-1688158800@cevibasel.ch
SUMMARY:Beachvolleyballtraining
DESCRIPTION:
URL:https://cevibasel.ch/veranstaltung/beachvolleyballtraining-32/
LOCATION:Beachfelder St. Jakob
END:VEVENT
BEGIN:VEVENT
DTSTART;VALUE=DATE:20230701
DTEND;VALUE=DATE:20230702
DTSTAMP:20260426T060003
CREATED:20230516T100116Z
LAST-MODIFIED:20230517T101917Z
UID:111161-1688169600-1688255999@cevibasel.ch
SUMMARY:Hattrick Gundeli (6-11 Jahre)\, 13.30-15.30
DESCRIPTION:
URL:https://cevibasel.ch/veranstaltung/hattrick-gundeli-6-11-jahre-13-30-15-30-7/
END:VEVENT
BEGIN:VEVENT
DTSTART;VALUE=DATE:20230701
DTEND;VALUE=DATE:20230702
DTSTAMP:20260426T060003
CREATED:20230516T100116Z
LAST-MODIFIED:20230517T101759Z
UID:111160-1688169600-1688255999@cevibasel.ch
SUMMARY:Div. Jungscharprogramme\, ca. 14.00-17.00
DESCRIPTION:
URL:https://cevibasel.ch/veranstaltung/div-jungscharprogramme-ca-14-00-17-00-3/
END:VEVENT
BEGIN:VEVENT
DTSTART;TZID=Europe/Zurich:20230701T133000
DTEND;TZID=Europe/Zurich:20230701T153000
DTSTAMP:20260426T060003
CREATED:20230517T103255Z
LAST-MODIFIED:20230701T132008Z
UID:111946-1688218200-1688225400@cevibasel.ch
SUMMARY:Hattrick Gundeli (6-11 Jahre)
DESCRIPTION:
URL:https://cevibasel.ch/veranstaltung/hattrick-gundeli-6-11-jahre-6/
LOCATION:Margarethenpark
END:VEVENT
END:VCALENDAR