BEGIN:VCALENDAR
VERSION:2.0
PRODID:-//Cevi Region Basel - ECPv6.15.20//NONSGML v1.0//EN
CALSCALE:GREGORIAN
METHOD:PUBLISH
X-WR-CALNAME:Cevi Region Basel
X-ORIGINAL-URL:https://cevibasel.ch
X-WR-CALDESC:Events for Cevi Region Basel
REFRESH-INTERVAL;VALUE=DURATION:PT1H
X-Robots-Tag:noindex
X-PUBLISHED-TTL:PT1H
BEGIN:VTIMEZONE
TZID:Europe/Zurich
BEGIN:DAYLIGHT
TZOFFSETFROM:+0100
TZOFFSETTO:+0200
TZNAME:CEST
DTSTART:20180325T010000
END:DAYLIGHT
BEGIN:STANDARD
TZOFFSETFROM:+0200
TZOFFSETTO:+0100
TZNAME:CET
DTSTART:20181028T010000
END:STANDARD
BEGIN:DAYLIGHT
TZOFFSETFROM:+0100
TZOFFSETTO:+0200
TZNAME:CEST
DTSTART:20190331T010000
END:DAYLIGHT
BEGIN:STANDARD
TZOFFSETFROM:+0200
TZOFFSETTO:+0100
TZNAME:CET
DTSTART:20191027T010000
END:STANDARD
BEGIN:DAYLIGHT
TZOFFSETFROM:+0100
TZOFFSETTO:+0200
TZNAME:CEST
DTSTART:20200329T010000
END:DAYLIGHT
BEGIN:STANDARD
TZOFFSETFROM:+0200
TZOFFSETTO:+0100
TZNAME:CET
DTSTART:20201025T010000
END:STANDARD
BEGIN:DAYLIGHT
TZOFFSETFROM:+0100
TZOFFSETTO:+0200
TZNAME:CEST
DTSTART:20210328T010000
END:DAYLIGHT
BEGIN:STANDARD
TZOFFSETFROM:+0200
TZOFFSETTO:+0100
TZNAME:CET
DTSTART:20211031T010000
END:STANDARD
END:VTIMEZONE
BEGIN:VTIMEZONE
TZID:Europe/Paris
BEGIN:DAYLIGHT
TZOFFSETFROM:+0100
TZOFFSETTO:+0200
TZNAME:CEST
DTSTART:20180325T010000
END:DAYLIGHT
BEGIN:STANDARD
TZOFFSETFROM:+0200
TZOFFSETTO:+0100
TZNAME:CET
DTSTART:20181028T010000
END:STANDARD
BEGIN:DAYLIGHT
TZOFFSETFROM:+0100
TZOFFSETTO:+0200
TZNAME:CEST
DTSTART:20190331T010000
END:DAYLIGHT
BEGIN:STANDARD
TZOFFSETFROM:+0200
TZOFFSETTO:+0100
TZNAME:CET
DTSTART:20191027T010000
END:STANDARD
BEGIN:DAYLIGHT
TZOFFSETFROM:+0100
TZOFFSETTO:+0200
TZNAME:CEST
DTSTART:20200329T010000
END:DAYLIGHT
BEGIN:STANDARD
TZOFFSETFROM:+0200
TZOFFSETTO:+0100
TZNAME:CET
DTSTART:20201025T010000
END:STANDARD
END:VTIMEZONE
BEGIN:VEVENT
DTSTART;VALUE=DATE:20200612
DTEND;VALUE=DATE:20200613
DTSTAMP:20260424T020614
CREATED:20191224T130216Z
LAST-MODIFIED:20200612T235929Z
UID:77997-1591920000-1592006399@cevibasel.ch
SUMMARY:SOS-Jugendgottesdienst
DESCRIPTION:
URL:https://cevibasel.ch/veranstaltung/sos-jugendgottesdienst-7/
END:VEVENT
BEGIN:VEVENT
DTSTART;VALUE=DATE:20200515
DTEND;VALUE=DATE:20200516
DTSTAMP:20260424T020614
CREATED:20191224T130215Z
LAST-MODIFIED:20200515T223621Z
UID:77993-1589500800-1589587199@cevibasel.ch
SUMMARY:SOS-Jugendgottesdienst
DESCRIPTION:
URL:https://cevibasel.ch/veranstaltung/sos-jugendgottesdienst-6/
END:VEVENT
BEGIN:VEVENT
DTSTART;VALUE=DATE:20200509
DTEND;VALUE=DATE:20200510
DTSTAMP:20260424T020614
CREATED:20191224T130215Z
LAST-MODIFIED:20200509T225926Z
UID:77992-1588982400-1589068799@cevibasel.ch
SUMMARY:Fresh-Workshoptag
DESCRIPTION:
URL:https://cevibasel.ch/veranstaltung/fresh-workshoptag/
END:VEVENT
BEGIN:VEVENT
DTSTART;VALUE=DATE:20200501
DTEND;VALUE=DATE:20200503
DTSTAMP:20260424T020614
CREATED:20191224T130215Z
LAST-MODIFIED:20200423T202228Z
UID:77991-1588291200-1588463999@cevibasel.ch
SUMMARY:J&S-MF
DESCRIPTION:
URL:https://cevibasel.ch/veranstaltung/js-mf/
END:VEVENT
BEGIN:VEVENT
DTSTART;VALUE=DATE:20200425
DTEND;VALUE=DATE:20200426
DTSTAMP:20260424T020614
CREATED:20191224T130214Z
LAST-MODIFIED:20200425T225611Z
UID:77990-1587772800-1587859199@cevibasel.ch
SUMMARY:Hattrickday
DESCRIPTION:
URL:https://cevibasel.ch/veranstaltung/hattrickday-2/
END:VEVENT
BEGIN:VEVENT
DTSTART;VALUE=DATE:20200424
DTEND;VALUE=DATE:20200425
DTSTAMP:20260424T020614
CREATED:20191224T130214Z
LAST-MODIFIED:20200424T225357Z
UID:77989-1587686400-1587772799@cevibasel.ch
SUMMARY:SOS-Jugendgottesdienst
DESCRIPTION:
URL:https://cevibasel.ch/veranstaltung/sos-jugendgottesdienst-5/
END:VEVENT
BEGIN:VEVENT
DTSTART;VALUE=DATE:20200410
DTEND;VALUE=DATE:20200417
DTSTAMP:20260424T020614
CREATED:20191224T130214Z
LAST-MODIFIED:20200416T225459Z
UID:77988-1586476800-1587081599@cevibasel.ch
SUMMARY:J&S-LLM
DESCRIPTION:
URL:https://cevibasel.ch/veranstaltung/js-llm/
END:VEVENT
BEGIN:VEVENT
DTSTART;VALUE=DATE:20200410
DTEND;VALUE=DATE:20200412
DTSTAMP:20260424T020614
CREATED:20191224T130214Z
LAST-MODIFIED:20200411T224548Z
UID:77987-1586476800-1586649599@cevibasel.ch
SUMMARY:J&S-EK-Kindersport
DESCRIPTION:
URL:https://cevibasel.ch/veranstaltung/js-ek-kindersport/
END:VEVENT
BEGIN:VEVENT
DTSTART;VALUE=DATE:20200409
DTEND;VALUE=DATE:20200419
DTSTAMP:20260424T020614
CREATED:20191224T130214Z
LAST-MODIFIED:20200418T225447Z
UID:77986-1586390400-1587254399@cevibasel.ch
SUMMARY:Gruppenleiterkurs
DESCRIPTION:
URL:https://cevibasel.ch/veranstaltung/gruppenleiterkurs/
END:VEVENT
BEGIN:VEVENT
DTSTART;VALUE=DATE:20200328
DTEND;VALUE=DATE:20200329
DTSTAMP:20260424T020614
CREATED:20191224T130214Z
LAST-MODIFIED:20200328T233710Z
UID:77985-1585353600-1585439999@cevibasel.ch
SUMMARY:Vorprüfung-J&S-LLM
DESCRIPTION:
URL:https://cevibasel.ch/veranstaltung/vorpruefung-js-llm/
END:VEVENT
BEGIN:VEVENT
DTSTART;VALUE=DATE:20200327
DTEND;VALUE=DATE:20200328
DTSTAMP:20260424T020614
CREATED:20191224T130214Z
LAST-MODIFIED:20200327T233324Z
UID:77984-1585267200-1585353599@cevibasel.ch
SUMMARY:DV-Cevi-Region-Basel
DESCRIPTION:
URL:https://cevibasel.ch/veranstaltung/dv-cevi-region-basel/
END:VEVENT
BEGIN:VEVENT
DTSTART;VALUE=DATE:20200314
DTEND;VALUE=DATE:20200315
DTSTAMP:20260424T020614
CREATED:20191223T124704Z
LAST-MODIFIED:20200314T235817Z
UID:77862-1584144000-1584230399@cevibasel.ch
SUMMARY:Hattrick Season Opening
DESCRIPTION:
URL:https://cevibasel.ch/veranstaltung/hattrick-season-opening/
END:VEVENT
BEGIN:VEVENT
DTSTART;VALUE=DATE:20200313
DTEND;VALUE=DATE:20200314
DTSTAMP:20260424T020614
CREATED:20191223T124704Z
LAST-MODIFIED:20200313T235110Z
UID:77861-1584057600-1584143999@cevibasel.ch
SUMMARY:SOS-Jugendgottesdienst
DESCRIPTION:
URL:https://cevibasel.ch/veranstaltung/sos-jugendgottesdienst-4/
END:VEVENT
BEGIN:VEVENT
DTSTART;VALUE=DATE:20200311
DTEND;VALUE=DATE:20200312
DTSTAMP:20260424T020614
CREATED:20191223T124703Z
LAST-MODIFIED:20200311T235106Z
UID:77860-1583884800-1583971199@cevibasel.ch
SUMMARY:J&S-Kader- &-Coachtreffen
DESCRIPTION:
URL:https://cevibasel.ch/veranstaltung/js-kader-coachtreffen/
END:VEVENT
BEGIN:VEVENT
DTSTART;VALUE=DATE:20200229
DTEND;VALUE=DATE:20200308
DTSTAMP:20260424T020614
CREATED:20191223T124703Z
LAST-MODIFIED:20200307T235927Z
UID:77859-1582934400-1583625599@cevibasel.ch
SUMMARY:Snowcamp Cevi/Gellert
DESCRIPTION:
URL:https://cevibasel.ch/veranstaltung/snowcamp-cevi-gellert/
END:VEVENT
BEGIN:VEVENT
DTSTART;VALUE=DATE:20200216
DTEND;VALUE=DATE:20200217
DTSTAMP:20260424T020614
CREATED:20191223T124703Z
LAST-MODIFIED:20200216T233508Z
UID:77858-1581811200-1581897599@cevibasel.ch
SUMMARY:Frösch-Up-Cevi-CH
DESCRIPTION:
URL:https://cevibasel.ch/veranstaltung/froesch-up-cevi-ch/
END:VEVENT
BEGIN:VEVENT
DTSTART;VALUE=DATE:20200215
DTEND;VALUE=DATE:20200216
DTSTAMP:20260424T020614
CREATED:20191223T124703Z
LAST-MODIFIED:20200215T232013Z
UID:77857-1581724800-1581811199@cevibasel.ch
SUMMARY:Worship Cafe
DESCRIPTION:
URL:https://cevibasel.ch/veranstaltung/worship-cafe-2/
END:VEVENT
BEGIN:VEVENT
DTSTART;VALUE=DATE:20200208
DTEND;VALUE=DATE:20200209
DTSTAMP:20260424T020614
CREATED:20191223T124703Z
LAST-MODIFIED:20200208T235014Z
UID:77856-1581120000-1581206399@cevibasel.ch
SUMMARY:Hattrickday
DESCRIPTION:
URL:https://cevibasel.ch/veranstaltung/hattrickday/
END:VEVENT
BEGIN:VEVENT
DTSTART;VALUE=DATE:20200207
DTEND;VALUE=DATE:20200208
DTSTAMP:20260424T020614
CREATED:20191223T124702Z
LAST-MODIFIED:20200207T230812Z
UID:77855-1581033600-1581119999@cevibasel.ch
SUMMARY:SOS-Jugendgottesdienst
DESCRIPTION:
URL:https://cevibasel.ch/veranstaltung/sos-jugendgottesdienst-3/
END:VEVENT
BEGIN:VEVENT
DTSTART;VALUE=DATE:20200124
DTEND;VALUE=DATE:20200127
DTSTAMP:20260424T020614
CREATED:20191223T124702Z
LAST-MODIFIED:20200126T233622Z
UID:77854-1579824000-1580083199@cevibasel.ch
SUMMARY:L-Retraite
DESCRIPTION:
URL:https://cevibasel.ch/veranstaltung/l-retraite/
END:VEVENT
BEGIN:VEVENT
DTSTART;VALUE=DATE:20200118
DTEND;VALUE=DATE:20200119
DTSTAMP:20260424T020614
CREATED:20191223T124702Z
LAST-MODIFIED:20200118T233745Z
UID:77853-1579305600-1579391999@cevibasel.ch
SUMMARY:Soccernight Hattrick Trainer
DESCRIPTION:
URL:https://cevibasel.ch/veranstaltung/soccernight-hattrick-trainer/
END:VEVENT
BEGIN:VEVENT
DTSTART;VALUE=DATE:20200117
DTEND;VALUE=DATE:20200120
DTSTAMP:20260424T020614
CREATED:20191223T124702Z
LAST-MODIFIED:20200119T231719Z
UID:77852-1579219200-1579478399@cevibasel.ch
SUMMARY:72h-Aktion
DESCRIPTION:
URL:https://cevibasel.ch/veranstaltung/72h-aktion/
END:VEVENT
BEGIN:VEVENT
DTSTART;VALUE=DATE:20200117
DTEND;VALUE=DATE:20200118
DTSTAMP:20260424T020614
CREATED:20191223T124702Z
LAST-MODIFIED:20200117T232338Z
UID:77851-1579219200-1579305599@cevibasel.ch
SUMMARY:SOS-Jugendgottesdienst
DESCRIPTION:
URL:https://cevibasel.ch/veranstaltung/sos-jugendgottesdienst-2/
END:VEVENT
BEGIN:VEVENT
DTSTART;TZID=Europe/Zurich:20200112T100000
DTEND;TZID=Europe/Zurich:20200112T140000
DTSTAMP:20260424T020614
CREATED:20200108T093734Z
LAST-MODIFIED:20200112T230943Z
UID:78366-1578823200-1578837600@cevibasel.ch
SUMMARY:Jugendallianzgottesdienst
DESCRIPTION:
URL:https://cevibasel.ch/veranstaltung/jugendallianzgottesdienst/
END:VEVENT
BEGIN:VEVENT
DTSTART;VALUE=DATE:20191108
DTEND;VALUE=DATE:20191109
DTSTAMP:20260424T020614
CREATED:20190815T100725Z
LAST-MODIFIED:20190815T101624Z
UID:75889-1573171200-1573257599@cevibasel.ch
SUMMARY:SOS-Jugendgottesdienst
DESCRIPTION:
URL:https://cevibasel.ch/veranstaltung/sos-jugendgottesdienst/
END:VEVENT
BEGIN:VEVENT
DTSTART;VALUE=DATE:20191207
DTEND;VALUE=DATE:20191208
DTSTAMP:20260424T020614
CREATED:20190815T101216Z
LAST-MODIFIED:20191115T163939Z
UID:75904-1575676800-1575763199@cevibasel.ch
SUMMARY:Winternachtsfest
DESCRIPTION:Anmeldung unter:  https://forms.gle/3SNr7TbstGm9Jo4F8 
URL:https://cevibasel.ch/veranstaltung/winternachtsfest/
LOCATION:Eulerstrasse 9 Basel
END:VEVENT
BEGIN:VEVENT
DTSTART;VALUE=DATE:20191130
DTEND;VALUE=DATE:20191201
DTSTAMP:20260424T020614
CREATED:20191107T160227Z
LAST-MODIFIED:20191129T231037Z
UID:76328-1575072000-1575158399@cevibasel.ch
SUMMARY:Hattrick Cup / Dankesessen
DESCRIPTION:
URL:https://cevibasel.ch/veranstaltung/hattrick-cup-dankesessen/
END:VEVENT
BEGIN:VEVENT
DTSTART;VALUE=DATE:20191130
DTEND;VALUE=DATE:20191201
DTSTAMP:20260424T020614
CREATED:20190815T101521Z
LAST-MODIFIED:20190815T101521Z
UID:75910-1575072000-1575158399@cevibasel.ch
SUMMARY:Worship Cafe
DESCRIPTION:
URL:https://cevibasel.ch/veranstaltung/worship-cafe/
END:VEVENT
BEGIN:VEVENT
DTSTART;VALUE=DATE:20191130
DTEND;VALUE=DATE:20191201
DTSTAMP:20260424T020614
CREATED:20190815T101153Z
LAST-MODIFIED:20190815T101153Z
UID:75902-1575072000-1575158399@cevibasel.ch
SUMMARY:Hattrick Cup
DESCRIPTION:
URL:https://cevibasel.ch/veranstaltung/hattrick-cup/
END:VEVENT
BEGIN:VEVENT
DTSTART;VALUE=DATE:20191123
DTEND;VALUE=DATE:20191124
DTSTAMP:20260424T020614
CREATED:20190815T101052Z
LAST-MODIFIED:20190815T101115Z
UID:75899-1574467200-1574553599@cevibasel.ch
SUMMARY:Ten Sing Show Basel
DESCRIPTION:
URL:https://cevibasel.ch/veranstaltung/ten-sing-show-basel/
END:VEVENT
END:VCALENDAR