BEGIN:VCALENDAR
VERSION:2.0
PRODID:-//Cevi Region Basel - ECPv6.15.20//NONSGML v1.0//EN
CALSCALE:GREGORIAN
METHOD:PUBLISH
X-ORIGINAL-URL:https://cevibasel.ch
X-WR-CALDESC:Events for Cevi Region Basel
REFRESH-INTERVAL;VALUE=DURATION:PT1H
X-Robots-Tag:noindex
X-PUBLISHED-TTL:PT1H
BEGIN:VTIMEZONE
TZID:Europe/Zurich
BEGIN:DAYLIGHT
TZOFFSETFROM:+0100
TZOFFSETTO:+0200
TZNAME:CEST
DTSTART:20210328T010000
END:DAYLIGHT
BEGIN:STANDARD
TZOFFSETFROM:+0200
TZOFFSETTO:+0100
TZNAME:CET
DTSTART:20211031T010000
END:STANDARD
BEGIN:DAYLIGHT
TZOFFSETFROM:+0100
TZOFFSETTO:+0200
TZNAME:CEST
DTSTART:20220327T010000
END:DAYLIGHT
BEGIN:STANDARD
TZOFFSETFROM:+0200
TZOFFSETTO:+0100
TZNAME:CET
DTSTART:20221030T010000
END:STANDARD
BEGIN:DAYLIGHT
TZOFFSETFROM:+0100
TZOFFSETTO:+0200
TZNAME:CEST
DTSTART:20230326T010000
END:DAYLIGHT
BEGIN:STANDARD
TZOFFSETFROM:+0200
TZOFFSETTO:+0100
TZNAME:CET
DTSTART:20231029T010000
END:STANDARD
BEGIN:DAYLIGHT
TZOFFSETFROM:+0100
TZOFFSETTO:+0200
TZNAME:CEST
DTSTART:20240331T010000
END:DAYLIGHT
BEGIN:STANDARD
TZOFFSETFROM:+0200
TZOFFSETTO:+0100
TZNAME:CET
DTSTART:20241027T010000
END:STANDARD
END:VTIMEZONE
BEGIN:VEVENT
DTSTART;VALUE=DATE:20221222
DTEND;VALUE=DATE:20221224
DTSTAMP:20260423T225545
CREATED:20220203T154421Z
LAST-MODIFIED:20221223T230517Z
UID:95963-1671667200-1671839999@cevibasel.ch
SUMMARY:Praisecamp - Aufbau?
DESCRIPTION:
URL:https://cevibasel.ch/veranstaltung/praisecamp-aufbau/
END:VEVENT
BEGIN:VEVENT
DTSTART;VALUE=DATE:20221227
DTEND;VALUE=DATE:20230102
DTSTAMP:20260423T225545
CREATED:20220203T154421Z
LAST-MODIFIED:20230101T233548Z
UID:95964-1672099200-1672617599@cevibasel.ch
SUMMARY:Praisecamp
DESCRIPTION:
URL:https://cevibasel.ch/veranstaltung/praisecamp/
END:VEVENT
BEGIN:VEVENT
DTSTART;VALUE=DATE:20230127
DTEND;VALUE=DATE:20230130
DTSTAMP:20260423T225545
CREATED:20200127T112917Z
LAST-MODIFIED:20221124T171930Z
UID:78765-1674777600-1675036799@cevibasel.ch
SUMMARY:L-Retraite 2023
DESCRIPTION:Wird geladen…
URL:https://cevibasel.ch/veranstaltung/l-retraite-2021/
END:VEVENT
BEGIN:VEVENT
DTSTART;VALUE=DATE:20230127
DTEND;VALUE=DATE:20230130
DTSTAMP:20260423T225545
CREATED:20220326T163914Z
LAST-MODIFIED:20230129T235025Z
UID:97337-1674777600-1675036799@cevibasel.ch
SUMMARY:L-Retraite
DESCRIPTION:
URL:https://cevibasel.ch/veranstaltung/l-retraite-2/
END:VEVENT
BEGIN:VEVENT
DTSTART;VALUE=DATE:20230204
DTEND;VALUE=DATE:20230205
DTSTAMP:20260423T225545
CREATED:20221019T090514Z
LAST-MODIFIED:20230204T232050Z
UID:103337-1675468800-1675555199@cevibasel.ch
SUMMARY:Ehetag
DESCRIPTION:
URL:https://cevibasel.ch/veranstaltung/ehetag/
END:VEVENT
BEGIN:VEVENT
DTSTART;VALUE=DATE:20230204
DTEND;VALUE=DATE:20230206
DTSTAMP:20260423T225545
CREATED:20220712T171839Z
LAST-MODIFIED:20230205T232045Z
UID:100178-1675468800-1675641599@cevibasel.ch
SUMMARY:J&S-Coachkurs
DESCRIPTION:
URL:https://cevibasel.ch/veranstaltung/js-coachkurs-2/
END:VEVENT
BEGIN:VEVENT
DTSTART;VALUE=DATE:20230209
DTEND;VALUE=DATE:20230210
DTSTAMP:20260423T225545
CREATED:20220714T164248Z
LAST-MODIFIED:20230209T204617Z
UID:100226-1675900800-1675987199@cevibasel.ch
SUMMARY:J&S-Coachweiterbildung
DESCRIPTION:
URL:https://cevibasel.ch/veranstaltung/js-coachweiterbildung/
END:VEVENT
BEGIN:VEVENT
DTSTART;VALUE=DATE:20230211
DTEND;VALUE=DATE:20230219
DTSTAMP:20260423T225545
CREATED:20220506T124242Z
LAST-MODIFIED:20220523T112356Z
UID:98316-1676073600-1676764799@cevibasel.ch
SUMMARY:Prov. Snowcamp JE
DESCRIPTION:
URL:https://cevibasel.ch/veranstaltung/prov-snowcamp-je/
END:VEVENT
BEGIN:VEVENT
DTSTART;VALUE=DATE:20230211
DTEND;VALUE=DATE:20230219
DTSTAMP:20260423T225545
CREATED:20220523T120619Z
LAST-MODIFIED:20230218T233637Z
UID:98710-1676073600-1676764799@cevibasel.ch
SUMMARY:Junge-Erwachsene Snowcamp
DESCRIPTION:
URL:https://cevibasel.ch/veranstaltung/junge-erwachsene-snowcamp/
END:VEVENT
BEGIN:VEVENT
DTSTART;VALUE=DATE:20230218
DTEND;VALUE=DATE:20230226
DTSTAMP:20260423T225545
CREATED:20220203T154421Z
LAST-MODIFIED:20230225T232256Z
UID:95966-1676678400-1677369599@cevibasel.ch
SUMMARY:Regioskilager
DESCRIPTION:
URL:https://cevibasel.ch/veranstaltung/regioskilager-2/
END:VEVENT
BEGIN:VEVENT
DTSTART;VALUE=DATE:20230225
DTEND;VALUE=DATE:20230305
DTSTAMP:20260423T225545
CREATED:20220815T114756Z
LAST-MODIFIED:20230304T232104Z
UID:101009-1677283200-1677974399@cevibasel.ch
SUMMARY:Tourencamp Cevi
DESCRIPTION:
URL:https://cevibasel.ch/veranstaltung/tourencamp-cevi-2/
END:VEVENT
BEGIN:VEVENT
DTSTART;VALUE=DATE:20230226
DTEND;VALUE=DATE:20230227
DTSTAMP:20260423T225545
CREATED:20220407T134807Z
LAST-MODIFIED:20230226T235205Z
UID:97604-1677369600-1677455999@cevibasel.ch
SUMMARY:Frösch-Up - Cevi CH
DESCRIPTION:
URL:https://cevibasel.ch/veranstaltung/froesch-up-cevi-ch-2/
END:VEVENT
BEGIN:VEVENT
DTSTART;VALUE=DATE:20230311
DTEND;VALUE=DATE:20230312
DTSTAMP:20260423T225545
CREATED:20230124T095141Z
LAST-MODIFIED:20230311T232025Z
UID:106277-1678492800-1678579199@cevibasel.ch
SUMMARY:Hattrick Season-Opening Cup
DESCRIPTION:
URL:https://cevibasel.ch/veranstaltung/hattrick-season-opening-cup-2/
END:VEVENT
BEGIN:VEVENT
DTSTART;VALUE=DATE:20230313
DTEND;VALUE=DATE:20230315
DTSTAMP:20260423T225545
CREATED:20220203T154421Z
LAST-MODIFIED:20230314T232041Z
UID:95965-1678665600-1678838399@cevibasel.ch
SUMMARY:NAK (Bern und Basel)
DESCRIPTION:
URL:https://cevibasel.ch/veranstaltung/nak-bern-und-basel/
END:VEVENT
BEGIN:VEVENT
DTSTART;VALUE=DATE:20230315
DTEND;VALUE=DATE:20230316
DTSTAMP:20260423T225545
CREATED:20230221T112315Z
LAST-MODIFIED:20230315T232018Z
UID:107139-1678838400-1678924799@cevibasel.ch
SUMMARY:Altpapier
DESCRIPTION:
URL:https://cevibasel.ch/veranstaltung/altpapier/
END:VEVENT
BEGIN:VEVENT
DTSTART;TZID=Europe/Zurich:20230317T073000
DTEND;TZID=Europe/Zurich:20230317T170000
DTSTAMP:20260423T225545
CREATED:20220913T122153Z
LAST-MODIFIED:20230317T153922Z
UID:102401-1679038200-1679072400@cevibasel.ch
SUMMARY:Kinderkleiderbörse aufstellen
DESCRIPTION:
URL:https://cevibasel.ch/veranstaltung/kinderkleiderboerse-aufstellen/
END:VEVENT
BEGIN:VEVENT
DTSTART;VALUE=DATE:20230318
DTEND;VALUE=DATE:20230319
DTSTAMP:20260423T225545
CREATED:20220913T122153Z
LAST-MODIFIED:20230318T232342Z
UID:102402-1679097600-1679183999@cevibasel.ch
SUMMARY:Kinderkleiderbörse
DESCRIPTION:
URL:https://cevibasel.ch/veranstaltung/kinderkleiderboerse/
END:VEVENT
BEGIN:VEVENT
DTSTART;TZID=Europe/Zurich:20230324T190000
DTEND;TZID=Europe/Zurich:20230324T220000
DTSTAMP:20260423T225545
CREATED:20221115T104539Z
LAST-MODIFIED:20221127T094125Z
UID:104158-1679684400-1679695200@cevibasel.ch
SUMMARY:Delegierten Versammlung
DESCRIPTION:
URL:https://cevibasel.ch/veranstaltung/delegierten-versammlung/
END:VEVENT
BEGIN:VEVENT
DTSTART;TZID=Europe/Zurich:20230324T190000
DTEND;TZID=Europe/Zurich:20230324T220000
DTSTAMP:20260423T225545
CREATED:20221127T104738Z
LAST-MODIFIED:20230324T200951Z
UID:104789-1679684400-1679695200@cevibasel.ch
SUMMARY:Delegierten Versammlung
DESCRIPTION:
URL:https://cevibasel.ch/veranstaltung/delegierten-versammlung-2/
END:VEVENT
BEGIN:VEVENT
DTSTART;VALUE=DATE:20230407
DTEND;VALUE=DATE:20230414
DTSTAMP:20260423T225545
CREATED:20230321T101606Z
LAST-MODIFIED:20230413T232133Z
UID:107857-1680825600-1681430399@cevibasel.ch
SUMMARY:LLM
DESCRIPTION:
URL:https://cevibasel.ch/veranstaltung/llm/
END:VEVENT
BEGIN:VEVENT
DTSTART;VALUE=DATE:20230407
DTEND;VALUE=DATE:20230416
DTSTAMP:20260423T225545
CREATED:20230321T101606Z
LAST-MODIFIED:20230415T232159Z
UID:107856-1680825600-1681603199@cevibasel.ch
SUMMARY:GLK
DESCRIPTION:
URL:https://cevibasel.ch/veranstaltung/glk/
END:VEVENT
BEGIN:VEVENT
DTSTART;VALUE=DATE:20230412
DTEND;VALUE=DATE:20230413
DTSTAMP:20260423T225545
CREATED:20230221T112520Z
LAST-MODIFIED:20230412T235557Z
UID:107140-1681257600-1681343999@cevibasel.ch
SUMMARY:Altpapier
DESCRIPTION:
URL:https://cevibasel.ch/veranstaltung/altpapier-2/
END:VEVENT
BEGIN:VEVENT
DTSTART;VALUE=DATE:20230428
DTEND;VALUE=DATE:20230501
DTSTAMP:20260423T225545
CREATED:20221203T183049Z
LAST-MODIFIED:20230420T213704Z
UID:104978-1682640000-1682899199@cevibasel.ch
SUMMARY:The Game - Glarus
DESCRIPTION:
URL:https://cevibasel.ch/veranstaltung/the-game-glarus/
END:VEVENT
BEGIN:VEVENT
DTSTART;VALUE=DATE:20230505
DTEND;VALUE=DATE:20230506
DTSTAMP:20260423T225545
CREATED:20230505T103547Z
LAST-MODIFIED:20230505T235326Z
UID:109152-1683244800-1683331199@cevibasel.ch
SUMMARY:Spielgruppe\, 8.30-11.30 Uhr
DESCRIPTION:
URL:https://cevibasel.ch/veranstaltung/spielgruppe-8-30-11-30-uhr/
END:VEVENT
BEGIN:VEVENT
DTSTART;VALUE=DATE:20230505
DTEND;VALUE=DATE:20230506
DTSTAMP:20260423T225545
CREATED:20230505T120530Z
LAST-MODIFIED:20230505T235326Z
UID:109278-1683244800-1683331199@cevibasel.ch
SUMMARY:Café Emma\, 9.30-11.30 Uhr
DESCRIPTION:
URL:https://cevibasel.ch/veranstaltung/cafe-emma-9-30-11-30-uhr/
END:VEVENT
BEGIN:VEVENT
DTSTART;VALUE=DATE:20230507
DTEND;VALUE=DATE:20230508
DTSTAMP:20260423T225545
CREATED:20230307T212628Z
LAST-MODIFIED:20230507T235408Z
UID:107519-1683417600-1683503999@cevibasel.ch
SUMMARY:J+S-MF
DESCRIPTION:
URL:https://cevibasel.ch/veranstaltung/js-mf-2/
END:VEVENT
BEGIN:VEVENT
DTSTART;VALUE=DATE:20230508
DTEND;VALUE=DATE:20230509
DTSTAMP:20260423T225545
CREATED:20230508T083509Z
LAST-MODIFIED:20230508T235930Z
UID:110432-1683504000-1683590399@cevibasel.ch
SUMMARY:Beachvolleyball 20.00-22.00 Uhr\, im Joggeli
DESCRIPTION:
URL:https://cevibasel.ch/veranstaltung/beachvolleyball-20-00-22-00-uhr-im-joggeli/
END:VEVENT
BEGIN:VEVENT
DTSTART;VALUE=DATE:20230509
DTEND;VALUE=DATE:20230510
DTSTAMP:20260423T225545
CREATED:20230505T103547Z
LAST-MODIFIED:20230509T235234Z
UID:109154-1683590400-1683676799@cevibasel.ch
SUMMARY:Spaghettizistig\, 12.00-14.00 Uhr
DESCRIPTION:Jeden Dienstag essen wir gemeinsam Mittagessen im Cevi Seki.
URL:https://cevibasel.ch/veranstaltung/spaghettizistig-12-00-14-00-uhr/
END:VEVENT
BEGIN:VEVENT
DTSTART;VALUE=DATE:20230510
DTEND;VALUE=DATE:20230511
DTSTAMP:20260423T225545
CREATED:20230221T113113Z
LAST-MODIFIED:20230509T082116Z
UID:107141-1683676800-1683763199@cevibasel.ch
SUMMARY:Altpapier
DESCRIPTION:
URL:https://cevibasel.ch/veranstaltung/altpapier-3/
END:VEVENT
BEGIN:VEVENT
DTSTART;VALUE=DATE:20230510
DTEND;VALUE=DATE:20230511
DTSTAMP:20260423T225545
CREATED:20230505T103547Z
LAST-MODIFIED:20230510T215157Z
UID:109153-1683676800-1683763199@cevibasel.ch
SUMMARY:Spielgruppe\, 8.30-11.30 Uhr
DESCRIPTION:
URL:https://cevibasel.ch/veranstaltung/spielgruppe-8-30-11-30-uhr-2/
END:VEVENT
END:VCALENDAR