BEGIN:VCALENDAR
VERSION:2.0
PRODID:-//Cevi Region Basel - ECPv6.15.20//NONSGML v1.0//EN
CALSCALE:GREGORIAN
METHOD:PUBLISH
X-WR-CALNAME:Cevi Region Basel
X-ORIGINAL-URL:https://cevibasel.ch
X-WR-CALDESC:Events for Cevi Region Basel
REFRESH-INTERVAL;VALUE=DURATION:PT1H
X-Robots-Tag:noindex
X-PUBLISHED-TTL:PT1H
BEGIN:VTIMEZONE
TZID:Europe/Paris
BEGIN:DAYLIGHT
TZOFFSETFROM:+0100
TZOFFSETTO:+0200
TZNAME:CEST
DTSTART:20180325T010000
END:DAYLIGHT
BEGIN:STANDARD
TZOFFSETFROM:+0200
TZOFFSETTO:+0100
TZNAME:CET
DTSTART:20181028T010000
END:STANDARD
BEGIN:DAYLIGHT
TZOFFSETFROM:+0100
TZOFFSETTO:+0200
TZNAME:CEST
DTSTART:20190331T010000
END:DAYLIGHT
BEGIN:STANDARD
TZOFFSETFROM:+0200
TZOFFSETTO:+0100
TZNAME:CET
DTSTART:20191027T010000
END:STANDARD
BEGIN:DAYLIGHT
TZOFFSETFROM:+0100
TZOFFSETTO:+0200
TZNAME:CEST
DTSTART:20200329T010000
END:DAYLIGHT
BEGIN:STANDARD
TZOFFSETFROM:+0200
TZOFFSETTO:+0100
TZNAME:CET
DTSTART:20201025T010000
END:STANDARD
END:VTIMEZONE
BEGIN:VEVENT
DTSTART;VALUE=DATE:20190701
DTEND;VALUE=DATE:20190706
DTSTAMP:20260424T022032
CREATED:20190424T141432Z
LAST-MODIFIED:20190424T141432Z
UID:74808-1561939200-1562371199@cevibasel.ch
SUMMARY:Hattrick Tageslager
DESCRIPTION:
URL:https://cevibasel.ch/veranstaltung/hattrick-tageslager/
END:VEVENT
BEGIN:VEVENT
DTSTART;TZID=Europe/Paris:20190329T193000
DTEND;TZID=Europe/Paris:20190329T220000
DTSTAMP:20260424T022032
CREATED:20190102T153950Z
LAST-MODIFIED:20190102T154130Z
UID:74367-1553887800-1553896800@cevibasel.ch
SUMMARY:DV Regionalverband
DESCRIPTION:
URL:https://cevibasel.ch/veranstaltung/dv-regionalverband/
END:VEVENT
END:VCALENDAR