BEGIN:VCALENDAR
VERSION:2.0
PRODID:-//Cevi Region Basel - ECPv6.15.20//NONSGML v1.0//EN
CALSCALE:GREGORIAN
METHOD:PUBLISH
X-WR-CALNAME:Cevi Region Basel
X-ORIGINAL-URL:https://cevibasel.ch
X-WR-CALDESC:Events for Cevi Region Basel
REFRESH-INTERVAL;VALUE=DURATION:PT1H
X-Robots-Tag:noindex
X-PUBLISHED-TTL:PT1H
BEGIN:VTIMEZONE
TZID:Europe/Paris
BEGIN:DAYLIGHT
TZOFFSETFROM:+0100
TZOFFSETTO:+0200
TZNAME:CEST
DTSTART:20180325T010000
END:DAYLIGHT
BEGIN:STANDARD
TZOFFSETFROM:+0200
TZOFFSETTO:+0100
TZNAME:CET
DTSTART:20181028T010000
END:STANDARD
BEGIN:DAYLIGHT
TZOFFSETFROM:+0100
TZOFFSETTO:+0200
TZNAME:CEST
DTSTART:20190331T010000
END:DAYLIGHT
BEGIN:STANDARD
TZOFFSETFROM:+0200
TZOFFSETTO:+0100
TZNAME:CET
DTSTART:20191027T010000
END:STANDARD
BEGIN:DAYLIGHT
TZOFFSETFROM:+0100
TZOFFSETTO:+0200
TZNAME:CEST
DTSTART:20200329T010000
END:DAYLIGHT
BEGIN:STANDARD
TZOFFSETFROM:+0200
TZOFFSETTO:+0100
TZNAME:CET
DTSTART:20201025T010000
END:STANDARD
END:VTIMEZONE
BEGIN:VEVENT
DTSTART;VALUE=DATE:20191101
DTEND;VALUE=DATE:20191104
DTSTAMP:20260424T020626
CREATED:20190815T100650Z
LAST-MODIFIED:20190815T100650Z
UID:75887-1572566400-1572825599@cevibasel.ch
SUMMARY:Treffpunkt Cevi CH
DESCRIPTION:
URL:https://cevibasel.ch/veranstaltung/treffpunkt-cevi-ch/
END:VEVENT
BEGIN:VEVENT
DTSTART;VALUE=DATE:20191031
DTEND;VALUE=DATE:20191101
DTSTAMP:20260424T020626
CREATED:20190815T101934Z
LAST-MODIFIED:20190815T101934Z
UID:75923-1572480000-1572566399@cevibasel.ch
SUMMARY:AL-Treffen - Jahresplanung 2020
DESCRIPTION:
URL:https://cevibasel.ch/veranstaltung/al-treffen-jahresplanung-2020/
END:VEVENT
BEGIN:VEVENT
DTSTART;VALUE=DATE:20191025
DTEND;VALUE=DATE:20191026
DTSTAMP:20260424T020626
CREATED:20190815T101916Z
LAST-MODIFIED:20190815T101916Z
UID:75921-1571961600-1572047999@cevibasel.ch
SUMMARY:Leiterträff
DESCRIPTION:
URL:https://cevibasel.ch/veranstaltung/leitertraeff/
END:VEVENT
BEGIN:VEVENT
DTSTART;VALUE=DATE:20191108
DTEND;VALUE=DATE:20191109
DTSTAMP:20260424T020626
CREATED:20190815T100725Z
LAST-MODIFIED:20190815T101624Z
UID:75889-1573171200-1573257599@cevibasel.ch
SUMMARY:SOS-Jugendgottesdienst
DESCRIPTION:
URL:https://cevibasel.ch/veranstaltung/sos-jugendgottesdienst/
END:VEVENT
BEGIN:VEVENT
DTSTART;VALUE=DATE:20191006
DTEND;VALUE=DATE:20191012
DTSTAMP:20260424T020626
CREATED:20190815T101900Z
LAST-MODIFIED:20191001T053041Z
UID:75919-1570320000-1570838399@cevibasel.ch
SUMMARY:Konfestival B
DESCRIPTION:
URL:https://cevibasel.ch/veranstaltung/konfestival-b/
END:VEVENT
BEGIN:VEVENT
DTSTART;VALUE=DATE:20190930
DTEND;VALUE=DATE:20191006
DTSTAMP:20260424T020626
CREATED:20190815T101840Z
LAST-MODIFIED:20191001T053047Z
UID:75917-1569801600-1570319999@cevibasel.ch
SUMMARY:Konfestival A
DESCRIPTION:
URL:https://cevibasel.ch/veranstaltung/konfestival-a/
END:VEVENT
BEGIN:VEVENT
DTSTART;VALUE=DATE:20190928
DTEND;VALUE=DATE:20191006
DTSTAMP:20260424T020626
CREATED:20190815T101715Z
LAST-MODIFIED:20190815T101715Z
UID:75913-1569628800-1570319999@cevibasel.ch
SUMMARY:Projektwoche
DESCRIPTION:
URL:https://cevibasel.ch/veranstaltung/projektwoche/
END:VEVENT
BEGIN:VEVENT
DTSTART;VALUE=DATE:20191108
DTEND;VALUE=DATE:20191109
DTSTAMP:20260424T020626
CREATED:20190815T100725Z
LAST-MODIFIED:20190815T101624Z
UID:75889-1573171200-1573257599@cevibasel.ch
SUMMARY:SOS-Jugendgottesdienst
DESCRIPTION:
URL:https://cevibasel.ch/veranstaltung/sos-jugendgottesdienst/
END:VEVENT
BEGIN:VEVENT
DTSTART;VALUE=DATE:20190914
DTEND;VALUE=DATE:20190915
DTSTAMP:20260424T020626
CREATED:20190815T101419Z
LAST-MODIFIED:20190815T101419Z
UID:75908-1568419200-1568505599@cevibasel.ch
SUMMARY:Cevi-Tag CH
DESCRIPTION:
URL:https://cevibasel.ch/veranstaltung/cevi-tag-ch/
END:VEVENT
BEGIN:VEVENT
DTSTART;VALUE=DATE:20191130
DTEND;VALUE=DATE:20191201
DTSTAMP:20260424T020626
CREATED:20190815T101521Z
LAST-MODIFIED:20190815T101521Z
UID:75910-1575072000-1575158399@cevibasel.ch
SUMMARY:Worship Cafe
DESCRIPTION:
URL:https://cevibasel.ch/veranstaltung/worship-cafe/
END:VEVENT
BEGIN:VEVENT
DTSTART;VALUE=DATE:20190825
DTEND;VALUE=DATE:20190826
DTSTAMP:20260424T020626
CREATED:20190815T101244Z
LAST-MODIFIED:20190815T101244Z
UID:75906-1566691200-1566777599@cevibasel.ch
SUMMARY:Allianzjugendgottesdienst
DESCRIPTION:
URL:https://cevibasel.ch/veranstaltung/allianzjugendgottesdienst/
END:VEVENT
BEGIN:VEVENT
DTSTART;VALUE=DATE:20191108
DTEND;VALUE=DATE:20191109
DTSTAMP:20260424T020626
CREATED:20190815T100725Z
LAST-MODIFIED:20190815T101624Z
UID:75889-1573171200-1573257599@cevibasel.ch
SUMMARY:SOS-Jugendgottesdienst
DESCRIPTION:
URL:https://cevibasel.ch/veranstaltung/sos-jugendgottesdienst/
END:VEVENT
BEGIN:VEVENT
DTSTART;VALUE=DATE:20190719
DTEND;VALUE=DATE:20190729
DTSTAMP:20260424T020626
CREATED:20190424T141804Z
LAST-MODIFIED:20190424T141908Z
UID:74811-1563494400-1564358399@cevibasel.ch
SUMMARY:Surfcamp
DESCRIPTION:
URL:https://cevibasel.ch/veranstaltung/surfcamp/
END:VEVENT
BEGIN:VEVENT
DTSTART;VALUE=DATE:20190701
DTEND;VALUE=DATE:20190706
DTSTAMP:20260424T020626
CREATED:20190424T141432Z
LAST-MODIFIED:20190424T141432Z
UID:74808-1561939200-1562371199@cevibasel.ch
SUMMARY:Hattrick Tageslager
DESCRIPTION:
URL:https://cevibasel.ch/veranstaltung/hattrick-tageslager/
END:VEVENT
BEGIN:VEVENT
DTSTART;TZID=Europe/Paris:20190329T193000
DTEND;TZID=Europe/Paris:20190329T220000
DTSTAMP:20260424T020626
CREATED:20190102T153950Z
LAST-MODIFIED:20190102T154130Z
UID:74367-1553887800-1553896800@cevibasel.ch
SUMMARY:DV Regionalverband
DESCRIPTION:
URL:https://cevibasel.ch/veranstaltung/dv-regionalverband/
END:VEVENT
END:VCALENDAR