BEGIN:VCALENDAR
VERSION:2.0
PRODID:-//Cevi Region Basel - ECPv6.15.20//NONSGML v1.0//EN
CALSCALE:GREGORIAN
METHOD:PUBLISH
X-WR-CALNAME:Cevi Region Basel
X-ORIGINAL-URL:https://cevibasel.ch
X-WR-CALDESC:Events for Cevi Region Basel
REFRESH-INTERVAL;VALUE=DURATION:PT1H
X-Robots-Tag:noindex
X-PUBLISHED-TTL:PT1H
BEGIN:VTIMEZONE
TZID:Europe/Zurich
BEGIN:DAYLIGHT
TZOFFSETFROM:+0100
TZOFFSETTO:+0200
TZNAME:CEST
DTSTART:20190331T010000
END:DAYLIGHT
BEGIN:STANDARD
TZOFFSETFROM:+0200
TZOFFSETTO:+0100
TZNAME:CET
DTSTART:20191027T010000
END:STANDARD
BEGIN:DAYLIGHT
TZOFFSETFROM:+0100
TZOFFSETTO:+0200
TZNAME:CEST
DTSTART:20200329T010000
END:DAYLIGHT
BEGIN:STANDARD
TZOFFSETFROM:+0200
TZOFFSETTO:+0100
TZNAME:CET
DTSTART:20201025T010000
END:STANDARD
BEGIN:DAYLIGHT
TZOFFSETFROM:+0100
TZOFFSETTO:+0200
TZNAME:CEST
DTSTART:20210328T010000
END:DAYLIGHT
BEGIN:STANDARD
TZOFFSETFROM:+0200
TZOFFSETTO:+0100
TZNAME:CET
DTSTART:20211031T010000
END:STANDARD
END:VTIMEZONE
BEGIN:VEVENT
DTSTART;VALUE=DATE:20200229
DTEND;VALUE=DATE:20200308
DTSTAMP:20260423T180539
CREATED:20191223T124703Z
LAST-MODIFIED:20200307T235927Z
UID:77859-1582934400-1583625599@cevibasel.ch
SUMMARY:Snowcamp Cevi/Gellert
DESCRIPTION:
URL:https://cevibasel.ch/veranstaltung/snowcamp-cevi-gellert/
END:VEVENT
BEGIN:VEVENT
DTSTART;VALUE=DATE:20200311
DTEND;VALUE=DATE:20200312
DTSTAMP:20260423T180539
CREATED:20191223T124703Z
LAST-MODIFIED:20200311T235106Z
UID:77860-1583884800-1583971199@cevibasel.ch
SUMMARY:J&S-Kader- &-Coachtreffen
DESCRIPTION:
URL:https://cevibasel.ch/veranstaltung/js-kader-coachtreffen/
END:VEVENT
BEGIN:VEVENT
DTSTART;VALUE=DATE:20200313
DTEND;VALUE=DATE:20200314
DTSTAMP:20260423T180539
CREATED:20191223T124704Z
LAST-MODIFIED:20200313T235110Z
UID:77861-1584057600-1584143999@cevibasel.ch
SUMMARY:SOS-Jugendgottesdienst
DESCRIPTION:
URL:https://cevibasel.ch/veranstaltung/sos-jugendgottesdienst-4/
END:VEVENT
BEGIN:VEVENT
DTSTART;VALUE=DATE:20200314
DTEND;VALUE=DATE:20200315
DTSTAMP:20260423T180539
CREATED:20191223T124704Z
LAST-MODIFIED:20200314T235817Z
UID:77862-1584144000-1584230399@cevibasel.ch
SUMMARY:Hattrick Season Opening
DESCRIPTION:
URL:https://cevibasel.ch/veranstaltung/hattrick-season-opening/
END:VEVENT
BEGIN:VEVENT
DTSTART;VALUE=DATE:20200327
DTEND;VALUE=DATE:20200328
DTSTAMP:20260423T180539
CREATED:20191224T130214Z
LAST-MODIFIED:20200327T233324Z
UID:77984-1585267200-1585353599@cevibasel.ch
SUMMARY:DV-Cevi-Region-Basel
DESCRIPTION:
URL:https://cevibasel.ch/veranstaltung/dv-cevi-region-basel/
END:VEVENT
BEGIN:VEVENT
DTSTART;VALUE=DATE:20200328
DTEND;VALUE=DATE:20200329
DTSTAMP:20260423T180539
CREATED:20191224T130214Z
LAST-MODIFIED:20200328T233710Z
UID:77985-1585353600-1585439999@cevibasel.ch
SUMMARY:Vorprüfung-J&S-LLM
DESCRIPTION:
URL:https://cevibasel.ch/veranstaltung/vorpruefung-js-llm/
END:VEVENT
END:VCALENDAR