BEGIN:VCALENDAR
VERSION:2.0
PRODID:-//Cevi Region Basel - ECPv6.15.20//NONSGML v1.0//EN
CALSCALE:GREGORIAN
METHOD:PUBLISH
X-ORIGINAL-URL:https://cevibasel.ch
X-WR-CALDESC:Events for Cevi Region Basel
REFRESH-INTERVAL;VALUE=DURATION:PT1H
X-Robots-Tag:noindex
X-PUBLISHED-TTL:PT1H
BEGIN:VTIMEZONE
TZID:Europe/Zurich
BEGIN:DAYLIGHT
TZOFFSETFROM:+0100
TZOFFSETTO:+0200
TZNAME:CEST
DTSTART:20190331T010000
END:DAYLIGHT
BEGIN:STANDARD
TZOFFSETFROM:+0200
TZOFFSETTO:+0100
TZNAME:CET
DTSTART:20191027T010000
END:STANDARD
BEGIN:DAYLIGHT
TZOFFSETFROM:+0100
TZOFFSETTO:+0200
TZNAME:CEST
DTSTART:20200329T010000
END:DAYLIGHT
BEGIN:STANDARD
TZOFFSETFROM:+0200
TZOFFSETTO:+0100
TZNAME:CET
DTSTART:20201025T010000
END:STANDARD
BEGIN:DAYLIGHT
TZOFFSETFROM:+0100
TZOFFSETTO:+0200
TZNAME:CEST
DTSTART:20210328T010000
END:DAYLIGHT
BEGIN:STANDARD
TZOFFSETFROM:+0200
TZOFFSETTO:+0100
TZNAME:CET
DTSTART:20211031T010000
END:STANDARD
END:VTIMEZONE
BEGIN:VEVENT
DTSTART;VALUE=DATE:20200612
DTEND;VALUE=DATE:20200613
DTSTAMP:20260423T135450
CREATED:20191224T130216Z
LAST-MODIFIED:20200612T235929Z
UID:77997-1591920000-1592006399@cevibasel.ch
SUMMARY:SOS-Jugendgottesdienst
DESCRIPTION:
URL:https://cevibasel.ch/veranstaltung/sos-jugendgottesdienst-7/
END:VEVENT
BEGIN:VEVENT
DTSTART;TZID=Europe/Zurich:20200624T180000
DTEND;TZID=Europe/Zurich:20200624T220000
DTSTAMP:20260423T135450
CREATED:20200616T190519Z
LAST-MODIFIED:20200624T195344Z
UID:81737-1593021600-1593036000@cevibasel.ch
SUMMARY:Jubiläumsfest 20 Jahre Ten Sing Basel
DESCRIPTION:Das Fest soll ehemalige und aktuelle Ten Singer*innenvereinen und den langjährigen Bestand dieser erfolgreichen Jugendarbeit feiern.Ten Sing Basel ist so viel mehr als die Show\, die wir am Ende des Jahrespräsentieren. Dahinter stehen nicht nur die Teilnehmenden und das Leitungsteam\,sondern auch eine umfassende Unterstützung des Cevi Basel\, unsererPassivmitglieder\, vieler kleinen und grossen Helfern\, Unterstützern\, Freundenund Familie\, zahlreichen Personen und Gruppen die uns im Gebet Rückendeckunggeben und in Gedanken begleiten. Dafür möchten wir uns von ganzem Herzenbedanken!  \nAm Fest wird es ein süsses Buffet von Leslie’sCupcakes geben sowie eine Sirup-Bar und lokales Bier. Zwei Baristi verwöhnen unsmit frisch gebrühtem Kaffee und die Vito Pizza Bros. schauen mit ihrem Pizza Bike vorbei. Zudem steht Gaspard von Druckbus mit seiner mobilen Siebdruckstation bereit (#supportyourlocals). Ein vomDesign-Workshop entwickeltes Motiv kann somit auf alle – vorzugsweise hellen –Textilien gedruckt werden. Taschen liegen bereit\, alles andere darf man selbstmitbringen und bedrucken. Weitere Aktionen und Programmpunkte tragen dazu bei\,die Entstehung und Entwicklung des Ten Sing Basel in lebhafter Erinnerung zubehalten.  \nWir freuen uns auf ein buntes und liebevollesFest! 
URL:https://cevibasel.ch/veranstaltung/jubilaeumsfest-20-jahre-ten-sing-basel/
LOCATION:Orangerie in den Meriangärten
END:VEVENT
BEGIN:VEVENT
DTSTART;VALUE=DATE:20200629
DTEND;VALUE=DATE:20200704
DTSTAMP:20260423T135450
CREATED:20191224T130216Z
LAST-MODIFIED:20200703T234006Z
UID:77998-1593388800-1593820799@cevibasel.ch
SUMMARY:Hattrick-Tageslager
DESCRIPTION:
URL:https://cevibasel.ch/veranstaltung/hattrick-tageslager-2/
END:VEVENT
END:VCALENDAR