BEGIN:VCALENDAR
VERSION:2.0
PRODID:-//Cevi Region Basel - ECPv6.15.20//NONSGML v1.0//EN
CALSCALE:GREGORIAN
METHOD:PUBLISH
X-ORIGINAL-URL:https://cevibasel.ch
X-WR-CALDESC:Events for Cevi Region Basel
REFRESH-INTERVAL;VALUE=DURATION:PT1H
X-Robots-Tag:noindex
X-PUBLISHED-TTL:PT1H
BEGIN:VTIMEZONE
TZID:Europe/Zurich
BEGIN:DAYLIGHT
TZOFFSETFROM:+0100
TZOFFSETTO:+0200
TZNAME:CEST
DTSTART:20210328T010000
END:DAYLIGHT
BEGIN:STANDARD
TZOFFSETFROM:+0200
TZOFFSETTO:+0100
TZNAME:CET
DTSTART:20211031T010000
END:STANDARD
BEGIN:DAYLIGHT
TZOFFSETFROM:+0100
TZOFFSETTO:+0200
TZNAME:CEST
DTSTART:20220327T010000
END:DAYLIGHT
BEGIN:STANDARD
TZOFFSETFROM:+0200
TZOFFSETTO:+0100
TZNAME:CET
DTSTART:20221030T010000
END:STANDARD
BEGIN:DAYLIGHT
TZOFFSETFROM:+0100
TZOFFSETTO:+0200
TZNAME:CEST
DTSTART:20230326T010000
END:DAYLIGHT
BEGIN:STANDARD
TZOFFSETFROM:+0200
TZOFFSETTO:+0100
TZNAME:CET
DTSTART:20231029T010000
END:STANDARD
END:VTIMEZONE
BEGIN:VTIMEZONE
TZID:Europe/Helsinki
BEGIN:DAYLIGHT
TZOFFSETFROM:+0200
TZOFFSETTO:+0300
TZNAME:EEST
DTSTART:20210328T010000
END:DAYLIGHT
BEGIN:STANDARD
TZOFFSETFROM:+0300
TZOFFSETTO:+0200
TZNAME:EET
DTSTART:20211031T010000
END:STANDARD
BEGIN:DAYLIGHT
TZOFFSETFROM:+0200
TZOFFSETTO:+0300
TZNAME:EEST
DTSTART:20220327T010000
END:DAYLIGHT
BEGIN:STANDARD
TZOFFSETFROM:+0300
TZOFFSETTO:+0200
TZNAME:EET
DTSTART:20221030T010000
END:STANDARD
BEGIN:DAYLIGHT
TZOFFSETFROM:+0200
TZOFFSETTO:+0300
TZNAME:EEST
DTSTART:20230326T010000
END:DAYLIGHT
BEGIN:STANDARD
TZOFFSETFROM:+0300
TZOFFSETTO:+0200
TZNAME:EET
DTSTART:20231029T010000
END:STANDARD
END:VTIMEZONE
BEGIN:VEVENT
DTSTART;VALUE=DATE:20220226
DTEND;VALUE=DATE:20220306
DTSTAMP:20260423T111951
CREATED:20220203T154305Z
LAST-MODIFIED:20220306T004021Z
UID:95922-1645833600-1646524799@cevibasel.ch
SUMMARY:Regioskilager
DESCRIPTION:
URL:https://cevibasel.ch/veranstaltung/regioskilager/
END:VEVENT
BEGIN:VEVENT
DTSTART;VALUE=DATE:20220305
DTEND;VALUE=DATE:20220313
DTSTAMP:20260423T111951
CREATED:20220203T154305Z
LAST-MODIFIED:20220313T003512Z
UID:95920-1646438400-1647129599@cevibasel.ch
SUMMARY:Tourencamp Cevi
DESCRIPTION:
URL:https://cevibasel.ch/veranstaltung/tourencamp-cevi/
END:VEVENT
BEGIN:VEVENT
DTSTART;VALUE=DATE:20220305
DTEND;VALUE=DATE:20220313
DTSTAMP:20260423T111951
CREATED:20220203T154305Z
LAST-MODIFIED:20220313T003512Z
UID:95921-1646438400-1647129599@cevibasel.ch
SUMMARY:Snowcamp Cevi
DESCRIPTION:
URL:https://cevibasel.ch/veranstaltung/snowcamp-cevi/
END:VEVENT
BEGIN:VEVENT
DTSTART;VALUE=DATE:20220318
DTEND;VALUE=DATE:20220319
DTSTAMP:20260423T111951
CREATED:20220216T185643Z
LAST-MODIFIED:20220216T203617Z
UID:96406-1647561600-1647647999@cevibasel.ch
SUMMARY:GLK Übungsabend
DESCRIPTION:
URL:https://cevibasel.ch/veranstaltung/glk-uebungsabend/
END:VEVENT
BEGIN:VEVENT
DTSTART;VALUE=DATE:20220318
DTEND;VALUE=DATE:20220319
DTSTAMP:20260423T111951
CREATED:20220216T192102Z
LAST-MODIFIED:20220319T004413Z
UID:96409-1647561600-1647647999@cevibasel.ch
SUMMARY:GLK-Vorprüfung - Übungsabend
DESCRIPTION:
URL:https://cevibasel.ch/veranstaltung/glk-vorpruefung-uebungsabend/
END:VEVENT
BEGIN:VEVENT
DTSTART;VALUE=DATE:20220319
DTEND;VALUE=DATE:20220320
DTSTAMP:20260423T111951
CREATED:20220203T154309Z
LAST-MODIFIED:20220320T010225Z
UID:95927-1647648000-1647734399@cevibasel.ch
SUMMARY:Hattrick Season-Opening Cup
DESCRIPTION:
URL:https://cevibasel.ch/veranstaltung/hattrick-season-opening-cup/
END:VEVENT
BEGIN:VEVENT
DTSTART;TZID=Europe/Zurich:20220325T190000
DTEND;TZID=Europe/Zurich:20220325T230000
DTSTAMP:20260423T111951
CREATED:20220203T154309Z
LAST-MODIFIED:20220325T222307Z
UID:95928-1648234800-1648249200@cevibasel.ch
SUMMARY:DV Cevi Basel
DESCRIPTION:
URL:https://cevibasel.ch/veranstaltung/dv-cevi-basel/
END:VEVENT
END:VCALENDAR