BEGIN:VCALENDAR
VERSION:2.0
PRODID:-//Cevi Region Basel - ECPv6.15.20//NONSGML v1.0//EN
CALSCALE:GREGORIAN
METHOD:PUBLISH
X-WR-CALNAME:Cevi Region Basel
X-ORIGINAL-URL:https://cevibasel.ch
X-WR-CALDESC:Events for Cevi Region Basel
REFRESH-INTERVAL;VALUE=DURATION:PT1H
X-Robots-Tag:noindex
X-PUBLISHED-TTL:PT1H
BEGIN:VTIMEZONE
TZID:Europe/Zurich
BEGIN:DAYLIGHT
TZOFFSETFROM:+0100
TZOFFSETTO:+0200
TZNAME:CEST
DTSTART:20210328T010000
END:DAYLIGHT
BEGIN:STANDARD
TZOFFSETFROM:+0200
TZOFFSETTO:+0100
TZNAME:CET
DTSTART:20211031T010000
END:STANDARD
BEGIN:DAYLIGHT
TZOFFSETFROM:+0100
TZOFFSETTO:+0200
TZNAME:CEST
DTSTART:20220327T010000
END:DAYLIGHT
BEGIN:STANDARD
TZOFFSETFROM:+0200
TZOFFSETTO:+0100
TZNAME:CET
DTSTART:20221030T010000
END:STANDARD
BEGIN:DAYLIGHT
TZOFFSETFROM:+0100
TZOFFSETTO:+0200
TZNAME:CEST
DTSTART:20230326T010000
END:DAYLIGHT
BEGIN:STANDARD
TZOFFSETFROM:+0200
TZOFFSETTO:+0100
TZNAME:CET
DTSTART:20231029T010000
END:STANDARD
END:VTIMEZONE
BEGIN:VEVENT
DTSTART;VALUE=DATE:20220507
DTEND;VALUE=DATE:20220508
DTSTAMP:20260423T123230
CREATED:20220203T154349Z
LAST-MODIFIED:20220302T153919Z
UID:95932-1651881600-1651967999@cevibasel.ch
SUMMARY:Kinderartikelbörse
DESCRIPTION:
URL:https://cevibasel.ch/veranstaltung/kinderartikelboerse-3/
END:VEVENT
BEGIN:VEVENT
DTSTART;VALUE=DATE:20220507
DTEND;VALUE=DATE:20220508
DTSTAMP:20260423T123230
CREATED:20220203T154349Z
LAST-MODIFIED:20220507T232047Z
UID:95933-1651881600-1651967999@cevibasel.ch
SUMMARY:Teamtag RV + Frühlingsessen
DESCRIPTION:
URL:https://cevibasel.ch/veranstaltung/teamtag-rv-fruehlingsessen/
END:VEVENT
BEGIN:VEVENT
DTSTART;VALUE=DATE:20220508
DTEND;VALUE=DATE:20220509
DTSTAMP:20260423T123230
CREATED:20220203T154349Z
LAST-MODIFIED:20220508T232223Z
UID:95934-1651968000-1652054399@cevibasel.ch
SUMMARY:Campus 22 - Lagerleitertreffen
DESCRIPTION:
URL:https://cevibasel.ch/veranstaltung/campus-22-lagerleitertreffen/
END:VEVENT
BEGIN:VEVENT
DTSTART;VALUE=DATE:20220521
DTEND;VALUE=DATE:20220522
DTSTAMP:20260423T123230
CREATED:20220203T154349Z
LAST-MODIFIED:20220521T232814Z
UID:95935-1653091200-1653177599@cevibasel.ch
SUMMARY:Cevi Action Days: Surfing
DESCRIPTION:
URL:https://cevibasel.ch/veranstaltung/cevi-action-days-surfing/
END:VEVENT
BEGIN:VEVENT
DTSTART;VALUE=DATE:20220526
DTEND;VALUE=DATE:20220530
DTSTAMP:20260423T123230
CREATED:20220203T154350Z
LAST-MODIFIED:20220529T234055Z
UID:95936-1653523200-1653868799@cevibasel.ch
SUMMARY:Cevi Leitungsausbildung
DESCRIPTION:
URL:https://cevibasel.ch/veranstaltung/lagerleitungsausbildung/
END:VEVENT
END:VCALENDAR