BEGIN:VCALENDAR
VERSION:2.0
PRODID:-//Cevi Region Basel - ECPv6.15.20//NONSGML v1.0//EN
CALSCALE:GREGORIAN
METHOD:PUBLISH
X-WR-CALNAME:Cevi Region Basel
X-ORIGINAL-URL:https://cevibasel.ch
X-WR-CALDESC:Events for Cevi Region Basel
REFRESH-INTERVAL;VALUE=DURATION:PT1H
X-Robots-Tag:noindex
X-PUBLISHED-TTL:PT1H
BEGIN:VTIMEZONE
TZID:Europe/Zurich
BEGIN:DAYLIGHT
TZOFFSETFROM:+0100
TZOFFSETTO:+0200
TZNAME:CEST
DTSTART:20220327T010000
END:DAYLIGHT
BEGIN:STANDARD
TZOFFSETFROM:+0200
TZOFFSETTO:+0100
TZNAME:CET
DTSTART:20221030T010000
END:STANDARD
BEGIN:DAYLIGHT
TZOFFSETFROM:+0100
TZOFFSETTO:+0200
TZNAME:CEST
DTSTART:20230326T010000
END:DAYLIGHT
BEGIN:STANDARD
TZOFFSETFROM:+0200
TZOFFSETTO:+0100
TZNAME:CET
DTSTART:20231029T010000
END:STANDARD
BEGIN:DAYLIGHT
TZOFFSETFROM:+0100
TZOFFSETTO:+0200
TZNAME:CEST
DTSTART:20240331T010000
END:DAYLIGHT
BEGIN:STANDARD
TZOFFSETFROM:+0200
TZOFFSETTO:+0100
TZNAME:CET
DTSTART:20241027T010000
END:STANDARD
END:VTIMEZONE
BEGIN:VEVENT
DTSTART;VALUE=DATE:20230204
DTEND;VALUE=DATE:20230205
DTSTAMP:20260425T225034
CREATED:20221019T090514Z
LAST-MODIFIED:20230204T232050Z
UID:103337-1675468800-1675555199@cevibasel.ch
SUMMARY:Ehetag
DESCRIPTION:
URL:https://cevibasel.ch/veranstaltung/ehetag/
END:VEVENT
BEGIN:VEVENT
DTSTART;VALUE=DATE:20230204
DTEND;VALUE=DATE:20230206
DTSTAMP:20260425T225034
CREATED:20220712T171839Z
LAST-MODIFIED:20230205T232045Z
UID:100178-1675468800-1675641599@cevibasel.ch
SUMMARY:J&S-Coachkurs
DESCRIPTION:
URL:https://cevibasel.ch/veranstaltung/js-coachkurs-2/
END:VEVENT
BEGIN:VEVENT
DTSTART;VALUE=DATE:20230209
DTEND;VALUE=DATE:20230210
DTSTAMP:20260425T225034
CREATED:20220714T164248Z
LAST-MODIFIED:20230209T204617Z
UID:100226-1675900800-1675987199@cevibasel.ch
SUMMARY:J&S-Coachweiterbildung
DESCRIPTION:
URL:https://cevibasel.ch/veranstaltung/js-coachweiterbildung/
END:VEVENT
BEGIN:VEVENT
DTSTART;VALUE=DATE:20230211
DTEND;VALUE=DATE:20230219
DTSTAMP:20260425T225034
CREATED:20220506T124242Z
LAST-MODIFIED:20220523T112356Z
UID:98316-1676073600-1676764799@cevibasel.ch
SUMMARY:Prov. Snowcamp JE
DESCRIPTION:
URL:https://cevibasel.ch/veranstaltung/prov-snowcamp-je/
END:VEVENT
BEGIN:VEVENT
DTSTART;VALUE=DATE:20230211
DTEND;VALUE=DATE:20230219
DTSTAMP:20260425T225034
CREATED:20220523T120619Z
LAST-MODIFIED:20230218T233637Z
UID:98710-1676073600-1676764799@cevibasel.ch
SUMMARY:Junge-Erwachsene Snowcamp
DESCRIPTION:
URL:https://cevibasel.ch/veranstaltung/junge-erwachsene-snowcamp/
END:VEVENT
BEGIN:VEVENT
DTSTART;VALUE=DATE:20230218
DTEND;VALUE=DATE:20230226
DTSTAMP:20260425T225034
CREATED:20220203T154421Z
LAST-MODIFIED:20230225T232256Z
UID:95966-1676678400-1677369599@cevibasel.ch
SUMMARY:Regioskilager
DESCRIPTION:
URL:https://cevibasel.ch/veranstaltung/regioskilager-2/
END:VEVENT
BEGIN:VEVENT
DTSTART;VALUE=DATE:20230225
DTEND;VALUE=DATE:20230305
DTSTAMP:20260425T225034
CREATED:20220815T114756Z
LAST-MODIFIED:20230304T232104Z
UID:101009-1677283200-1677974399@cevibasel.ch
SUMMARY:Tourencamp Cevi
DESCRIPTION:
URL:https://cevibasel.ch/veranstaltung/tourencamp-cevi-2/
END:VEVENT
BEGIN:VEVENT
DTSTART;VALUE=DATE:20230226
DTEND;VALUE=DATE:20230227
DTSTAMP:20260425T225034
CREATED:20220407T134807Z
LAST-MODIFIED:20230226T235205Z
UID:97604-1677369600-1677455999@cevibasel.ch
SUMMARY:Frösch-Up - Cevi CH
DESCRIPTION:
URL:https://cevibasel.ch/veranstaltung/froesch-up-cevi-ch-2/
END:VEVENT
END:VCALENDAR