BEGIN:VCALENDAR
VERSION:2.0
PRODID:-//Cevi Region Basel - ECPv6.15.20//NONSGML v1.0//EN
CALSCALE:GREGORIAN
METHOD:PUBLISH
X-ORIGINAL-URL:https://cevibasel.ch
X-WR-CALDESC:Events for Cevi Region Basel
REFRESH-INTERVAL;VALUE=DURATION:PT1H
X-Robots-Tag:noindex
X-PUBLISHED-TTL:PT1H
BEGIN:VTIMEZONE
TZID:Europe/Zurich
BEGIN:DAYLIGHT
TZOFFSETFROM:+0100
TZOFFSETTO:+0200
TZNAME:CEST
DTSTART:20220327T010000
END:DAYLIGHT
BEGIN:STANDARD
TZOFFSETFROM:+0200
TZOFFSETTO:+0100
TZNAME:CET
DTSTART:20221030T010000
END:STANDARD
BEGIN:DAYLIGHT
TZOFFSETFROM:+0100
TZOFFSETTO:+0200
TZNAME:CEST
DTSTART:20230326T010000
END:DAYLIGHT
BEGIN:STANDARD
TZOFFSETFROM:+0200
TZOFFSETTO:+0100
TZNAME:CET
DTSTART:20231029T010000
END:STANDARD
BEGIN:DAYLIGHT
TZOFFSETFROM:+0100
TZOFFSETTO:+0200
TZNAME:CEST
DTSTART:20240331T010000
END:DAYLIGHT
BEGIN:STANDARD
TZOFFSETFROM:+0200
TZOFFSETTO:+0100
TZNAME:CET
DTSTART:20241027T010000
END:STANDARD
END:VTIMEZONE
BEGIN:VEVENT
DTSTART;VALUE=DATE:20230225
DTEND;VALUE=DATE:20230305
DTSTAMP:20260425T182443
CREATED:20220815T114756Z
LAST-MODIFIED:20230304T232104Z
UID:101009-1677283200-1677974399@cevibasel.ch
SUMMARY:Tourencamp Cevi
DESCRIPTION:
URL:https://cevibasel.ch/veranstaltung/tourencamp-cevi-2/
END:VEVENT
BEGIN:VEVENT
DTSTART;VALUE=DATE:20230311
DTEND;VALUE=DATE:20230312
DTSTAMP:20260425T182443
CREATED:20230124T095141Z
LAST-MODIFIED:20230311T232025Z
UID:106277-1678492800-1678579199@cevibasel.ch
SUMMARY:Hattrick Season-Opening Cup
DESCRIPTION:
URL:https://cevibasel.ch/veranstaltung/hattrick-season-opening-cup-2/
END:VEVENT
BEGIN:VEVENT
DTSTART;VALUE=DATE:20230313
DTEND;VALUE=DATE:20230315
DTSTAMP:20260425T182443
CREATED:20220203T154421Z
LAST-MODIFIED:20230314T232041Z
UID:95965-1678665600-1678838399@cevibasel.ch
SUMMARY:NAK (Bern und Basel)
DESCRIPTION:
URL:https://cevibasel.ch/veranstaltung/nak-bern-und-basel/
END:VEVENT
BEGIN:VEVENT
DTSTART;VALUE=DATE:20230315
DTEND;VALUE=DATE:20230316
DTSTAMP:20260425T182443
CREATED:20230221T112315Z
LAST-MODIFIED:20230315T232018Z
UID:107139-1678838400-1678924799@cevibasel.ch
SUMMARY:Altpapier
DESCRIPTION:
URL:https://cevibasel.ch/veranstaltung/altpapier/
END:VEVENT
BEGIN:VEVENT
DTSTART;TZID=Europe/Zurich:20230317T073000
DTEND;TZID=Europe/Zurich:20230317T170000
DTSTAMP:20260425T182443
CREATED:20220913T122153Z
LAST-MODIFIED:20230317T153922Z
UID:102401-1679038200-1679072400@cevibasel.ch
SUMMARY:Kinderkleiderbörse aufstellen
DESCRIPTION:
URL:https://cevibasel.ch/veranstaltung/kinderkleiderboerse-aufstellen/
END:VEVENT
BEGIN:VEVENT
DTSTART;VALUE=DATE:20230318
DTEND;VALUE=DATE:20230319
DTSTAMP:20260425T182443
CREATED:20220913T122153Z
LAST-MODIFIED:20230318T232342Z
UID:102402-1679097600-1679183999@cevibasel.ch
SUMMARY:Kinderkleiderbörse
DESCRIPTION:
URL:https://cevibasel.ch/veranstaltung/kinderkleiderboerse/
END:VEVENT
BEGIN:VEVENT
DTSTART;TZID=Europe/Zurich:20230324T190000
DTEND;TZID=Europe/Zurich:20230324T220000
DTSTAMP:20260425T182443
CREATED:20221115T104539Z
LAST-MODIFIED:20221127T094125Z
UID:104158-1679684400-1679695200@cevibasel.ch
SUMMARY:Delegierten Versammlung
DESCRIPTION:
URL:https://cevibasel.ch/veranstaltung/delegierten-versammlung/
END:VEVENT
BEGIN:VEVENT
DTSTART;TZID=Europe/Zurich:20230324T190000
DTEND;TZID=Europe/Zurich:20230324T220000
DTSTAMP:20260425T182443
CREATED:20221127T104738Z
LAST-MODIFIED:20230324T200951Z
UID:104789-1679684400-1679695200@cevibasel.ch
SUMMARY:Delegierten Versammlung
DESCRIPTION:
URL:https://cevibasel.ch/veranstaltung/delegierten-versammlung-2/
END:VEVENT
END:VCALENDAR