BEGIN:VCALENDAR
VERSION:2.0
PRODID:-//Cevi Region Basel - ECPv6.15.20//NONSGML v1.0//EN
CALSCALE:GREGORIAN
METHOD:PUBLISH
X-ORIGINAL-URL:https://cevibasel.ch
X-WR-CALDESC:Events for Cevi Region Basel
REFRESH-INTERVAL;VALUE=DURATION:PT1H
X-Robots-Tag:noindex
X-PUBLISHED-TTL:PT1H
BEGIN:VTIMEZONE
TZID:Europe/Zurich
BEGIN:DAYLIGHT
TZOFFSETFROM:+0100
TZOFFSETTO:+0200
TZNAME:CEST
DTSTART:20220327T010000
END:DAYLIGHT
BEGIN:STANDARD
TZOFFSETFROM:+0200
TZOFFSETTO:+0100
TZNAME:CET
DTSTART:20221030T010000
END:STANDARD
BEGIN:DAYLIGHT
TZOFFSETFROM:+0100
TZOFFSETTO:+0200
TZNAME:CEST
DTSTART:20230326T010000
END:DAYLIGHT
BEGIN:STANDARD
TZOFFSETFROM:+0200
TZOFFSETTO:+0100
TZNAME:CET
DTSTART:20231029T010000
END:STANDARD
BEGIN:DAYLIGHT
TZOFFSETFROM:+0100
TZOFFSETTO:+0200
TZNAME:CEST
DTSTART:20240331T010000
END:DAYLIGHT
BEGIN:STANDARD
TZOFFSETFROM:+0200
TZOFFSETTO:+0100
TZNAME:CET
DTSTART:20241027T010000
END:STANDARD
END:VTIMEZONE
BEGIN:VEVENT
DTSTART;VALUE=DATE:20230701
DTEND;VALUE=DATE:20230702
DTSTAMP:20260426T035943
CREATED:20230516T100116Z
LAST-MODIFIED:20230517T101759Z
UID:111160-1688169600-1688255999@cevibasel.ch
SUMMARY:Div. Jungscharprogramme\, ca. 14.00-17.00
DESCRIPTION:
URL:https://cevibasel.ch/veranstaltung/div-jungscharprogramme-ca-14-00-17-00-3/
END:VEVENT
BEGIN:VEVENT
DTSTART;VALUE=DATE:20230701
DTEND;VALUE=DATE:20230702
DTSTAMP:20260426T035943
CREATED:20230516T100116Z
LAST-MODIFIED:20230517T101917Z
UID:111161-1688169600-1688255999@cevibasel.ch
SUMMARY:Hattrick Gundeli (6-11 Jahre)\, 13.30-15.30
DESCRIPTION:
URL:https://cevibasel.ch/veranstaltung/hattrick-gundeli-6-11-jahre-13-30-15-30-7/
END:VEVENT
BEGIN:VEVENT
DTSTART;TZID=Europe/Zurich:20230701T133000
DTEND;TZID=Europe/Zurich:20230701T153000
DTSTAMP:20260426T035943
CREATED:20230517T103255Z
LAST-MODIFIED:20230701T132008Z
UID:111946-1688218200-1688225400@cevibasel.ch
SUMMARY:Hattrick Gundeli (6-11 Jahre)
DESCRIPTION:
URL:https://cevibasel.ch/veranstaltung/hattrick-gundeli-6-11-jahre-6/
LOCATION:Margarethenpark
END:VEVENT
BEGIN:VEVENT
DTSTART;TZID=Europe/Zurich:20230701T140000
DTEND;TZID=Europe/Zurich:20230701T170000
DTSTAMP:20260426T035943
CREATED:20230517T103255Z
LAST-MODIFIED:20230701T145333Z
UID:111945-1688220000-1688230800@cevibasel.ch
SUMMARY:Jungschi Allschwil
DESCRIPTION:
URL:https://cevibasel.ch/veranstaltung/jungschi-allschwil-6/
LOCATION:Calvinhaus
END:VEVENT
BEGIN:VEVENT
DTSTART;TZID=Europe/Zurich:20230701T140000
DTEND;TZID=Europe/Zurich:20230701T170000
DTSTAMP:20260426T035943
CREATED:20230517T134339Z
LAST-MODIFIED:20230701T150224Z
UID:112223-1688220000-1688230800@cevibasel.ch
SUMMARY:Jungschi Muttenz
DESCRIPTION:
URL:https://cevibasel.ch/veranstaltung/jungschi-muttenz-6/
END:VEVENT
BEGIN:VEVENT
DTSTART;TZID=Europe/Zurich:20230701T140000
DTEND;TZID=Europe/Zurich:20230701T170000
DTSTAMP:20260426T035943
CREATED:20230517T134339Z
LAST-MODIFIED:20230701T145333Z
UID:112224-1688220000-1688230800@cevibasel.ch
SUMMARY:Jungschi Reinach
DESCRIPTION:
URL:https://cevibasel.ch/veranstaltung/jungschi-reinach-6/
END:VEVENT
BEGIN:VEVENT
DTSTART;TZID=Europe/Zurich:20230701T140000
DTEND;TZID=Europe/Zurich:20230701T170000
DTSTAMP:20260426T035943
CREATED:20230517T134339Z
LAST-MODIFIED:20230701T145333Z
UID:112225-1688220000-1688230800@cevibasel.ch
SUMMARY:Jungschi Ettigen & Therwil
DESCRIPTION:
URL:https://cevibasel.ch/veranstaltung/jungschi-ettigen-therwil-6/
END:VEVENT
BEGIN:VEVENT
DTSTART;TZID=Europe/Zurich:20230701T140000
DTEND;TZID=Europe/Zurich:20230701T170000
DTSTAMP:20260426T035943
CREATED:20230517T134545Z
LAST-MODIFIED:20230701T150224Z
UID:112226-1688220000-1688230800@cevibasel.ch
SUMMARY:Jungschi Titus
DESCRIPTION:
URL:https://cevibasel.ch/veranstaltung/jungschi-titus-6/
END:VEVENT
BEGIN:VEVENT
DTSTART;TZID=Europe/Zurich:20230701T140000
DTEND;TZID=Europe/Zurich:20230701T170000
DTSTAMP:20260426T035943
CREATED:20230517T134545Z
LAST-MODIFIED:20230701T150225Z
UID:112227-1688220000-1688230800@cevibasel.ch
SUMMARY:Jungschi Bubendorf
DESCRIPTION:
URL:https://cevibasel.ch/veranstaltung/jungschi-bubendorf-6/
END:VEVENT
BEGIN:VEVENT
DTSTART;TZID=Europe/Zurich:20230701T140000
DTEND;TZID=Europe/Zurich:20230701T170000
DTSTAMP:20260426T035943
CREATED:20230517T134545Z
LAST-MODIFIED:20230701T150225Z
UID:112228-1688220000-1688230800@cevibasel.ch
SUMMARY:Jungschi Thomas
DESCRIPTION:
URL:https://cevibasel.ch/veranstaltung/jungschi-thomas-6/
END:VEVENT
BEGIN:VEVENT
DTSTART;TZID=Europe/Zurich:20230701T140000
DTEND;TZID=Europe/Zurich:20230701T170000
DTSTAMP:20260426T035943
CREATED:20230517T134545Z
LAST-MODIFIED:20230701T145333Z
UID:112229-1688220000-1688230800@cevibasel.ch
SUMMARY:Jungschi Gotthelf-Neubad
DESCRIPTION:
URL:https://cevibasel.ch/veranstaltung/jungschi-gotthelf-neubad-6/
END:VEVENT
BEGIN:VEVENT
DTSTART;TZID=Europe/Zurich:20230701T140000
DTEND;TZID=Europe/Zurich:20230701T170000
DTSTAMP:20260426T035943
CREATED:20230517T134618Z
LAST-MODIFIED:20230701T145333Z
UID:112231-1688220000-1688230800@cevibasel.ch
SUMMARY:Jungschi Binningen
DESCRIPTION:
URL:https://cevibasel.ch/veranstaltung/jungschi-binningen-6/
END:VEVENT
BEGIN:VEVENT
DTSTART;VALUE=DATE:20230703
DTEND;VALUE=DATE:20230704
DTSTAMP:20260426T035943
CREATED:20230508T084039Z
LAST-MODIFIED:20230510T145639Z
UID:110440-1688342400-1688428799@cevibasel.ch
SUMMARY:Beachvolleyball 20.00-22.00 Uhr\, im Joggeli
DESCRIPTION:
URL:https://cevibasel.ch/veranstaltung/beachvolleyball-20-00-22-00-uhr-im-joggeli-9/
END:VEVENT
BEGIN:VEVENT
DTSTART;VALUE=DATE:20230703
DTEND;VALUE=DATE:20230704
DTSTAMP:20260426T035943
CREATED:20230516T100116Z
LAST-MODIFIED:20230517T075321Z
UID:111163-1688342400-1688428799@cevibasel.ch
SUMMARY:Hattrick Men\, 19.00-20.30
DESCRIPTION:
URL:https://cevibasel.ch/veranstaltung/hattrick-men-19-00-20-30-7/
END:VEVENT
BEGIN:VEVENT
DTSTART;VALUE=DATE:20230703
DTEND;VALUE=DATE:20230704
DTSTAMP:20260426T035943
CREATED:20230516T100255Z
LAST-MODIFIED:20230517T075321Z
UID:111164-1688342400-1688428799@cevibasel.ch
SUMMARY:Hattrick Ladies\, 20.30-22.00
DESCRIPTION:
URL:https://cevibasel.ch/veranstaltung/hattrick-ladies-20-30-22-00-7/
END:VEVENT
BEGIN:VEVENT
DTSTART;TZID=Europe/Zurich:20230703T080000
DTEND;TZID=Europe/Zurich:20230703T160000
DTSTAMP:20260426T035943
CREATED:20230124T095347Z
LAST-MODIFIED:20230703T135112Z
UID:106278-1688371200-1688400000@cevibasel.ch
SUMMARY:Hattrick Tageslager
DESCRIPTION:
URL:https://cevibasel.ch/veranstaltung/hattrick-tageslager-5/
END:VEVENT
BEGIN:VEVENT
DTSTART;TZID=Europe/Zurich:20230703T190000
DTEND;TZID=Europe/Zurich:20230703T203000
DTSTAMP:20260426T035943
CREATED:20230517T101917Z
LAST-MODIFIED:20230703T182820Z
UID:111768-1688410800-1688416200@cevibasel.ch
SUMMARY:Hattrick Men\, 19.00-20.30
DESCRIPTION:
URL:https://cevibasel.ch/veranstaltung/hattrick-men-19-00-20-30-41/
LOCATION:Fussballfelder Pfaffenholz
END:VEVENT
BEGIN:VEVENT
DTSTART;TZID=Europe/Zurich:20230703T200000
DTEND;TZID=Europe/Zurich:20230703T220000
DTSTAMP:20260426T035943
CREATED:20230517T101917Z
LAST-MODIFIED:20230703T195210Z
UID:111770-1688414400-1688421600@cevibasel.ch
SUMMARY:Beachvolleyballtraining
DESCRIPTION:
URL:https://cevibasel.ch/veranstaltung/beachvolleyballtraining-7/
LOCATION:Beachfelder St. Jakob
END:VEVENT
BEGIN:VEVENT
DTSTART;TZID=Europe/Zurich:20230703T203000
DTEND;TZID=Europe/Zurich:20230703T220000
DTSTAMP:20260426T035943
CREATED:20230517T101917Z
LAST-MODIFIED:20230703T195210Z
UID:111769-1688416200-1688421600@cevibasel.ch
SUMMARY:Hattrick Ladies\, 20.30-22.00
DESCRIPTION:
URL:https://cevibasel.ch/veranstaltung/hattrick-ladies-20-30-22-00-42/
LOCATION:Fussballfelder Pfaffenholz
END:VEVENT
BEGIN:VEVENT
DTSTART;VALUE=DATE:20230704
DTEND;VALUE=DATE:20230705
DTSTAMP:20260426T035943
CREATED:20230505T104020Z
LAST-MODIFIED:20230510T145655Z
UID:109186-1688428800-1688515199@cevibasel.ch
SUMMARY:Spaghettizistig\, 12.00-14.00 Uhr
DESCRIPTION:
URL:https://cevibasel.ch/veranstaltung/spaghettizistig-12-00-14-00-uhr-9/
END:VEVENT
BEGIN:VEVENT
DTSTART;TZID=Europe/Zurich:20230704T080000
DTEND;TZID=Europe/Zurich:20230704T160000
DTSTAMP:20260426T035943
CREATED:20230124T095347Z
LAST-MODIFIED:20230704T135019Z
UID:106279-1688457600-1688486400@cevibasel.ch
SUMMARY:Hattrick Tageslager
DESCRIPTION:
URL:https://cevibasel.ch/veranstaltung/hattrick-tageslager-6/
END:VEVENT
BEGIN:VEVENT
DTSTART;TZID=Europe/Zurich:20230704T173000
DTEND;TZID=Europe/Zurich:20230704T190000
DTSTAMP:20260426T035943
CREATED:20230517T101919Z
LAST-MODIFIED:20230704T165749Z
UID:111771-1688491800-1688497200@cevibasel.ch
SUMMARY:Hattrick Riehen (1. bis 3. Klasse)
DESCRIPTION:
URL:https://cevibasel.ch/veranstaltung/hattrick-riehen-1-bis-3-klasse-7/
LOCATION:Fussballplatz Andreasmatte
END:VEVENT
BEGIN:VEVENT
DTSTART;TZID=Europe/Zurich:20230704T180000
DTEND;TZID=Europe/Zurich:20230704T193000
DTSTAMP:20260426T035943
CREATED:20230517T101919Z
LAST-MODIFIED:20230704T172435Z
UID:111772-1688493600-1688499000@cevibasel.ch
SUMMARY:Hattrick Gellert (7-12 Jahre)
DESCRIPTION:
URL:https://cevibasel.ch/veranstaltung/hattrick-gellert-7-12-jahre-7/
LOCATION:Fussballplatz Luftmatt
END:VEVENT
BEGIN:VEVENT
DTSTART;TZID=Europe/Zurich:20230704T190000
DTEND;TZID=Europe/Zurich:20230704T203000
DTSTAMP:20260426T035943
CREATED:20230517T103304Z
LAST-MODIFIED:20230704T182108Z
UID:111952-1688497200-1688502600@cevibasel.ch
SUMMARY:Hattrick Riehen (6. bis 7. Klasse)
DESCRIPTION:
URL:https://cevibasel.ch/veranstaltung/hattrick-riehen-6-bis-7-klasse-7/
LOCATION:Fussballplatz Andreasmatte
END:VEVENT
BEGIN:VEVENT
DTSTART;VALUE=DATE:20230705
DTEND;VALUE=DATE:20230706
DTSTAMP:20260426T035943
CREATED:20230221T113140Z
LAST-MODIFIED:20230510T145655Z
UID:107143-1688515200-1688601599@cevibasel.ch
SUMMARY:Altpapier
DESCRIPTION:
URL:https://cevibasel.ch/veranstaltung/altpapier-5/
END:VEVENT
BEGIN:VEVENT
DTSTART;VALUE=DATE:20230705
DTEND;VALUE=DATE:20230706
DTSTAMP:20260426T035943
CREATED:20230505T103941Z
LAST-MODIFIED:20230510T145837Z
UID:109184-1688515200-1688601599@cevibasel.ch
SUMMARY:Spielgruppe\, 8.30-11.30 Uhr
DESCRIPTION:
URL:https://cevibasel.ch/veranstaltung/spielgruppe-8-30-11-30-uhr-18/
END:VEVENT
BEGIN:VEVENT
DTSTART;VALUE=DATE:20230705
DTEND;VALUE=DATE:20230706
DTSTAMP:20260426T035943
CREATED:20230505T104020Z
LAST-MODIFIED:20230510T145655Z
UID:109185-1688515200-1688601599@cevibasel.ch
SUMMARY:Mütterngruppe\, 9.00-11.30 Uhr
DESCRIPTION:
URL:https://cevibasel.ch/veranstaltung/muetterngruppe-9-00-11-30-uhr-5/
END:VEVENT
BEGIN:VEVENT
DTSTART;VALUE=DATE:20230705
DTEND;VALUE=DATE:20230706
DTSTAMP:20260426T035943
CREATED:20230508T085846Z
LAST-MODIFIED:20230510T145655Z
UID:110486-1688515200-1688601599@cevibasel.ch
SUMMARY:Beachvolleyball 16.00-18.00 Uhr\, im Rankhof
DESCRIPTION:
URL:https://cevibasel.ch/veranstaltung/beachvolleyball-16-00-18-00-uhr-im-rankhof-9/
END:VEVENT
BEGIN:VEVENT
DTSTART;TZID=Europe/Zurich:20230705T080000
DTEND;TZID=Europe/Zurich:20230705T160000
DTSTAMP:20260426T035943
CREATED:20230124T095347Z
LAST-MODIFIED:20230705T135601Z
UID:106280-1688544000-1688572800@cevibasel.ch
SUMMARY:Hattrick Tageslager
DESCRIPTION:
URL:https://cevibasel.ch/veranstaltung/hattrick-tageslager-7/
END:VEVENT
BEGIN:VEVENT
DTSTART;TZID=Europe/Zurich:20230705T180000
DTEND;TZID=Europe/Zurich:20230705T194500
DTSTAMP:20260426T035943
CREATED:20230517T103304Z
LAST-MODIFIED:20230705T173518Z
UID:111953-1688580000-1688586300@cevibasel.ch
SUMMARY:Limitless Parkour & Freerunning
DESCRIPTION:
URL:https://cevibasel.ch/veranstaltung/limitless-parkour-freerunning-6/
LOCATION:Turnhalle Sekundarschule St. Alban
END:VEVENT
END:VCALENDAR