BEGIN:VCALENDAR
VERSION:2.0
PRODID:-//Cevi Region Basel - ECPv6.15.20//NONSGML v1.0//EN
CALSCALE:GREGORIAN
METHOD:PUBLISH
X-WR-CALNAME:Cevi Region Basel
X-ORIGINAL-URL:https://cevibasel.ch
X-WR-CALDESC:Events for Cevi Region Basel
REFRESH-INTERVAL;VALUE=DURATION:PT1H
X-Robots-Tag:noindex
X-PUBLISHED-TTL:PT1H
BEGIN:VTIMEZONE
TZID:Europe/Zurich
BEGIN:DAYLIGHT
TZOFFSETFROM:+0100
TZOFFSETTO:+0200
TZNAME:CEST
DTSTART:20240331T010000
END:DAYLIGHT
BEGIN:STANDARD
TZOFFSETFROM:+0200
TZOFFSETTO:+0100
TZNAME:CET
DTSTART:20241027T010000
END:STANDARD
BEGIN:DAYLIGHT
TZOFFSETFROM:+0100
TZOFFSETTO:+0200
TZNAME:CEST
DTSTART:20250330T010000
END:DAYLIGHT
BEGIN:STANDARD
TZOFFSETFROM:+0200
TZOFFSETTO:+0100
TZNAME:CET
DTSTART:20251026T010000
END:STANDARD
BEGIN:DAYLIGHT
TZOFFSETFROM:+0100
TZOFFSETTO:+0200
TZNAME:CEST
DTSTART:20260329T010000
END:DAYLIGHT
BEGIN:STANDARD
TZOFFSETFROM:+0200
TZOFFSETTO:+0100
TZNAME:CET
DTSTART:20261025T010000
END:STANDARD
END:VTIMEZONE
BEGIN:VEVENT
DTSTART;TZID=Europe/Zurich:20250602T190000
DTEND;TZID=Europe/Zurich:20250602T203000
DTSTAMP:20260426T033852
CREATED:20240625T134435Z
LAST-MODIFIED:20250602T182000Z
UID:121444-1748890800-1748896200@cevibasel.ch
SUMMARY:Hattrick Men\, 19.00-20.30
DESCRIPTION:
URL:https://cevibasel.ch/veranstaltung/hattrick-men-19-00-20-30-141/
LOCATION:Fussballfelder Pfaffenholz
END:VEVENT
BEGIN:VEVENT
DTSTART;TZID=Europe/Zurich:20250602T203000
DTEND;TZID=Europe/Zurich:20250602T220000
DTSTAMP:20260426T033852
CREATED:20240625T134436Z
LAST-MODIFIED:20250602T194951Z
UID:121445-1748896200-1748901600@cevibasel.ch
SUMMARY:Hattrick Ladies\, 20.30-22.00
DESCRIPTION:
URL:https://cevibasel.ch/veranstaltung/hattrick-ladies-20-30-22-00-142/
LOCATION:Fussballfelder Pfaffenholz
END:VEVENT
BEGIN:VEVENT
DTSTART;TZID=Europe/Zurich:20250603T173000
DTEND;TZID=Europe/Zurich:20250603T190000
DTSTAMP:20260426T033852
CREATED:20240625T134436Z
LAST-MODIFIED:20250603T164956Z
UID:121447-1748971800-1748977200@cevibasel.ch
SUMMARY:Hattrick Riehen (1. bis 3. Klasse)
DESCRIPTION:
URL:https://cevibasel.ch/veranstaltung/hattrick-riehen-1-bis-3-klasse-107/
LOCATION:Fussballplatz Andreasmatte
END:VEVENT
BEGIN:VEVENT
DTSTART;TZID=Europe/Zurich:20250603T180000
DTEND;TZID=Europe/Zurich:20250603T193000
DTSTAMP:20260426T033852
CREATED:20240625T134436Z
LAST-MODIFIED:20250603T171955Z
UID:121446-1748973600-1748979000@cevibasel.ch
SUMMARY:Hattrick Gellert (7-12 Jahre)
DESCRIPTION:
URL:https://cevibasel.ch/veranstaltung/hattrick-gellert-7-12-jahre-107/
LOCATION:Fussballplatz Luftmatt
END:VEVENT
BEGIN:VEVENT
DTSTART;TZID=Europe/Zurich:20250603T190000
DTEND;TZID=Europe/Zurich:20250603T203000
DTSTAMP:20260426T033852
CREATED:20240625T134438Z
LAST-MODIFIED:20250603T182032Z
UID:121448-1748977200-1748982600@cevibasel.ch
SUMMARY:Hattrick Riehen (6. bis 7. Klasse)
DESCRIPTION:
URL:https://cevibasel.ch/veranstaltung/hattrick-riehen-6-bis-7-klasse-107/
LOCATION:Fussballplatz Andreasmatte
END:VEVENT
BEGIN:VEVENT
DTSTART;TZID=Europe/Zurich:20250604T183000
DTEND;TZID=Europe/Zurich:20250604T210000
DTSTAMP:20260426T033852
CREATED:20240625T134438Z
LAST-MODIFIED:20250604T184954Z
UID:121449-1749061800-1749070800@cevibasel.ch
SUMMARY:Ten Sing
DESCRIPTION:
URL:https://cevibasel.ch/veranstaltung/ten-sing-106/
LOCATION:CVJM Haus Kleinbasel
END:VEVENT
BEGIN:VEVENT
DTSTART;TZID=Europe/Zurich:20250605T083000
DTEND;TZID=Europe/Zurich:20250605T113000
DTSTAMP:20260426T033852
CREATED:20240812T101435Z
LAST-MODIFIED:20250113T113329Z
UID:127515-1749112200-1749123000@cevibasel.ch
SUMMARY:Mütterngruppe
DESCRIPTION:
URL:https://cevibasel.ch/veranstaltung/mutterngruppe-173/
LOCATION:Cevi Seki
END:VEVENT
BEGIN:VEVENT
DTSTART;TZID=Europe/Zurich:20250605T083000
DTEND;TZID=Europe/Zurich:20250605T113000
DTSTAMP:20260426T033852
CREATED:20240812T101435Z
LAST-MODIFIED:20241227T021726Z
UID:127516-1749112200-1749123000@cevibasel.ch
SUMMARY:Mütterngruppe
DESCRIPTION:
URL:https://cevibasel.ch/veranstaltung/mutterngruppe-174/
LOCATION:Cevi Seki
END:VEVENT
BEGIN:VEVENT
DTSTART;TZID=Europe/Zurich:20250605T083000
DTEND;TZID=Europe/Zurich:20250605T113000
DTSTAMP:20260426T033852
CREATED:20240812T101435Z
LAST-MODIFIED:20250605T091956Z
UID:127517-1749112200-1749123000@cevibasel.ch
SUMMARY:Mütterngruppe
DESCRIPTION:
URL:https://cevibasel.ch/veranstaltung/mutterngruppe-175/
LOCATION:Cevi Seki
END:VEVENT
BEGIN:VEVENT
DTSTART;TZID=Europe/Zurich:20250605T083000
DTEND;TZID=Europe/Zurich:20250605T113000
DTSTAMP:20260426T033852
CREATED:20240812T101435Z
LAST-MODIFIED:20241227T021728Z
UID:127518-1749112200-1749123000@cevibasel.ch
SUMMARY:Mütterngruppe
DESCRIPTION:
URL:https://cevibasel.ch/veranstaltung/mutterngruppe-176/
LOCATION:Cevi Seki
END:VEVENT
BEGIN:VEVENT
DTSTART;TZID=Europe/Zurich:20250605T083000
DTEND;TZID=Europe/Zurich:20250605T113000
DTSTAMP:20260426T033852
CREATED:20240812T101438Z
LAST-MODIFIED:20250113T113329Z
UID:127520-1749112200-1749123000@cevibasel.ch
SUMMARY:Mütterngruppe
DESCRIPTION:
URL:https://cevibasel.ch/veranstaltung/mutterngruppe-178/
LOCATION:Cevi Seki
END:VEVENT
BEGIN:VEVENT
DTSTART;TZID=Europe/Zurich:20250605T083000
DTEND;TZID=Europe/Zurich:20250605T113000
DTSTAMP:20260426T033852
CREATED:20240812T101438Z
LAST-MODIFIED:20241227T021726Z
UID:127521-1749112200-1749123000@cevibasel.ch
SUMMARY:Mütterngruppe
DESCRIPTION:
URL:https://cevibasel.ch/veranstaltung/mutterngruppe-179/
LOCATION:Cevi Seki
END:VEVENT
BEGIN:VEVENT
DTSTART;TZID=Europe/Zurich:20250605T083000
DTEND;TZID=Europe/Zurich:20250605T113000
DTSTAMP:20260426T033852
CREATED:20240812T101438Z
LAST-MODIFIED:20241227T021728Z
UID:127522-1749112200-1749123000@cevibasel.ch
SUMMARY:Mütterngruppe
DESCRIPTION:
URL:https://cevibasel.ch/veranstaltung/mutterngruppe-180/
LOCATION:Cevi Seki
END:VEVENT
BEGIN:VEVENT
DTSTART;TZID=Europe/Zurich:20250605T083000
DTEND;TZID=Europe/Zurich:20250605T113000
DTSTAMP:20260426T033852
CREATED:20240812T101438Z
LAST-MODIFIED:20241227T021726Z
UID:127523-1749112200-1749123000@cevibasel.ch
SUMMARY:Mütterngruppe
DESCRIPTION:
URL:https://cevibasel.ch/veranstaltung/mutterngruppe-181/
LOCATION:Cevi Seki
END:VEVENT
BEGIN:VEVENT
DTSTART;TZID=Europe/Zurich:20250605T083000
DTEND;TZID=Europe/Zurich:20250605T113000
DTSTAMP:20260426T033852
CREATED:20240812T101438Z
LAST-MODIFIED:20241227T021728Z
UID:127519-1749112200-1749123000@cevibasel.ch
SUMMARY:Mütterngruppe
DESCRIPTION:
URL:https://cevibasel.ch/veranstaltung/mutterngruppe-177/
LOCATION:Cevi Seki
END:VEVENT
BEGIN:VEVENT
DTSTART;TZID=Europe/Zurich:20250606T173000
DTEND;TZID=Europe/Zurich:20250606T190000
DTSTAMP:20260426T033852
CREATED:20240625T134439Z
LAST-MODIFIED:20250606T164950Z
UID:121451-1749231000-1749236400@cevibasel.ch
SUMMARY:Hattrick Basel West (7-15 Jahre)
DESCRIPTION:
URL:https://cevibasel.ch/veranstaltung/hattrick-basel-west-7-15-jahre-107/
END:VEVENT
BEGIN:VEVENT
DTSTART;TZID=Europe/Zurich:20250606T173000
DTEND;TZID=Europe/Zurich:20250606T190000
DTSTAMP:20260426T033852
CREATED:20240625T134439Z
LAST-MODIFIED:20250606T164950Z
UID:121452-1749231000-1749236400@cevibasel.ch
SUMMARY:Hattrick Riehen (4. bis 5. Klasse)
DESCRIPTION:
URL:https://cevibasel.ch/veranstaltung/hattrick-riehen-4-bis-5-klasse-107/
LOCATION:Andreasmatte
END:VEVENT
BEGIN:VEVENT
DTSTART;TZID=Europe/Zurich:20250606T190000
DTEND;TZID=Europe/Zurich:20250606T203000
DTSTAMP:20260426T033852
CREATED:20240625T134438Z
LAST-MODIFIED:20250606T181948Z
UID:121450-1749236400-1749241800@cevibasel.ch
SUMMARY:Hattrick Basel West (16-18 Jahre)
DESCRIPTION:
URL:https://cevibasel.ch/veranstaltung/hattrick-basel-west-16-18-jahre-107/
LOCATION:Fussballfelder Pfaffenholz
END:VEVENT
BEGIN:VEVENT
DTSTART;TZID=Europe/Zurich:20250607T133000
DTEND;TZID=Europe/Zurich:20250607T153000
DTSTAMP:20260426T033852
CREATED:20240625T134442Z
LAST-MODIFIED:20250607T132032Z
UID:121458-1749303000-1749310200@cevibasel.ch
SUMMARY:Hattrick Gundeli (6-11 Jahre)
DESCRIPTION:
URL:https://cevibasel.ch/veranstaltung/hattrick-gundeli-6-11-jahre-107/
LOCATION:Margarethenpark
END:VEVENT
BEGIN:VEVENT
DTSTART;TZID=Europe/Zurich:20250607T140000
DTEND;TZID=Europe/Zurich:20250607T170000
DTSTAMP:20260426T033852
CREATED:20240625T134440Z
LAST-MODIFIED:20250607T145106Z
UID:121455-1749304800-1749315600@cevibasel.ch
SUMMARY:Jungschi Thomas
DESCRIPTION:
URL:https://cevibasel.ch/veranstaltung/jungschi-thomas-107/
END:VEVENT
BEGIN:VEVENT
DTSTART;TZID=Europe/Zurich:20250607T140000
DTEND;TZID=Europe/Zurich:20250607T170000
DTSTAMP:20260426T033852
CREATED:20240625T134440Z
LAST-MODIFIED:20250607T145106Z
UID:121456-1749304800-1749315600@cevibasel.ch
SUMMARY:Jungschi Ettigen & Therwil
DESCRIPTION:
URL:https://cevibasel.ch/veranstaltung/jungschi-ettigen-therwil-107/
END:VEVENT
BEGIN:VEVENT
DTSTART;TZID=Europe/Zurich:20250607T140000
DTEND;TZID=Europe/Zurich:20250607T170000
DTSTAMP:20260426T033852
CREATED:20240625T134440Z
LAST-MODIFIED:20250607T145106Z
UID:121457-1749304800-1749315600@cevibasel.ch
SUMMARY:Jungschi Binningen
DESCRIPTION:
URL:https://cevibasel.ch/veranstaltung/jungschi-binningen-107/
END:VEVENT
BEGIN:VEVENT
DTSTART;TZID=Europe/Zurich:20250607T140000
DTEND;TZID=Europe/Zurich:20250607T170000
DTSTAMP:20260426T033852
CREATED:20240625T134440Z
LAST-MODIFIED:20250607T145106Z
UID:121453-1749304800-1749315600@cevibasel.ch
SUMMARY:Jungschi Gotthelf-Neubad
DESCRIPTION:
URL:https://cevibasel.ch/veranstaltung/jungschi-gotthelf-neubad-107/
END:VEVENT
BEGIN:VEVENT
DTSTART;TZID=Europe/Zurich:20250607T140000
DTEND;TZID=Europe/Zurich:20250607T170000
DTSTAMP:20260426T033852
CREATED:20240625T134440Z
LAST-MODIFIED:20241105T105735Z
UID:121454-1749304800-1749315600@cevibasel.ch
SUMMARY:Jungschi Reinach
DESCRIPTION:
URL:https://cevibasel.ch/veranstaltung/jungschi-reinach-107/
END:VEVENT
BEGIN:VEVENT
DTSTART;TZID=Europe/Zurich:20250607T140000
DTEND;TZID=Europe/Zurich:20250607T170000
DTSTAMP:20260426T033852
CREATED:20240625T134442Z
LAST-MODIFIED:20241105T105739Z
UID:121460-1749304800-1749315600@cevibasel.ch
SUMMARY:Jungschi Muttenz
DESCRIPTION:
URL:https://cevibasel.ch/veranstaltung/jungschi-muttenz-107/
END:VEVENT
BEGIN:VEVENT
DTSTART;TZID=Europe/Zurich:20250607T140000
DTEND;TZID=Europe/Zurich:20250607T170000
DTSTAMP:20260426T033852
CREATED:20240625T134442Z
LAST-MODIFIED:20250607T145106Z
UID:121461-1749304800-1749315600@cevibasel.ch
SUMMARY:Jungschi Titus
DESCRIPTION:
URL:https://cevibasel.ch/veranstaltung/jungschi-titus-107/
END:VEVENT
BEGIN:VEVENT
DTSTART;TZID=Europe/Zurich:20250607T140000
DTEND;TZID=Europe/Zurich:20250607T170000
DTSTAMP:20260426T033852
CREATED:20240625T134442Z
LAST-MODIFIED:20250607T145212Z
UID:121462-1749304800-1749315600@cevibasel.ch
SUMMARY:Jungschi Bubendorf
DESCRIPTION:
URL:https://cevibasel.ch/veranstaltung/jungschi-bubendorf-107/
END:VEVENT
BEGIN:VEVENT
DTSTART;TZID=Europe/Zurich:20250607T140000
DTEND;TZID=Europe/Zurich:20250607T170000
DTSTAMP:20260426T033852
CREATED:20240625T134442Z
LAST-MODIFIED:20250607T145212Z
UID:121459-1749304800-1749315600@cevibasel.ch
SUMMARY:Jungschi Allschwil
DESCRIPTION:
URL:https://cevibasel.ch/veranstaltung/jungschi-allschwil-107/
END:VEVENT
BEGIN:VEVENT
DTSTART;TZID=Europe/Zurich:20250609T190000
DTEND;TZID=Europe/Zurich:20250609T203000
DTSTAMP:20260426T033852
CREATED:20240625T134443Z
LAST-MODIFIED:20250609T182049Z
UID:121464-1749495600-1749501000@cevibasel.ch
SUMMARY:Hattrick Men\, 19.00-20.30
DESCRIPTION:
URL:https://cevibasel.ch/veranstaltung/hattrick-men-19-00-20-30-142/
LOCATION:Fussballfelder Pfaffenholz
END:VEVENT
BEGIN:VEVENT
DTSTART;TZID=Europe/Zurich:20250609T203000
DTEND;TZID=Europe/Zurich:20250609T220000
DTSTAMP:20260426T033852
CREATED:20240625T134443Z
LAST-MODIFIED:20250609T195038Z
UID:121463-1749501000-1749506400@cevibasel.ch
SUMMARY:Hattrick Ladies\, 20.30-22.00
DESCRIPTION:
URL:https://cevibasel.ch/veranstaltung/hattrick-ladies-20-30-22-00-143/
LOCATION:Fussballfelder Pfaffenholz
END:VEVENT
END:VCALENDAR