BEGIN:VCALENDAR
VERSION:2.0
PRODID:-//Cevi Region Basel - ECPv6.15.20//NONSGML v1.0//EN
CALSCALE:GREGORIAN
METHOD:PUBLISH
X-ORIGINAL-URL:https://cevibasel.ch
X-WR-CALDESC:Events for Cevi Region Basel
REFRESH-INTERVAL;VALUE=DURATION:PT1H
X-Robots-Tag:noindex
X-PUBLISHED-TTL:PT1H
BEGIN:VTIMEZONE
TZID:Europe/Zurich
BEGIN:DAYLIGHT
TZOFFSETFROM:+0100
TZOFFSETTO:+0200
TZNAME:CEST
DTSTART:20240331T010000
END:DAYLIGHT
BEGIN:STANDARD
TZOFFSETFROM:+0200
TZOFFSETTO:+0100
TZNAME:CET
DTSTART:20241027T010000
END:STANDARD
BEGIN:DAYLIGHT
TZOFFSETFROM:+0100
TZOFFSETTO:+0200
TZNAME:CEST
DTSTART:20250330T010000
END:DAYLIGHT
BEGIN:STANDARD
TZOFFSETFROM:+0200
TZOFFSETTO:+0100
TZNAME:CET
DTSTART:20251026T010000
END:STANDARD
BEGIN:DAYLIGHT
TZOFFSETFROM:+0100
TZOFFSETTO:+0200
TZNAME:CEST
DTSTART:20260329T010000
END:DAYLIGHT
BEGIN:STANDARD
TZOFFSETFROM:+0200
TZOFFSETTO:+0100
TZNAME:CET
DTSTART:20261025T010000
END:STANDARD
END:VTIMEZONE
BEGIN:VEVENT
DTSTART;TZID=Europe/Zurich:20251001T083000
DTEND;TZID=Europe/Zurich:20251001T110000
DTSTAMP:20260425T182443
CREATED:20240812T101934Z
LAST-MODIFIED:20250703T211602Z
UID:127604-1759307400-1759316400@cevibasel.ch
SUMMARY:Mütterngruppe
DESCRIPTION:
URL:https://cevibasel.ch/veranstaltung/mutterngruppe-262/
LOCATION:Cevi Seki
END:VEVENT
BEGIN:VEVENT
DTSTART;TZID=Europe/Zurich:20251001T183000
DTEND;TZID=Europe/Zurich:20251001T210000
DTSTAMP:20260425T182443
CREATED:20240625T134732Z
LAST-MODIFIED:20251001T185120Z
UID:121783-1759343400-1759352400@cevibasel.ch
SUMMARY:Ten Sing
DESCRIPTION:
URL:https://cevibasel.ch/veranstaltung/ten-sing-123/
LOCATION:CVJM Haus Kleinbasel
END:VEVENT
BEGIN:VEVENT
DTSTART;TZID=Europe/Zurich:20251002T080000
DTEND;TZID=Europe/Zurich:20251002T103000
DTSTAMP:20260425T182443
CREATED:20240625T134732Z
LAST-MODIFIED:20240812T100000Z
UID:121784-1759392000-1759401000@cevibasel.ch
SUMMARY:Mütterngruppe
DESCRIPTION:
URL:https://cevibasel.ch/veranstaltung/muetterngruppe-72/
LOCATION:Cevi Seki
END:VEVENT
BEGIN:VEVENT
DTSTART;TZID=Europe/Zurich:20251003T173000
DTEND;TZID=Europe/Zurich:20251003T190000
DTSTAMP:20260425T182443
CREATED:20240625T134733Z
LAST-MODIFIED:20251003T165032Z
UID:121786-1759512600-1759518000@cevibasel.ch
SUMMARY:Hattrick Basel West (7-15 Jahre)
DESCRIPTION:
URL:https://cevibasel.ch/veranstaltung/hattrick-basel-west-7-15-jahre-124/
END:VEVENT
BEGIN:VEVENT
DTSTART;TZID=Europe/Zurich:20251003T173000
DTEND;TZID=Europe/Zurich:20251003T190000
DTSTAMP:20260425T182443
CREATED:20240625T134733Z
LAST-MODIFIED:20251003T165032Z
UID:121787-1759512600-1759518000@cevibasel.ch
SUMMARY:Hattrick Riehen (4. bis 5. Klasse)
DESCRIPTION:
URL:https://cevibasel.ch/veranstaltung/hattrick-riehen-4-bis-5-klasse-124/
LOCATION:Andreasmatte
END:VEVENT
BEGIN:VEVENT
DTSTART;TZID=Europe/Zurich:20251003T190000
DTEND;TZID=Europe/Zurich:20251003T203000
DTSTAMP:20260425T182443
CREATED:20240625T134732Z
LAST-MODIFIED:20251003T181951Z
UID:121785-1759518000-1759523400@cevibasel.ch
SUMMARY:Hattrick Basel West (16-18 Jahre)
DESCRIPTION:
URL:https://cevibasel.ch/veranstaltung/hattrick-basel-west-16-18-jahre-124/
LOCATION:Fussballfelder Pfaffenholz
END:VEVENT
BEGIN:VEVENT
DTSTART;TZID=Europe/Zurich:20251004T133000
DTEND;TZID=Europe/Zurich:20251004T153000
DTSTAMP:20260425T182443
CREATED:20240625T134740Z
LAST-MODIFIED:20251004T132005Z
UID:121797-1759584600-1759591800@cevibasel.ch
SUMMARY:Hattrick Gundeli (6-11 Jahre)
DESCRIPTION:
URL:https://cevibasel.ch/veranstaltung/hattrick-gundeli-6-11-jahre-124/
LOCATION:Margarethenpark
END:VEVENT
BEGIN:VEVENT
DTSTART;TZID=Europe/Zurich:20251004T140000
DTEND;TZID=Europe/Zurich:20251004T170000
DTSTAMP:20260425T182443
CREATED:20240625T134733Z
LAST-MODIFIED:20251004T145014Z
UID:121788-1759586400-1759597200@cevibasel.ch
SUMMARY:Jungschi Allschwil
DESCRIPTION:
URL:https://cevibasel.ch/veranstaltung/jungschi-allschwil-124/
END:VEVENT
BEGIN:VEVENT
DTSTART;TZID=Europe/Zurich:20251004T140000
DTEND;TZID=Europe/Zurich:20251004T170000
DTSTAMP:20260425T182443
CREATED:20240625T134733Z
LAST-MODIFIED:20251004T145014Z
UID:121789-1759586400-1759597200@cevibasel.ch
SUMMARY:Jungschi Thomas
DESCRIPTION:
URL:https://cevibasel.ch/veranstaltung/jungschi-thomas-124/
END:VEVENT
BEGIN:VEVENT
DTSTART;TZID=Europe/Zurich:20251004T140000
DTEND;TZID=Europe/Zurich:20251004T170000
DTSTAMP:20260425T182443
CREATED:20240625T134733Z
LAST-MODIFIED:20251004T145014Z
UID:121790-1759586400-1759597200@cevibasel.ch
SUMMARY:Jungschi Bubendorf
DESCRIPTION:
URL:https://cevibasel.ch/veranstaltung/jungschi-bubendorf-124/
END:VEVENT
BEGIN:VEVENT
DTSTART;TZID=Europe/Zurich:20251004T140000
DTEND;TZID=Europe/Zurich:20251004T170000
DTSTAMP:20260425T182443
CREATED:20240625T134735Z
LAST-MODIFIED:20251004T145014Z
UID:121794-1759586400-1759597200@cevibasel.ch
SUMMARY:Jungschi Binningen
DESCRIPTION:
URL:https://cevibasel.ch/veranstaltung/jungschi-binningen-124/
END:VEVENT
BEGIN:VEVENT
DTSTART;TZID=Europe/Zurich:20251004T140000
DTEND;TZID=Europe/Zurich:20251004T170000
DTSTAMP:20260425T182443
CREATED:20240625T134735Z
LAST-MODIFIED:20251004T145040Z
UID:121791-1759586400-1759597200@cevibasel.ch
SUMMARY:Jungschi Gotthelf-Neubad
DESCRIPTION:
URL:https://cevibasel.ch/veranstaltung/jungschi-gotthelf-neubad-124/
END:VEVENT
BEGIN:VEVENT
DTSTART;TZID=Europe/Zurich:20251004T140000
DTEND;TZID=Europe/Zurich:20251004T170000
DTSTAMP:20260425T182443
CREATED:20240625T134735Z
LAST-MODIFIED:20251004T145014Z
UID:121792-1759586400-1759597200@cevibasel.ch
SUMMARY:Jungschi Ettigen & Therwil
DESCRIPTION:
URL:https://cevibasel.ch/veranstaltung/jungschi-ettigen-therwil-124/
END:VEVENT
BEGIN:VEVENT
DTSTART;TZID=Europe/Zurich:20251004T140000
DTEND;TZID=Europe/Zurich:20251004T170000
DTSTAMP:20260425T182443
CREATED:20240625T134735Z
LAST-MODIFIED:20241105T110026Z
UID:121793-1759586400-1759597200@cevibasel.ch
SUMMARY:Jungschi Muttenz
DESCRIPTION:
URL:https://cevibasel.ch/veranstaltung/jungschi-muttenz-124/
END:VEVENT
BEGIN:VEVENT
DTSTART;TZID=Europe/Zurich:20251004T140000
DTEND;TZID=Europe/Zurich:20251004T170000
DTSTAMP:20260425T182443
CREATED:20240625T134736Z
LAST-MODIFIED:20241105T110026Z
UID:121795-1759586400-1759597200@cevibasel.ch
SUMMARY:Jungschi Reinach
DESCRIPTION:
URL:https://cevibasel.ch/veranstaltung/jungschi-reinach-124/
END:VEVENT
BEGIN:VEVENT
DTSTART;TZID=Europe/Zurich:20251004T140000
DTEND;TZID=Europe/Zurich:20251004T170000
DTSTAMP:20260425T182443
CREATED:20240625T134740Z
LAST-MODIFIED:20251004T145040Z
UID:121796-1759586400-1759597200@cevibasel.ch
SUMMARY:Jungschi Titus
DESCRIPTION:
URL:https://cevibasel.ch/veranstaltung/jungschi-titus-124/
END:VEVENT
BEGIN:VEVENT
DTSTART;TZID=Europe/Zurich:20251006T190000
DTEND;TZID=Europe/Zurich:20251006T203000
DTSTAMP:20260425T182443
CREATED:20240625T134740Z
LAST-MODIFIED:20251006T182334Z
UID:121798-1759777200-1759782600@cevibasel.ch
SUMMARY:Hattrick Men\, 19.00-20.30
DESCRIPTION:
URL:https://cevibasel.ch/veranstaltung/hattrick-men-19-00-20-30-159/
LOCATION:Fussballfelder Pfaffenholz
END:VEVENT
BEGIN:VEVENT
DTSTART;TZID=Europe/Zurich:20251006T203000
DTEND;TZID=Europe/Zurich:20251006T220000
DTSTAMP:20260425T182443
CREATED:20240625T134740Z
LAST-MODIFIED:20251006T195144Z
UID:121799-1759782600-1759788000@cevibasel.ch
SUMMARY:Hattrick Ladies\, 20.30-22.00
DESCRIPTION:
URL:https://cevibasel.ch/veranstaltung/hattrick-ladies-20-30-22-00-160/
LOCATION:Fussballfelder Pfaffenholz
END:VEVENT
BEGIN:VEVENT
DTSTART;TZID=Europe/Zurich:20251007T173000
DTEND;TZID=Europe/Zurich:20251007T190000
DTSTAMP:20260425T182443
CREATED:20240625T134740Z
LAST-MODIFIED:20251007T164957Z
UID:121800-1759858200-1759863600@cevibasel.ch
SUMMARY:Hattrick Riehen (1. bis 3. Klasse)
DESCRIPTION:
URL:https://cevibasel.ch/veranstaltung/hattrick-riehen-1-bis-3-klasse-125/
LOCATION:Fussballplatz Andreasmatte
END:VEVENT
BEGIN:VEVENT
DTSTART;TZID=Europe/Zurich:20251007T180000
DTEND;TZID=Europe/Zurich:20251007T193000
DTSTAMP:20260425T182443
CREATED:20240625T134741Z
LAST-MODIFIED:20251007T172141Z
UID:121801-1759860000-1759865400@cevibasel.ch
SUMMARY:Hattrick Gellert (7-12 Jahre)
DESCRIPTION:
URL:https://cevibasel.ch/veranstaltung/hattrick-gellert-7-12-jahre-125/
LOCATION:Fussballplatz Luftmatt
END:VEVENT
BEGIN:VEVENT
DTSTART;TZID=Europe/Zurich:20251007T190000
DTEND;TZID=Europe/Zurich:20251007T203000
DTSTAMP:20260425T182443
CREATED:20240625T134741Z
LAST-MODIFIED:20251007T181948Z
UID:121802-1759863600-1759869000@cevibasel.ch
SUMMARY:Hattrick Riehen (6. bis 7. Klasse)
DESCRIPTION:
URL:https://cevibasel.ch/veranstaltung/hattrick-riehen-6-bis-7-klasse-125/
LOCATION:Fussballplatz Andreasmatte
END:VEVENT
BEGIN:VEVENT
DTSTART;TZID=Europe/Zurich:20251008T183000
DTEND;TZID=Europe/Zurich:20251008T210000
DTSTAMP:20260425T182443
CREATED:20240625T134742Z
LAST-MODIFIED:20251008T184955Z
UID:121803-1759948200-1759957200@cevibasel.ch
SUMMARY:Ten Sing
DESCRIPTION:
URL:https://cevibasel.ch/veranstaltung/ten-sing-124/
LOCATION:CVJM Haus Kleinbasel
END:VEVENT
BEGIN:VEVENT
DTSTART;TZID=Europe/Zurich:20251009T083000
DTEND;TZID=Europe/Zurich:20251009T113000
DTSTAMP:20260425T182443
CREATED:20240812T103150Z
LAST-MODIFIED:20241224T191349Z
UID:127864-1759998600-1760009400@cevibasel.ch
SUMMARY:Mütterngruppe
DESCRIPTION:
URL:https://cevibasel.ch/veranstaltung/mutterngruppe-263/
LOCATION:Cevi Seki
END:VEVENT
BEGIN:VEVENT
DTSTART;TZID=Europe/Zurich:20251009T083000
DTEND;TZID=Europe/Zurich:20251009T113000
DTSTAMP:20260425T182443
CREATED:20240812T103154Z
LAST-MODIFIED:20241224T191349Z
UID:127865-1759998600-1760009400@cevibasel.ch
SUMMARY:Mütterngruppe
DESCRIPTION:
URL:https://cevibasel.ch/veranstaltung/mutterngruppe-264/
LOCATION:Cevi Seki
END:VEVENT
BEGIN:VEVENT
DTSTART;TZID=Europe/Zurich:20251009T083000
DTEND;TZID=Europe/Zurich:20251009T113000
DTSTAMP:20260425T182443
CREATED:20240812T103154Z
LAST-MODIFIED:20250703T211629Z
UID:127866-1759998600-1760009400@cevibasel.ch
SUMMARY:Mütterngruppe
DESCRIPTION:
URL:https://cevibasel.ch/veranstaltung/mutterngruppe-265/
LOCATION:Cevi Seki
END:VEVENT
BEGIN:VEVENT
DTSTART;TZID=Europe/Zurich:20251009T083000
DTEND;TZID=Europe/Zurich:20251009T113000
DTSTAMP:20260425T182443
CREATED:20240812T103154Z
LAST-MODIFIED:20250113T103324Z
UID:127867-1759998600-1760009400@cevibasel.ch
SUMMARY:Mütterngruppe
DESCRIPTION:
URL:https://cevibasel.ch/veranstaltung/mutterngruppe-266/
LOCATION:Cevi Seki
END:VEVENT
BEGIN:VEVENT
DTSTART;TZID=Europe/Zurich:20251009T083000
DTEND;TZID=Europe/Zurich:20251009T113000
DTSTAMP:20260425T182443
CREATED:20240812T103154Z
LAST-MODIFIED:20250113T103324Z
UID:127868-1759998600-1760009400@cevibasel.ch
SUMMARY:Mütterngruppe
DESCRIPTION:
URL:https://cevibasel.ch/veranstaltung/mutterngruppe-267/
LOCATION:Cevi Seki
END:VEVENT
BEGIN:VEVENT
DTSTART;TZID=Europe/Zurich:20251009T083000
DTEND;TZID=Europe/Zurich:20251009T113000
DTSTAMP:20260425T182443
CREATED:20240812T103154Z
LAST-MODIFIED:20241224T191349Z
UID:127869-1759998600-1760009400@cevibasel.ch
SUMMARY:Mütterngruppe
DESCRIPTION:
URL:https://cevibasel.ch/veranstaltung/mutterngruppe-268/
LOCATION:Cevi Seki
END:VEVENT
BEGIN:VEVENT
DTSTART;TZID=Europe/Zurich:20251009T083000
DTEND;TZID=Europe/Zurich:20251009T113000
DTSTAMP:20260425T182443
CREATED:20240812T103158Z
LAST-MODIFIED:20241224T191351Z
UID:127871-1759998600-1760009400@cevibasel.ch
SUMMARY:Mütterngruppe
DESCRIPTION:
URL:https://cevibasel.ch/veranstaltung/mutterngruppe-270/
LOCATION:Cevi Seki
END:VEVENT
BEGIN:VEVENT
DTSTART;TZID=Europe/Zurich:20251009T083000
DTEND;TZID=Europe/Zurich:20251009T113000
DTSTAMP:20260425T182443
CREATED:20240812T103158Z
LAST-MODIFIED:20241224T191350Z
UID:127872-1759998600-1760009400@cevibasel.ch
SUMMARY:Mütterngruppe
DESCRIPTION:
URL:https://cevibasel.ch/veranstaltung/mutterngruppe-271/
LOCATION:Cevi Seki
END:VEVENT
END:VCALENDAR