BEGIN:VCALENDAR
VERSION:2.0
PRODID:-//Cevi Region Basel - ECPv6.15.20//NONSGML v1.0//EN
CALSCALE:GREGORIAN
METHOD:PUBLISH
X-WR-CALNAME:Cevi Region Basel
X-ORIGINAL-URL:https://cevibasel.ch
X-WR-CALDESC:Events for Cevi Region Basel
REFRESH-INTERVAL;VALUE=DURATION:PT1H
X-Robots-Tag:noindex
X-PUBLISHED-TTL:PT1H
BEGIN:VTIMEZONE
TZID:Europe/Zurich
BEGIN:DAYLIGHT
TZOFFSETFROM:+0100
TZOFFSETTO:+0200
TZNAME:CEST
DTSTART:20250330T010000
END:DAYLIGHT
BEGIN:STANDARD
TZOFFSETFROM:+0200
TZOFFSETTO:+0100
TZNAME:CET
DTSTART:20251026T010000
END:STANDARD
BEGIN:DAYLIGHT
TZOFFSETFROM:+0100
TZOFFSETTO:+0200
TZNAME:CEST
DTSTART:20260329T010000
END:DAYLIGHT
BEGIN:STANDARD
TZOFFSETFROM:+0200
TZOFFSETTO:+0100
TZNAME:CET
DTSTART:20261025T010000
END:STANDARD
BEGIN:DAYLIGHT
TZOFFSETFROM:+0100
TZOFFSETTO:+0200
TZNAME:CEST
DTSTART:20270328T010000
END:DAYLIGHT
BEGIN:STANDARD
TZOFFSETFROM:+0200
TZOFFSETTO:+0100
TZNAME:CET
DTSTART:20271031T010000
END:STANDARD
END:VTIMEZONE
BEGIN:VEVENT
DTSTART;VALUE=DATE:20260430
DTEND;VALUE=DATE:20260504
DTSTAMP:20260423T000854
CREATED:20251120T025937Z
LAST-MODIFIED:20260206T032757Z
UID:169894-1777507200-1777852799@cevibasel.ch
SUMMARY:Leitungsausbildung
DESCRIPTION:
URL:https://cevibasel.ch/veranstaltung/leitungsausbildung/
END:VEVENT
BEGIN:VEVENT
DTSTART;TZID=Europe/Zurich:20260501T090000
DTEND;TZID=Europe/Zurich:20260501T130000
DTSTAMP:20260423T000854
CREATED:20251120T025931Z
LAST-MODIFIED:20260206T032757Z
UID:169893-1777626000-1777640400@cevibasel.ch
SUMMARY:Ressort Vernetzung  Jungscharen 1. Mai Brunch
DESCRIPTION:
URL:https://cevibasel.ch/veranstaltung/ressort-vernetzung-jungscharen-1-mai-brunch/
END:VEVENT
BEGIN:VEVENT
DTSTART;TZID=Europe/Zurich:20260501T173000
DTEND;TZID=Europe/Zurich:20260501T190000
DTSTAMP:20260423T000854
CREATED:20240625T224915Z
LAST-MODIFIED:20260206T032758Z
UID:123470-1777656600-1777662000@cevibasel.ch
SUMMARY:Hattrick Riehen (4. bis 5. Klasse)
DESCRIPTION:
URL:https://cevibasel.ch/veranstaltung/hattrick-riehen-4-bis-5-klasse-154/
LOCATION:Andreasmatte
END:VEVENT
BEGIN:VEVENT
DTSTART;TZID=Europe/Zurich:20260501T173000
DTEND;TZID=Europe/Zurich:20260501T190000
DTSTAMP:20260423T000854
CREATED:20240625T224916Z
LAST-MODIFIED:20260206T032758Z
UID:123471-1777656600-1777662000@cevibasel.ch
SUMMARY:Hattrick Basel West (7-15 Jahre)
DESCRIPTION:
URL:https://cevibasel.ch/veranstaltung/hattrick-basel-west-7-15-jahre-154/
END:VEVENT
BEGIN:VEVENT
DTSTART;TZID=Europe/Zurich:20260501T190000
DTEND;TZID=Europe/Zurich:20260501T203000
DTSTAMP:20260423T000854
CREATED:20240625T224915Z
LAST-MODIFIED:20260206T032758Z
UID:123469-1777662000-1777667400@cevibasel.ch
SUMMARY:Hattrick Basel West (16-18 Jahre)
DESCRIPTION:
URL:https://cevibasel.ch/veranstaltung/hattrick-basel-west-16-18-jahre-154/
LOCATION:Fussballfelder Pfaffenholz
END:VEVENT
BEGIN:VEVENT
DTSTART;VALUE=DATE:20260502
DTEND;VALUE=DATE:20260503
DTSTAMP:20260423T000854
CREATED:20251120T025937Z
LAST-MODIFIED:20260206T032800Z
UID:169895-1777680000-1777766399@cevibasel.ch
SUMMARY:Jungschar Angebote
DESCRIPTION:
URL:https://cevibasel.ch/veranstaltung/jungscharangebote-18/
END:VEVENT
BEGIN:VEVENT
DTSTART;TZID=Europe/Zurich:20260502T133000
DTEND;TZID=Europe/Zurich:20260502T153000
DTSTAMP:20260423T000854
CREATED:20240625T224917Z
LAST-MODIFIED:20251120T120635Z
UID:123476-1777728600-1777735800@cevibasel.ch
SUMMARY:Hattrick Gundeli (6-11 Jahre)
DESCRIPTION:
URL:https://cevibasel.ch/veranstaltung/hattrick-gundeli-6-11-jahre-154/
LOCATION:Margarethenpark
END:VEVENT
BEGIN:VEVENT
DTSTART;TZID=Europe/Zurich:20260502T140000
DTEND;TZID=Europe/Zurich:20260502T170000
DTSTAMP:20260423T000854
CREATED:20240625T224916Z
LAST-MODIFIED:20251119T041521Z
UID:123472-1777730400-1777741200@cevibasel.ch
SUMMARY:Jungschi Thomas
DESCRIPTION:
URL:https://cevibasel.ch/veranstaltung/jungschi-thomas-154/
END:VEVENT
BEGIN:VEVENT
DTSTART;TZID=Europe/Zurich:20260502T140000
DTEND;TZID=Europe/Zurich:20260502T170000
DTSTAMP:20260423T000854
CREATED:20240625T224917Z
LAST-MODIFIED:20241105T110247Z
UID:123474-1777730400-1777741200@cevibasel.ch
SUMMARY:Jungschi Reinach
DESCRIPTION:
URL:https://cevibasel.ch/veranstaltung/jungschi-reinach-154/
END:VEVENT
BEGIN:VEVENT
DTSTART;TZID=Europe/Zurich:20260502T140000
DTEND;TZID=Europe/Zurich:20260502T170000
DTSTAMP:20260423T000854
CREATED:20240625T224917Z
LAST-MODIFIED:20251119T041520Z
UID:123475-1777730400-1777741200@cevibasel.ch
SUMMARY:Jungschi Binningen
DESCRIPTION:
URL:https://cevibasel.ch/veranstaltung/jungschi-binningen-154/
END:VEVENT
BEGIN:VEVENT
DTSTART;TZID=Europe/Zurich:20260502T140000
DTEND;TZID=Europe/Zurich:20260502T170000
DTSTAMP:20260423T000854
CREATED:20240625T224917Z
LAST-MODIFIED:20251119T041520Z
UID:123477-1777730400-1777741200@cevibasel.ch
SUMMARY:Jungschi Titus
DESCRIPTION:
URL:https://cevibasel.ch/veranstaltung/jungschi-titus-154/
END:VEVENT
BEGIN:VEVENT
DTSTART;TZID=Europe/Zurich:20260502T140000
DTEND;TZID=Europe/Zurich:20260502T170000
DTSTAMP:20260423T000854
CREATED:20240625T224917Z
LAST-MODIFIED:20251119T041520Z
UID:123473-1777730400-1777741200@cevibasel.ch
SUMMARY:Jungschi Gotthelf-Neubad
DESCRIPTION:
URL:https://cevibasel.ch/veranstaltung/jungschi-gotthelf-neubad-154/
END:VEVENT
BEGIN:VEVENT
DTSTART;TZID=Europe/Zurich:20260502T140000
DTEND;TZID=Europe/Zurich:20260502T170000
DTSTAMP:20260423T000854
CREATED:20240625T224919Z
LAST-MODIFIED:20251119T041521Z
UID:123478-1777730400-1777741200@cevibasel.ch
SUMMARY:Jungschi Ettigen & Therwil
DESCRIPTION:
URL:https://cevibasel.ch/veranstaltung/jungschi-ettigen-therwil-154/
END:VEVENT
BEGIN:VEVENT
DTSTART;TZID=Europe/Zurich:20260502T140000
DTEND;TZID=Europe/Zurich:20260502T170000
DTSTAMP:20260423T000854
CREATED:20240625T224919Z
LAST-MODIFIED:20241105T110247Z
UID:123479-1777730400-1777741200@cevibasel.ch
SUMMARY:Jungschi Muttenz
DESCRIPTION:
URL:https://cevibasel.ch/veranstaltung/jungschi-muttenz-154/
END:VEVENT
BEGIN:VEVENT
DTSTART;TZID=Europe/Zurich:20260502T140000
DTEND;TZID=Europe/Zurich:20260502T170000
DTSTAMP:20260423T000854
CREATED:20240625T224920Z
LAST-MODIFIED:20251119T041520Z
UID:123480-1777730400-1777741200@cevibasel.ch
SUMMARY:Jungschi Allschwil
DESCRIPTION:
URL:https://cevibasel.ch/veranstaltung/jungschi-allschwil-154/
END:VEVENT
BEGIN:VEVENT
DTSTART;TZID=Europe/Zurich:20260502T140000
DTEND;TZID=Europe/Zurich:20260502T170000
DTSTAMP:20260423T000854
CREATED:20240625T224920Z
LAST-MODIFIED:20251119T041517Z
UID:123481-1777730400-1777741200@cevibasel.ch
SUMMARY:Jungschi Bubendorf
DESCRIPTION:
URL:https://cevibasel.ch/veranstaltung/jungschi-bubendorf-154/
END:VEVENT
BEGIN:VEVENT
DTSTART;TZID=Europe/Zurich:20260504T190000
DTEND;TZID=Europe/Zurich:20260504T203000
DTSTAMP:20260423T000854
CREATED:20240625T224920Z
LAST-MODIFIED:20260206T032800Z
UID:123482-1777921200-1777926600@cevibasel.ch
SUMMARY:Hattrick Men\, 19.00-20.30
DESCRIPTION:
URL:https://cevibasel.ch/veranstaltung/hattrick-men-19-00-20-30-189/
LOCATION:Fussballfelder Pfaffenholz
END:VEVENT
BEGIN:VEVENT
DTSTART;TZID=Europe/Zurich:20260504T203000
DTEND;TZID=Europe/Zurich:20260504T220000
DTSTAMP:20260423T000854
CREATED:20240625T224923Z
LAST-MODIFIED:20260206T032800Z
UID:123483-1777926600-1777932000@cevibasel.ch
SUMMARY:Hattrick Ladies\, 20.30-22.00
DESCRIPTION:
URL:https://cevibasel.ch/veranstaltung/hattrick-ladies-20-30-22-00-190/
LOCATION:Fussballfelder Pfaffenholz
END:VEVENT
BEGIN:VEVENT
DTSTART;TZID=Europe/Zurich:20260505T173000
DTEND;TZID=Europe/Zurich:20260505T190000
DTSTAMP:20260423T000854
CREATED:20240625T224924Z
LAST-MODIFIED:20260206T032828Z
UID:123486-1778002200-1778007600@cevibasel.ch
SUMMARY:Hattrick Riehen (1. bis 3. Klasse)
DESCRIPTION:
URL:https://cevibasel.ch/veranstaltung/hattrick-riehen-1-bis-3-klasse-155/
LOCATION:Fussballplatz Andreasmatte
END:VEVENT
BEGIN:VEVENT
DTSTART;TZID=Europe/Zurich:20260505T180000
DTEND;TZID=Europe/Zurich:20260505T193000
DTSTAMP:20260423T000854
CREATED:20240625T224923Z
LAST-MODIFIED:20260206T032800Z
UID:123485-1778004000-1778009400@cevibasel.ch
SUMMARY:Hattrick Gellert (7-12 Jahre)
DESCRIPTION:
URL:https://cevibasel.ch/veranstaltung/hattrick-gellert-7-12-jahre-155/
LOCATION:Fussballplatz Luftmatt
END:VEVENT
BEGIN:VEVENT
DTSTART;TZID=Europe/Zurich:20260505T190000
DTEND;TZID=Europe/Zurich:20260505T203000
DTSTAMP:20260423T000854
CREATED:20240625T224923Z
LAST-MODIFIED:20260206T032800Z
UID:123484-1778007600-1778013000@cevibasel.ch
SUMMARY:Hattrick Riehen (6. bis 7. Klasse)
DESCRIPTION:
URL:https://cevibasel.ch/veranstaltung/hattrick-riehen-6-bis-7-klasse-155/
LOCATION:Fussballplatz Andreasmatte
END:VEVENT
BEGIN:VEVENT
DTSTART;TZID=Europe/Zurich:20260506T183000
DTEND;TZID=Europe/Zurich:20260506T210000
DTSTAMP:20260423T000854
CREATED:20240625T224924Z
LAST-MODIFIED:20260206T032828Z
UID:123487-1778092200-1778101200@cevibasel.ch
SUMMARY:Ten Sing
DESCRIPTION:
URL:https://cevibasel.ch/veranstaltung/ten-sing-154/
LOCATION:CVJM Haus Kleinbasel
END:VEVENT
BEGIN:VEVENT
DTSTART;TZID=Europe/Zurich:20260507T083000
DTEND;TZID=Europe/Zurich:20260507T113000
DTSTAMP:20260423T000854
CREATED:20240813T014850Z
LAST-MODIFIED:20241215T123323Z
UID:128148-1778142600-1778153400@cevibasel.ch
SUMMARY:Mütterngruppe
DESCRIPTION:
URL:https://cevibasel.ch/veranstaltung/mutterngruppe-413/
LOCATION:Cevi Seki
END:VEVENT
BEGIN:VEVENT
DTSTART;TZID=Europe/Zurich:20260507T083000
DTEND;TZID=Europe/Zurich:20260507T113000
DTSTAMP:20260423T000854
CREATED:20240813T014850Z
LAST-MODIFIED:20241215T123331Z
UID:128149-1778142600-1778153400@cevibasel.ch
SUMMARY:Mütterngruppe
DESCRIPTION:
URL:https://cevibasel.ch/veranstaltung/mutterngruppe-414/
LOCATION:Cevi Seki
END:VEVENT
BEGIN:VEVENT
DTSTART;TZID=Europe/Zurich:20260507T083000
DTEND;TZID=Europe/Zurich:20260507T113000
DTSTAMP:20260423T000854
CREATED:20240813T014853Z
LAST-MODIFIED:20241215T123327Z
UID:128153-1778142600-1778153400@cevibasel.ch
SUMMARY:Mütterngruppe
DESCRIPTION:
URL:https://cevibasel.ch/veranstaltung/mutterngruppe-418/
LOCATION:Cevi Seki
END:VEVENT
BEGIN:VEVENT
DTSTART;TZID=Europe/Zurich:20260507T083000
DTEND;TZID=Europe/Zurich:20260507T113000
DTSTAMP:20260423T000854
CREATED:20240813T014853Z
LAST-MODIFIED:20241215T123323Z
UID:128150-1778142600-1778153400@cevibasel.ch
SUMMARY:Mütterngruppe
DESCRIPTION:
URL:https://cevibasel.ch/veranstaltung/mutterngruppe-415/
LOCATION:Cevi Seki
END:VEVENT
BEGIN:VEVENT
DTSTART;TZID=Europe/Zurich:20260507T083000
DTEND;TZID=Europe/Zurich:20260507T113000
DTSTAMP:20260423T000854
CREATED:20240813T014853Z
LAST-MODIFIED:20241215T123327Z
UID:128151-1778142600-1778153400@cevibasel.ch
SUMMARY:Mütterngruppe
DESCRIPTION:
URL:https://cevibasel.ch/veranstaltung/mutterngruppe-416/
LOCATION:Cevi Seki
END:VEVENT
BEGIN:VEVENT
DTSTART;TZID=Europe/Zurich:20260507T083000
DTEND;TZID=Europe/Zurich:20260507T113000
DTSTAMP:20260423T000854
CREATED:20240813T014853Z
LAST-MODIFIED:20241215T123327Z
UID:128152-1778142600-1778153400@cevibasel.ch
SUMMARY:Mütterngruppe
DESCRIPTION:
URL:https://cevibasel.ch/veranstaltung/mutterngruppe-417/
LOCATION:Cevi Seki
END:VEVENT
BEGIN:VEVENT
DTSTART;TZID=Europe/Zurich:20260507T083000
DTEND;TZID=Europe/Zurich:20260507T113000
DTSTAMP:20260423T000854
CREATED:20240813T014854Z
LAST-MODIFIED:20260206T032828Z
UID:128154-1778142600-1778153400@cevibasel.ch
SUMMARY:Mütterngruppe
DESCRIPTION:
URL:https://cevibasel.ch/veranstaltung/mutterngruppe-419/
LOCATION:Cevi Seki
END:VEVENT
BEGIN:VEVENT
DTSTART;TZID=Europe/Zurich:20260507T083000
DTEND;TZID=Europe/Zurich:20260507T113000
DTSTAMP:20260423T000854
CREATED:20240813T014857Z
LAST-MODIFIED:20241215T123327Z
UID:128155-1778142600-1778153400@cevibasel.ch
SUMMARY:Mütterngruppe
DESCRIPTION:
URL:https://cevibasel.ch/veranstaltung/mutterngruppe-420/
LOCATION:Cevi Seki
END:VEVENT
END:VCALENDAR