BEGIN:VCALENDAR
VERSION:2.0
PRODID:-//Cevi Region Basel - ECPv6.15.20//NONSGML v1.0//EN
CALSCALE:GREGORIAN
METHOD:PUBLISH
X-WR-CALNAME:Cevi Region Basel
X-ORIGINAL-URL:https://cevibasel.ch
X-WR-CALDESC:Events for Cevi Region Basel
REFRESH-INTERVAL;VALUE=DURATION:PT1H
X-Robots-Tag:noindex
X-PUBLISHED-TTL:PT1H
BEGIN:VTIMEZONE
TZID:Europe/Zurich
BEGIN:DAYLIGHT
TZOFFSETFROM:+0100
TZOFFSETTO:+0200
TZNAME:CEST
DTSTART:20260329T010000
END:DAYLIGHT
BEGIN:STANDARD
TZOFFSETFROM:+0200
TZOFFSETTO:+0100
TZNAME:CET
DTSTART:20261025T010000
END:STANDARD
BEGIN:DAYLIGHT
TZOFFSETFROM:+0100
TZOFFSETTO:+0200
TZNAME:CEST
DTSTART:20270328T010000
END:DAYLIGHT
BEGIN:STANDARD
TZOFFSETFROM:+0200
TZOFFSETTO:+0100
TZNAME:CET
DTSTART:20271031T010000
END:STANDARD
BEGIN:DAYLIGHT
TZOFFSETFROM:+0100
TZOFFSETTO:+0200
TZNAME:CEST
DTSTART:20280326T010000
END:DAYLIGHT
BEGIN:STANDARD
TZOFFSETFROM:+0200
TZOFFSETTO:+0100
TZNAME:CET
DTSTART:20281029T010000
END:STANDARD
END:VTIMEZONE
BEGIN:VEVENT
DTSTART;TZID=Europe/Zurich:20270402T173000
DTEND;TZID=Europe/Zurich:20270402T190000
DTSTAMP:20260426T025353
CREATED:20250529T103408Z
LAST-MODIFIED:20260205T063908Z
UID:159116-1806687000-1806692400@cevibasel.ch
SUMMARY:Hattrick Riehen (4. bis 5. Klasse)
DESCRIPTION:
URL:https://cevibasel.ch/veranstaltung/hattrick-riehen-4-bis-5-klasse-202/
LOCATION:Andreasmatte
END:VEVENT
BEGIN:VEVENT
DTSTART;TZID=Europe/Zurich:20270402T173000
DTEND;TZID=Europe/Zurich:20270402T190000
DTSTAMP:20260426T025353
CREATED:20250529T103409Z
LAST-MODIFIED:20260205T063908Z
UID:159118-1806687000-1806692400@cevibasel.ch
SUMMARY:Hattrick Basel West (7-15 Jahre)
DESCRIPTION:
URL:https://cevibasel.ch/veranstaltung/hattrick-basel-west-7-15-jahre-202/
END:VEVENT
BEGIN:VEVENT
DTSTART;TZID=Europe/Zurich:20270402T190000
DTEND;TZID=Europe/Zurich:20270402T203000
DTSTAMP:20260426T025353
CREATED:20250529T103408Z
LAST-MODIFIED:20260205T063908Z
UID:159117-1806692400-1806697800@cevibasel.ch
SUMMARY:Hattrick Basel West (16-18 Jahre)
DESCRIPTION:
URL:https://cevibasel.ch/veranstaltung/hattrick-basel-west-16-18-jahre-202/
LOCATION:Fussballfelder Pfaffenholz
END:VEVENT
BEGIN:VEVENT
DTSTART;VALUE=DATE:20270403
DTEND;VALUE=DATE:20270404
DTSTAMP:20260426T025353
CREATED:20251120T111814Z
LAST-MODIFIED:20260205T063909Z
UID:170007-1806710400-1806796799@cevibasel.ch
SUMMARY:Jungschar Angebote
DESCRIPTION:
URL:https://cevibasel.ch/veranstaltung/jungscharangebote-66/
END:VEVENT
BEGIN:VEVENT
DTSTART;TZID=Europe/Zurich:20270403T133000
DTEND;TZID=Europe/Zurich:20270403T153000
DTSTAMP:20260426T025353
CREATED:20250529T103409Z
LAST-MODIFIED:20251120T121021Z
UID:159122-1806759000-1806766200@cevibasel.ch
SUMMARY:Hattrick Gundeli (6-11 Jahre)
DESCRIPTION:
URL:https://cevibasel.ch/veranstaltung/hattrick-gundeli-6-11-jahre-202/
LOCATION:Margarethenpark
END:VEVENT
BEGIN:VEVENT
DTSTART;TZID=Europe/Zurich:20270403T140000
DTEND;TZID=Europe/Zurich:20270403T170000
DTSTAMP:20260426T025353
CREATED:20250529T103409Z
LAST-MODIFIED:20251113T064117Z
UID:159121-1806760800-1806771600@cevibasel.ch
SUMMARY:Jungschi Allschwil
DESCRIPTION:
URL:https://cevibasel.ch/veranstaltung/jungschi-allschwil-202/
END:VEVENT
BEGIN:VEVENT
DTSTART;TZID=Europe/Zurich:20270403T140000
DTEND;TZID=Europe/Zurich:20270403T170000
DTSTAMP:20260426T025353
CREATED:20250529T103409Z
LAST-MODIFIED:20251113T064118Z
UID:159119-1806760800-1806771600@cevibasel.ch
SUMMARY:Jungschi Titus
DESCRIPTION:
URL:https://cevibasel.ch/veranstaltung/jungschi-titus-202/
END:VEVENT
BEGIN:VEVENT
DTSTART;TZID=Europe/Zurich:20270403T140000
DTEND;TZID=Europe/Zurich:20270403T170000
DTSTAMP:20260426T025353
CREATED:20250529T103409Z
LAST-MODIFIED:20251113T064118Z
UID:159120-1806760800-1806771600@cevibasel.ch
SUMMARY:Jungschi Ettigen & Therwil
DESCRIPTION:
URL:https://cevibasel.ch/veranstaltung/jungschi-ettigen-therwil-202/
END:VEVENT
BEGIN:VEVENT
DTSTART;TZID=Europe/Zurich:20270403T140000
DTEND;TZID=Europe/Zurich:20270403T170000
DTSTAMP:20260426T025353
CREATED:20250529T103410Z
LAST-MODIFIED:20251113T064118Z
UID:159123-1806760800-1806771600@cevibasel.ch
SUMMARY:Jungschi Gotthelf-Neubad
DESCRIPTION:
URL:https://cevibasel.ch/veranstaltung/jungschi-gotthelf-neubad-202/
END:VEVENT
BEGIN:VEVENT
DTSTART;TZID=Europe/Zurich:20270403T140000
DTEND;TZID=Europe/Zurich:20270403T170000
DTSTAMP:20260426T025353
CREATED:20250529T103410Z
LAST-MODIFIED:20251113T064117Z
UID:159124-1806760800-1806771600@cevibasel.ch
SUMMARY:Jungschi Thomas
DESCRIPTION:
URL:https://cevibasel.ch/veranstaltung/jungschi-thomas-202/
END:VEVENT
BEGIN:VEVENT
DTSTART;TZID=Europe/Zurich:20270403T140000
DTEND;TZID=Europe/Zurich:20270403T170000
DTSTAMP:20260426T025353
CREATED:20250529T103410Z
LAST-MODIFIED:20251113T064118Z
UID:159125-1806760800-1806771600@cevibasel.ch
SUMMARY:Jungschi Bubendorf
DESCRIPTION:
URL:https://cevibasel.ch/veranstaltung/jungschi-bubendorf-202/
END:VEVENT
BEGIN:VEVENT
DTSTART;TZID=Europe/Zurich:20270403T140000
DTEND;TZID=Europe/Zurich:20270403T170000
DTSTAMP:20260426T025353
CREATED:20250529T103411Z
LAST-MODIFIED:20251113T064118Z
UID:159126-1806760800-1806771600@cevibasel.ch
SUMMARY:Jungschi Binningen
DESCRIPTION:
URL:https://cevibasel.ch/veranstaltung/jungschi-binningen-202/
END:VEVENT
BEGIN:VEVENT
DTSTART;TZID=Europe/Zurich:20270405T190000
DTEND;TZID=Europe/Zurich:20270405T203000
DTSTAMP:20260426T025353
CREATED:20250529T103411Z
LAST-MODIFIED:20260205T063909Z
UID:159128-1806951600-1806957000@cevibasel.ch
SUMMARY:Hattrick Men\, 19.00-20.30
DESCRIPTION:
URL:https://cevibasel.ch/veranstaltung/hattrick-men-19-00-20-30-237/
LOCATION:Fussballfelder Pfaffenholz
END:VEVENT
BEGIN:VEVENT
DTSTART;TZID=Europe/Zurich:20270405T203000
DTEND;TZID=Europe/Zurich:20270405T220000
DTSTAMP:20260426T025353
CREATED:20250529T103411Z
LAST-MODIFIED:20260205T063909Z
UID:159127-1806957000-1806962400@cevibasel.ch
SUMMARY:Hattrick Ladies\, 20.30-22.00
DESCRIPTION:
URL:https://cevibasel.ch/veranstaltung/hattrick-ladies-20-30-22-00-238/
LOCATION:Fussballfelder Pfaffenholz
END:VEVENT
BEGIN:VEVENT
DTSTART;TZID=Europe/Zurich:20270406T173000
DTEND;TZID=Europe/Zurich:20270406T190000
DTSTAMP:20260426T025353
CREATED:20250529T103411Z
LAST-MODIFIED:20260205T063909Z
UID:159129-1807032600-1807038000@cevibasel.ch
SUMMARY:Hattrick Riehen (1. bis 3. Klasse)
DESCRIPTION:
URL:https://cevibasel.ch/veranstaltung/hattrick-riehen-1-bis-3-klasse-203/
LOCATION:Fussballplatz Andreasmatte
END:VEVENT
BEGIN:VEVENT
DTSTART;TZID=Europe/Zurich:20270406T180000
DTEND;TZID=Europe/Zurich:20270406T193000
DTSTAMP:20260426T025353
CREATED:20250529T103411Z
LAST-MODIFIED:20260205T063909Z
UID:159130-1807034400-1807039800@cevibasel.ch
SUMMARY:Hattrick Gellert (7-12 Jahre)
DESCRIPTION:
URL:https://cevibasel.ch/veranstaltung/hattrick-gellert-7-12-jahre-203/
LOCATION:Fussballplatz Luftmatt
END:VEVENT
BEGIN:VEVENT
DTSTART;TZID=Europe/Zurich:20270406T190000
DTEND;TZID=Europe/Zurich:20270406T203000
DTSTAMP:20260426T025353
CREATED:20250529T103412Z
LAST-MODIFIED:20260205T063909Z
UID:159131-1807038000-1807043400@cevibasel.ch
SUMMARY:Hattrick Riehen (6. bis 7. Klasse)
DESCRIPTION:
URL:https://cevibasel.ch/veranstaltung/hattrick-riehen-6-bis-7-klasse-203/
LOCATION:Fussballplatz Andreasmatte
END:VEVENT
BEGIN:VEVENT
DTSTART;TZID=Europe/Zurich:20270407T183000
DTEND;TZID=Europe/Zurich:20270407T210000
DTSTAMP:20260426T025353
CREATED:20250529T103412Z
LAST-MODIFIED:20260205T063909Z
UID:159132-1807122600-1807131600@cevibasel.ch
SUMMARY:Ten Sing
DESCRIPTION:
URL:https://cevibasel.ch/veranstaltung/ten-sing-202/
LOCATION:CVJM Haus Kleinbasel
END:VEVENT
BEGIN:VEVENT
DTSTART;TZID=Europe/Zurich:20270408T083000
DTEND;TZID=Europe/Zurich:20270408T113000
DTSTAMP:20260426T025353
CREATED:20250529T103412Z
LAST-MODIFIED:20260205T063910Z
UID:159133-1807173000-1807183800@cevibasel.ch
SUMMARY:Mütterngruppe
DESCRIPTION:
URL:https://cevibasel.ch/veranstaltung/mutterngruppe-581/
LOCATION:Cevi Seki
END:VEVENT
BEGIN:VEVENT
DTSTART;TZID=Europe/Zurich:20270409T173000
DTEND;TZID=Europe/Zurich:20270409T190000
DTSTAMP:20260426T025353
CREATED:20250529T103412Z
LAST-MODIFIED:20260205T063910Z
UID:159134-1807291800-1807297200@cevibasel.ch
SUMMARY:Hattrick Riehen (4. bis 5. Klasse)
DESCRIPTION:
URL:https://cevibasel.ch/veranstaltung/hattrick-riehen-4-bis-5-klasse-203/
LOCATION:Andreasmatte
END:VEVENT
BEGIN:VEVENT
DTSTART;TZID=Europe/Zurich:20270409T173000
DTEND;TZID=Europe/Zurich:20270409T190000
DTSTAMP:20260426T025353
CREATED:20250529T103414Z
LAST-MODIFIED:20260205T063910Z
UID:159136-1807291800-1807297200@cevibasel.ch
SUMMARY:Hattrick Basel West (7-15 Jahre)
DESCRIPTION:
URL:https://cevibasel.ch/veranstaltung/hattrick-basel-west-7-15-jahre-203/
END:VEVENT
BEGIN:VEVENT
DTSTART;TZID=Europe/Zurich:20270409T190000
DTEND;TZID=Europe/Zurich:20270409T203000
DTSTAMP:20260426T025353
CREATED:20250529T103412Z
LAST-MODIFIED:20260205T063910Z
UID:159135-1807297200-1807302600@cevibasel.ch
SUMMARY:Hattrick Basel West (16-18 Jahre)
DESCRIPTION:
URL:https://cevibasel.ch/veranstaltung/hattrick-basel-west-16-18-jahre-203/
LOCATION:Fussballfelder Pfaffenholz
END:VEVENT
BEGIN:VEVENT
DTSTART;VALUE=DATE:20270410
DTEND;VALUE=DATE:20270411
DTSTAMP:20260426T025353
CREATED:20251120T111821Z
LAST-MODIFIED:20260205T063910Z
UID:170008-1807315200-1807401599@cevibasel.ch
SUMMARY:Jungschar Angebote
DESCRIPTION:
URL:https://cevibasel.ch/veranstaltung/jungscharangebote-67/
END:VEVENT
BEGIN:VEVENT
DTSTART;TZID=Europe/Zurich:20270410T133000
DTEND;TZID=Europe/Zurich:20270410T153000
DTSTAMP:20260426T025353
CREATED:20250529T103414Z
LAST-MODIFIED:20251120T121027Z
UID:159138-1807363800-1807371000@cevibasel.ch
SUMMARY:Hattrick Gundeli (6-11 Jahre)
DESCRIPTION:
URL:https://cevibasel.ch/veranstaltung/hattrick-gundeli-6-11-jahre-203/
LOCATION:Margarethenpark
END:VEVENT
BEGIN:VEVENT
DTSTART;TZID=Europe/Zurich:20270410T140000
DTEND;TZID=Europe/Zurich:20270410T170000
DTSTAMP:20260426T025353
CREATED:20250529T103414Z
LAST-MODIFIED:20251113T064123Z
UID:159137-1807365600-1807376400@cevibasel.ch
SUMMARY:Jungschi Gotthelf-Neubad
DESCRIPTION:
URL:https://cevibasel.ch/veranstaltung/jungschi-gotthelf-neubad-203/
END:VEVENT
BEGIN:VEVENT
DTSTART;TZID=Europe/Zurich:20270410T140000
DTEND;TZID=Europe/Zurich:20270410T170000
DTSTAMP:20260426T025353
CREATED:20250529T103414Z
LAST-MODIFIED:20251113T064123Z
UID:159139-1807365600-1807376400@cevibasel.ch
SUMMARY:Jungschi Bubendorf
DESCRIPTION:
URL:https://cevibasel.ch/veranstaltung/jungschi-bubendorf-203/
END:VEVENT
BEGIN:VEVENT
DTSTART;TZID=Europe/Zurich:20270410T140000
DTEND;TZID=Europe/Zurich:20270410T170000
DTSTAMP:20260426T025353
CREATED:20250529T103414Z
LAST-MODIFIED:20251113T064123Z
UID:159140-1807365600-1807376400@cevibasel.ch
SUMMARY:Jungschi Allschwil
DESCRIPTION:
URL:https://cevibasel.ch/veranstaltung/jungschi-allschwil-203/
END:VEVENT
BEGIN:VEVENT
DTSTART;TZID=Europe/Zurich:20270410T140000
DTEND;TZID=Europe/Zurich:20270410T170000
DTSTAMP:20260426T025353
CREATED:20250529T103415Z
LAST-MODIFIED:20251113T064123Z
UID:159143-1807365600-1807376400@cevibasel.ch
SUMMARY:Jungschi Titus
DESCRIPTION:
URL:https://cevibasel.ch/veranstaltung/jungschi-titus-203/
END:VEVENT
BEGIN:VEVENT
DTSTART;TZID=Europe/Zurich:20270410T140000
DTEND;TZID=Europe/Zurich:20270410T170000
DTSTAMP:20260426T025353
CREATED:20250529T103415Z
LAST-MODIFIED:20251113T064124Z
UID:159144-1807365600-1807376400@cevibasel.ch
SUMMARY:Jungschi Binningen
DESCRIPTION:
URL:https://cevibasel.ch/veranstaltung/jungschi-binningen-203/
END:VEVENT
BEGIN:VEVENT
DTSTART;TZID=Europe/Zurich:20270410T140000
DTEND;TZID=Europe/Zurich:20270410T170000
DTSTAMP:20260426T025353
CREATED:20250529T103415Z
LAST-MODIFIED:20251113T064124Z
UID:159141-1807365600-1807376400@cevibasel.ch
SUMMARY:Jungschi Thomas
DESCRIPTION:
URL:https://cevibasel.ch/veranstaltung/jungschi-thomas-203/
END:VEVENT
END:VCALENDAR